BEGIN:VCALENDAR
VERSION:2.0
PRODID:-//jEvents 2.0 for Joomla//EN
CALSCALE:GREGORIAN
METHOD:PUBLISH
BEGIN:VTIMEZONE
TZID:Europe/Berlin
BEGIN:STANDARD
DTSTART:20241113T000000
RDATE:20250330T030000
TZOFFSETFROM:+0200
TZOFFSETTO:+0100
TZNAME:Europe/Berlin CET
END:STANDARD
BEGIN:STANDARD
DTSTART:20251026T020000
RDATE:20260329T030000
TZOFFSETFROM:+0200
TZOFFSETTO:+0100
TZNAME:Europe/Berlin CET
END:STANDARD
BEGIN:STANDARD
DTSTART:20261025T020000
RDATE:20270328T030000
TZOFFSETFROM:+0200
TZOFFSETTO:+0100
TZNAME:Europe/Berlin CET
END:STANDARD
BEGIN:STANDARD
DTSTART:20271031T020000
RDATE:20280326T030000
TZOFFSETFROM:+0200
TZOFFSETTO:+0100
TZNAME:Europe/Berlin CET
END:STANDARD
BEGIN:DAYLIGHT
DTSTART:20250330T030000
RDATE:20251026T020000
TZOFFSETFROM:+0100
TZOFFSETTO:+0200
TZNAME:Europe/Berlin CEST
END:DAYLIGHT
BEGIN:DAYLIGHT
DTSTART:20260329T030000
RDATE:20261025T020000
TZOFFSETFROM:+0100
TZOFFSETTO:+0200
TZNAME:Europe/Berlin CEST
END:DAYLIGHT
BEGIN:DAYLIGHT
DTSTART:20270328T030000
RDATE:20271031T020000
TZOFFSETFROM:+0100
TZOFFSETTO:+0200
TZNAME:Europe/Berlin CEST
END:DAYLIGHT
END:VTIMEZONE
BEGIN:VEVENT
UID:4c9a94170263c3834766c57f4c535860
CATEGORIES:Kongresse
CREATED:20250612T115025
SUMMARY:Anästhesie Update 2025
LOCATION:Dorint Pallas Wiesbaden
DESCRIPTION;ENCODING=QUOTED-PRINTABLE:Herzliche Einladung zum Anästhesie-Intensiv-Update-Seminar\n\nWir laden Sie
  herzlich ein, am 16. Anästhesie Update in Wiesbaden teilzunehmen, um sich 
 über die neuesten Entwicklungen in der Anästhesiologie, der anästhesiologis
 chen Intensivmedizin sowie in der Schmerz- und Notfallmedizin zu informiere
 n!\n\n\nEs erwartet Sie ein spannendes Programm mit aktuellen klinischen St
 udien und praxisrelevanten Forschungsergebnissen – kein State-of-the-Art, s
 ondern ein echtes Update. Expertinnen und Experten selektieren und präsenti
 eren die wichtigsten Studien des letzten Forschungsjahres und erläutern der
 en praktische Implikationen für Ihre tägliche Arbeit in Klinik und Praxis. 
 Diese Themen werden in ausführlichen Diskussionsrunden im Plenum sowie in u
 nserem Speakers‘ Corner vertieft, wo Sie die Möglichkeit haben, Fragen dire
 kt mit den Referierenden zu besprechen.\n\n\nZusätzlich erhalten alle Teiln
 ehmenden das Anästhesie-Update-Wissenspaket: das umfassende digitale Handbu
 ch sowie die Präsentationen und Videos-on-Demand, auf die Sie auch nach der
  Veranstaltung jederzeit zugreifen können, um Ihr Wissen weiter zu vertiefe
 n.\n\n\nWir freuen uns darauf, Sie vor Ort oder im Livestream zu begrüßen u
 nd gemeinsam mit Ihnen die neuesten Entwicklungen in der AINS zu diskutiere
 n!\n\n\nWeitere Informationen zum Programm, den Referierenden und der Anmel
 dung finden Sie unter: www.anaesthesie-update.com\n\n\n \n\n\nWissenschaftl
 iche Leitung: \n\n - Karin Becke-Jakob, Basel\n - Detlef Kindgen-Milles, Dü
 sseldorf\n - Winfried Meißner, Jena\n - Nana-Maria Wagner, Würzburg 
DTSTAMP:20260420T073534Z
DTSTART;TZID=Europe/Berlin;VALUE=DATE:20251114
DTEND;TZID=Europe/Berlin;VALUE=DATE:20251116
SEQUENCE:0
TRANSP:OPAQUE
END:VEVENT
END:VCALENDAR