BEGIN:VCALENDAR
VERSION:2.0
PRODID:-//jEvents 2.0 for Joomla//EN
CALSCALE:GREGORIAN
METHOD:PUBLISH
BEGIN:VTIMEZONE
TZID:Europe/Berlin
BEGIN:STANDARD
DTSTART:20241027T020000
RDATE:20250330T030000
TZOFFSETFROM:+0200
TZOFFSETTO:+0100
TZNAME:Europe/Berlin CET
END:STANDARD
BEGIN:STANDARD
DTSTART:20251026T020000
RDATE:20260329T030000
TZOFFSETFROM:+0200
TZOFFSETTO:+0100
TZNAME:Europe/Berlin CET
END:STANDARD
BEGIN:STANDARD
DTSTART:20261025T020000
RDATE:20270328T030000
TZOFFSETFROM:+0200
TZOFFSETTO:+0100
TZNAME:Europe/Berlin CET
END:STANDARD
BEGIN:STANDARD
DTSTART:20271031T020000
RDATE:20280326T030000
TZOFFSETFROM:+0200
TZOFFSETTO:+0100
TZNAME:Europe/Berlin CET
END:STANDARD
BEGIN:DAYLIGHT
DTSTART:20240731T133000
RDATE:20241027T020000
TZOFFSETFROM:+0100
TZOFFSETTO:+0200
TZNAME:Europe/Berlin CEST
END:DAYLIGHT
BEGIN:DAYLIGHT
DTSTART:20250330T030000
RDATE:20251026T020000
TZOFFSETFROM:+0100
TZOFFSETTO:+0200
TZNAME:Europe/Berlin CEST
END:DAYLIGHT
BEGIN:DAYLIGHT
DTSTART:20260329T030000
RDATE:20261025T020000
TZOFFSETFROM:+0100
TZOFFSETTO:+0200
TZNAME:Europe/Berlin CEST
END:DAYLIGHT
BEGIN:DAYLIGHT
DTSTART:20270328T030000
RDATE:20271031T020000
TZOFFSETFROM:+0100
TZOFFSETTO:+0200
TZNAME:Europe/Berlin CEST
END:DAYLIGHT
END:VTIMEZONE
BEGIN:VEVENT
UID:ffe68ae9a96cd4bb9e86641175e02bac
CATEGORIES:Kongresse
CREATED:20250703T110542
SUMMARY:Nasim 25 - Wochenendkurs, Modul B
LOCATION:AQAI GmbH, Simulationszentrum Mainz
DESCRIPTION;ENCODING=QUOTED-PRINTABLE:\n\nSpannende Simulationen zur Erreichung der praktischen Voraussetzung der
  Zusatzbezeichnung Notfallmedizin\n\n\nBereiten Sie sich mit uns auf die He
 rausforderungen der präklinischen Notfallmedizin vor.\n\n\n25 spannende Sim
 ulationen vermitteln Ihnen viel Erfahrung in einer geschützten Lernumgebung
 .\n\n\nEs muss zwingend Modul A und B zusammen gebucht werden.\n\n\nModul A
 : 18./19.07.2025\n\n\nModul B: 01./02.08.2025\n\n\nKursgebühr für beide Woc
 henenden: 1.800,00 € incl. MwSt. \n
DTSTAMP:20260420T121139Z
DTSTART;TZID=Europe/Berlin:20250801T133000
DTEND;TZID=Europe/Berlin:20250802T171500
SEQUENCE:0
TRANSP:OPAQUE
END:VEVENT
END:VCALENDAR