BEGIN:VCALENDAR
VERSION:2.0
PRODID:-//jEvents 2.0 for Joomla//EN
CALSCALE:GREGORIAN
METHOD:PUBLISH
BEGIN:VTIMEZONE
TZID:Europe/Berlin
BEGIN:STANDARD
DTSTART:20241107T000000
RDATE:20250330T030000
TZOFFSETFROM:+0200
TZOFFSETTO:+0100
TZNAME:Europe/Berlin CET
END:STANDARD
BEGIN:STANDARD
DTSTART:20251026T020000
RDATE:20260329T030000
TZOFFSETFROM:+0200
TZOFFSETTO:+0100
TZNAME:Europe/Berlin CET
END:STANDARD
BEGIN:STANDARD
DTSTART:20261025T020000
RDATE:20270328T030000
TZOFFSETFROM:+0200
TZOFFSETTO:+0100
TZNAME:Europe/Berlin CET
END:STANDARD
BEGIN:STANDARD
DTSTART:20271031T020000
RDATE:20280326T030000
TZOFFSETFROM:+0200
TZOFFSETTO:+0100
TZNAME:Europe/Berlin CET
END:STANDARD
BEGIN:DAYLIGHT
DTSTART:20250330T030000
RDATE:20251026T020000
TZOFFSETFROM:+0100
TZOFFSETTO:+0200
TZNAME:Europe/Berlin CEST
END:DAYLIGHT
BEGIN:DAYLIGHT
DTSTART:20260329T030000
RDATE:20261025T020000
TZOFFSETFROM:+0100
TZOFFSETTO:+0200
TZNAME:Europe/Berlin CEST
END:DAYLIGHT
BEGIN:DAYLIGHT
DTSTART:20270328T030000
RDATE:20271031T020000
TZOFFSETFROM:+0100
TZOFFSETTO:+0200
TZNAME:Europe/Berlin CEST
END:DAYLIGHT
END:VTIMEZONE
BEGIN:VEVENT
UID:a5c0d081c7281b69f1a752a1d109ac36
CATEGORIES:Kongresse
CREATED:20250821T073747
SUMMARY:24. Homburger Kindernotfallkurs 
LOCATION:Universitätsklinik des Saarlandes 
DESCRIPTION;ENCODING=QUOTED-PRINTABLE:\n\nSehr geehrte Kolleginnen und Kollegen,\nwir laden Sie herzlich zu unser
 em 24. „Homburger Kindernotfallkurs“\nin Homburg ein. Die Behandlung von Ki
 ndern mit vital bedrohlichen\nVerletzungen oder Erkrankungen ist eine inter
 disziplinäre Aufgabe.\nEs gibt kaum eine klinische Disziplin, die nicht in 
 die Versorgung dieser\nkleinen Patienten eingebunden ist. Müssen Kinder ope
 riert werden, ist\ndas für alle Beteiligten eine fachliche und logistische 
 Heraus forderung.\nDabei sind Narkosezwischenfälle in dieser Altersgruppe g
 lücklicherweise selten, wodurch jedoch zumeist die Routine in der Bewältigu
 ng \nsolcher Situationen fehlt. Um dennoch auch in Notfallsituationen\nschn
 ell und angemessen handeln zu können, braucht es Wissen über \ndie physiolo
 gischen Besonderheiten im Kindesalter, fachliches Können \nund nicht zuletz
 t immer wieder Übung.\nIn Zusammenarbeit mit der Klinik für Kinder- und Jug
 endmedizin\nveranstaltet die Klinik für Anästhesiologie einen Kindernotfall
 kurs,\nder in Theorie und Praxis sowohl die Basis wie auch die erweiterten\
 nReanimationsmaßnahmen für Kinder gemäß den aktuellen Empfehlungen des Euro
 pean Resuscitation Council (ERC) vermittelt. Zusätzlich\nwerden in kurzen, 
 klinisch geprägten Vorträgen die zurzeit allgemein\nanerkannten Techniken z
 u Airwaymanagement und Neugeborenenerstversorgung dargestellt. Die Referent
 en sind erfahrene Kollegen\nder Kinderklinik und regelmäßig in der Kinder a
 nästhesie tätige\nAnästhesisten.\nAls Schwerpunkt des Tages werden in unser
 em Simulatorzentrum\npraktische Übungen stattfinden, bei denen die Teilnehm
 er in kleinen\nGruppen das zuvor Gehörte trainieren können. Darüber hinaus 
 gibt\nes Praktika zu den Themen Traumaversorgung und Gefäßzugänge.\nDie Bew
 ältigung typischer Notfall situationen wird in nachgestellten\nSzenarien an
  unseren Simulationspuppen eingeübt.\nSelbstverständlich ist während des ge
 samten Tages für Ihr\nleibliches Wohl gesorgt. Wir laden Sie hiermit ganz h
 erzlich zu\ndieser Veranstaltung ein und freuen uns sehr über Ihre Teilnahm
 e.\n
DTSTAMP:20260419T141738Z
DTSTART;TZID=Europe/Berlin;VALUE=DATE:20251108
DTEND;TZID=Europe/Berlin;VALUE=DATE:20251109
SEQUENCE:0
TRANSP:OPAQUE
END:VEVENT
END:VCALENDAR