BEGIN:VCALENDAR
VERSION:2.0
PRODID:-//jEvents 2.0 for Joomla//EN
CALSCALE:GREGORIAN
METHOD:PUBLISH
BEGIN:VTIMEZONE
TZID:Europe/Berlin
BEGIN:STANDARD
DTSTART:20241107T000000
RDATE:20250330T030000
TZOFFSETFROM:+0200
TZOFFSETTO:+0100
TZNAME:Europe/Berlin CET
END:STANDARD
BEGIN:STANDARD
DTSTART:20251026T020000
RDATE:20260329T030000
TZOFFSETFROM:+0200
TZOFFSETTO:+0100
TZNAME:Europe/Berlin CET
END:STANDARD
BEGIN:STANDARD
DTSTART:20261025T020000
RDATE:20270328T030000
TZOFFSETFROM:+0200
TZOFFSETTO:+0100
TZNAME:Europe/Berlin CET
END:STANDARD
BEGIN:STANDARD
DTSTART:20271031T020000
RDATE:20280326T030000
TZOFFSETFROM:+0200
TZOFFSETTO:+0100
TZNAME:Europe/Berlin CET
END:STANDARD
BEGIN:DAYLIGHT
DTSTART:20250330T030000
RDATE:20251026T020000
TZOFFSETFROM:+0100
TZOFFSETTO:+0200
TZNAME:Europe/Berlin CEST
END:DAYLIGHT
BEGIN:DAYLIGHT
DTSTART:20260329T030000
RDATE:20261025T020000
TZOFFSETFROM:+0100
TZOFFSETTO:+0200
TZNAME:Europe/Berlin CEST
END:DAYLIGHT
BEGIN:DAYLIGHT
DTSTART:20270328T030000
RDATE:20271031T020000
TZOFFSETFROM:+0100
TZOFFSETTO:+0200
TZNAME:Europe/Berlin CEST
END:DAYLIGHT
END:VTIMEZONE
BEGIN:VEVENT
UID:edf3009ec62503bdf23cd032ba8c0abd
CATEGORIES:Kongresse
CREATED:20250903T172807
SUMMARY:Ultraschallgestützte Gefäßzugänge und Nervenblockaden - AUFBAUKURS nach dem Curriculum der DEGUM Sektion Anästhesiologie
LOCATION:Georgie – Kongresse & Events
DESCRIPTION;ENCODING=QUOTED-PRINTABLE:\n\nIn dem DEGUM-zertifizierten Aufbaukurs „Ultraschallgestützte Gefäßzugän
 ge und Nervenblockaden“ nach dem Curriculum der Sektion Anästhesiologie wer
 den die Inhalte des Grundkurses 1 vertieft und strukturiert erweitert. Neue
  Themen sind Thorax-, Bauchwand-, paravertebrale und wirbelsäulennahe Block
 aden sowie Regionalanästhesietechniken des Plexus cervicalis. Im Bereich de
 s Plexus lumbosacralis werden proximale Techniken vorgestellt, auch unter E
 insatz von Konvexschallsonden für tiefe Zugänge. Der Kurs bietet eine klare
  didaktische Gliederung. Zusammenfassungen aus dem Grundkurs leiten in den 
 Aufbaukurs über. Die Blockadetechniken werden unter Anleitung erfahrener Kl
 iniker:innen in kleinen Gruppen an Proband:innen oder Punktionsphantomen tr
 ainiert\n
DTSTAMP:20260419T155036Z
DTSTART;TZID=Europe/Berlin;VALUE=DATE:20251108
DTEND;TZID=Europe/Berlin;VALUE=DATE:20251110
SEQUENCE:0
TRANSP:OPAQUE
END:VEVENT
END:VCALENDAR