BEGIN:VCALENDAR
VERSION:2.0
PRODID:-//jEvents 2.0 for Joomla//EN
CALSCALE:GREGORIAN
METHOD:PUBLISH
BEGIN:VTIMEZONE
TZID:Europe/Berlin
BEGIN:STANDARD
DTSTART:20241109T000000
RDATE:20250330T030000
TZOFFSETFROM:+0200
TZOFFSETTO:+0100
TZNAME:Europe/Berlin CET
END:STANDARD
BEGIN:STANDARD
DTSTART:20251026T020000
RDATE:20260329T030000
TZOFFSETFROM:+0200
TZOFFSETTO:+0100
TZNAME:Europe/Berlin CET
END:STANDARD
BEGIN:STANDARD
DTSTART:20261025T020000
RDATE:20270328T030000
TZOFFSETFROM:+0200
TZOFFSETTO:+0100
TZNAME:Europe/Berlin CET
END:STANDARD
BEGIN:STANDARD
DTSTART:20271031T020000
RDATE:20280326T030000
TZOFFSETFROM:+0200
TZOFFSETTO:+0100
TZNAME:Europe/Berlin CET
END:STANDARD
BEGIN:DAYLIGHT
DTSTART:20250330T030000
RDATE:20251026T020000
TZOFFSETFROM:+0100
TZOFFSETTO:+0200
TZNAME:Europe/Berlin CEST
END:DAYLIGHT
BEGIN:DAYLIGHT
DTSTART:20260329T030000
RDATE:20261025T020000
TZOFFSETFROM:+0100
TZOFFSETTO:+0200
TZNAME:Europe/Berlin CEST
END:DAYLIGHT
BEGIN:DAYLIGHT
DTSTART:20270328T030000
RDATE:20271031T020000
TZOFFSETFROM:+0100
TZOFFSETTO:+0200
TZNAME:Europe/Berlin CEST
END:DAYLIGHT
END:VTIMEZONE
BEGIN:VEVENT
UID:884d8a1ae54ead0237219fb50cf1eab5
CATEGORIES:Kongresse
CREATED:20250922T094833
SUMMARY:6. Newcomer-Seminar Anästhesiologie 2025
LOCATION:Kliniken Maria Hilf GmbH
DESCRIPTION;ENCODING=QUOTED-PRINTABLE:\n\nIn der Anästhesiologie zeigt sich, wie kaum in einem anderen Fachgebiet
 , nahezu tagtäglich das komplexe Zusammenspiel von Physiologie, Pathophysio
 logie und Pharmakologie.\n\n\nUm die Patienten sicher während der Operation
  betreuen zu können und Komplikationen zu verhindern, müssen Anästhesisten
  eine Vielzahl von Informationen und Parametern kontinuierlich bewerten. Da
 bei ist ein fundiertes Grundlagenwissen über Atmung, Kreislauf, Säure-Base
 n-Haushalt aber auch über (Neben-)Wirkungen von Medikamenten unerlässlich.
 \n\n\nDarüber hinaus muss sich der Anästhesist mit Monitoring, Messtechnik
  und der Funktionsweise von Narkosegeräten fundiert auskennen und soll schn
 ell komplexe praktische Fähigkeiten wie Atemwegsmanagement\nund Punktionen 
 erlernen.\n\n\nLeider kommt eine strukturierte Ausbildung im klinischen All
 tag oft zu kurz und von Neueinsteigern in unser Fachgebiet wird häufig verl
 angt, sich notwendiges Wissen eigenständig anzueignen. Diese Lücke\nschlie
 ßen wir mit diesem Format und bieten Ihnen einen fünftägigen Kurs an, in d
 em kompakt in theoretischen und praktischen Lerneinheiten die wichtigsten G
 rundlagen der Anästhesiologie vermittelt werden.\n\n\nZielgruppe sind Assis
 tenzärzte am Anfang ihrer Weiterbildung, Kollegen, die einen Wechsel in die
  Anästhesie planen und Studierende im Praktischen Jahr mit dem Wahlfach Anä
 sthesiologie.\n\n\nLangjährig erfahrene Fach- und Oberärzte der Klinik für
  Anästhesiologie und Operative Intensivmedizin vermitteln die Themen verknu
 ̈pft mit Fallbeispielen und interaktiv am Simulator oder an Narkosegeräten,
  so dass Ihnen nach dem Kurs der Transfer in Ihre eigene tägliche Praxis le
 icht fällt.\n
DTSTAMP:20260419T185145Z
DTSTART;TZID=Europe/Berlin;VALUE=DATE:20251110
DTEND;TZID=Europe/Berlin;VALUE=DATE:20251111
SEQUENCE:0
TRANSP:OPAQUE
END:VEVENT
END:VCALENDAR