BEGIN:VCALENDAR
VERSION:2.0
PRODID:-//jEvents 2.0 for Joomla//EN
CALSCALE:GREGORIAN
METHOD:PUBLISH
BEGIN:VTIMEZONE
TZID:Europe/Berlin
BEGIN:STANDARD
DTSTART:20241206T000000
RDATE:20250330T030000
TZOFFSETFROM:+0200
TZOFFSETTO:+0100
TZNAME:Europe/Berlin CET
END:STANDARD
BEGIN:STANDARD
DTSTART:20251026T020000
RDATE:20260329T030000
TZOFFSETFROM:+0200
TZOFFSETTO:+0100
TZNAME:Europe/Berlin CET
END:STANDARD
BEGIN:STANDARD
DTSTART:20261025T020000
RDATE:20270328T030000
TZOFFSETFROM:+0200
TZOFFSETTO:+0100
TZNAME:Europe/Berlin CET
END:STANDARD
BEGIN:STANDARD
DTSTART:20271031T020000
RDATE:20280326T030000
TZOFFSETFROM:+0200
TZOFFSETTO:+0100
TZNAME:Europe/Berlin CET
END:STANDARD
BEGIN:DAYLIGHT
DTSTART:20250330T030000
RDATE:20251026T020000
TZOFFSETFROM:+0100
TZOFFSETTO:+0200
TZNAME:Europe/Berlin CEST
END:DAYLIGHT
BEGIN:DAYLIGHT
DTSTART:20260329T030000
RDATE:20261025T020000
TZOFFSETFROM:+0100
TZOFFSETTO:+0200
TZNAME:Europe/Berlin CEST
END:DAYLIGHT
BEGIN:DAYLIGHT
DTSTART:20270328T030000
RDATE:20271031T020000
TZOFFSETFROM:+0100
TZOFFSETTO:+0200
TZNAME:Europe/Berlin CEST
END:DAYLIGHT
END:VTIMEZONE
BEGIN:VEVENT
UID:af77ce9a22c4a29e80c3f2c4904dbbba
CATEGORIES:Kongresse
CREATED:20251005T143405
SUMMARY:8th Workshop on semisitting position in Neurosurgery
LOCATION:University of Tübingen
DESCRIPTION;ENCODING=QUOTED-PRINTABLE:\n\n8th Internation Workshop on\nLounging (Semisitting) Position for skull 
 base surgery\n\nExperience a unique training opportunity for neurosurgeons 
 and anesthesiologists! This workshop offers hands-on insights and in-depth 
 knowledge of the semisitting position during neurosurgical procedures. Lear
 n the latest techniques and best practices, delivered by internationally re
 nowned experts.\n\n\n
DTSTAMP:20260421T102923Z
DTSTART;TZID=Europe/Berlin;VALUE=DATE:20251207
DTEND;TZID=Europe/Berlin;VALUE=DATE:20251208
SEQUENCE:0
TRANSP:OPAQUE
END:VEVENT
END:VCALENDAR