BEGIN:VCALENDAR
VERSION:2.0
PRODID:-//jEvents 2.0 for Joomla//EN
CALSCALE:GREGORIAN
METHOD:PUBLISH
BEGIN:VTIMEZONE
TZID:Europe/Berlin
BEGIN:STANDARD
DTSTART:20071028T020000
RDATE:20080330T030000
TZOFFSETFROM:+0200
TZOFFSETTO:+0100
TZNAME:Europe/Berlin CET
END:STANDARD
BEGIN:STANDARD
DTSTART:20081026T020000
RDATE:20090329T030000
TZOFFSETFROM:+0200
TZOFFSETTO:+0100
TZNAME:Europe/Berlin CET
END:STANDARD
BEGIN:STANDARD
DTSTART:20091025T020000
RDATE:20100328T030000
TZOFFSETFROM:+0200
TZOFFSETTO:+0100
TZNAME:Europe/Berlin CET
END:STANDARD
BEGIN:STANDARD
DTSTART:20101031T020000
RDATE:20110327T030000
TZOFFSETFROM:+0200
TZOFFSETTO:+0100
TZNAME:Europe/Berlin CET
END:STANDARD
BEGIN:STANDARD
DTSTART:20111030T020000
RDATE:20120325T030000
TZOFFSETFROM:+0200
TZOFFSETTO:+0100
TZNAME:Europe/Berlin CET
END:STANDARD
BEGIN:STANDARD
DTSTART:20121028T020000
RDATE:20130331T030000
TZOFFSETFROM:+0200
TZOFFSETTO:+0100
TZNAME:Europe/Berlin CET
END:STANDARD
BEGIN:STANDARD
DTSTART:20131027T020000
RDATE:20140330T030000
TZOFFSETFROM:+0200
TZOFFSETTO:+0100
TZNAME:Europe/Berlin CET
END:STANDARD
BEGIN:STANDARD
DTSTART:20141026T020000
RDATE:20150329T030000
TZOFFSETFROM:+0200
TZOFFSETTO:+0100
TZNAME:Europe/Berlin CET
END:STANDARD
BEGIN:STANDARD
DTSTART:20151025T020000
RDATE:20160327T030000
TZOFFSETFROM:+0200
TZOFFSETTO:+0100
TZNAME:Europe/Berlin CET
END:STANDARD
BEGIN:STANDARD
DTSTART:20161030T020000
RDATE:20170326T030000
TZOFFSETFROM:+0200
TZOFFSETTO:+0100
TZNAME:Europe/Berlin CET
END:STANDARD
BEGIN:STANDARD
DTSTART:20171029T020000
RDATE:20180325T030000
TZOFFSETFROM:+0200
TZOFFSETTO:+0100
TZNAME:Europe/Berlin CET
END:STANDARD
BEGIN:STANDARD
DTSTART:20181028T020000
RDATE:20190331T030000
TZOFFSETFROM:+0200
TZOFFSETTO:+0100
TZNAME:Europe/Berlin CET
END:STANDARD
BEGIN:STANDARD
DTSTART:20191027T020000
RDATE:20200329T030000
TZOFFSETFROM:+0200
TZOFFSETTO:+0100
TZNAME:Europe/Berlin CET
END:STANDARD
BEGIN:STANDARD
DTSTART:20201025T020000
RDATE:20210328T030000
TZOFFSETFROM:+0200
TZOFFSETTO:+0100
TZNAME:Europe/Berlin CET
END:STANDARD
BEGIN:STANDARD
DTSTART:20211031T020000
RDATE:20220327T030000
TZOFFSETFROM:+0200
TZOFFSETTO:+0100
TZNAME:Europe/Berlin CET
END:STANDARD
BEGIN:STANDARD
DTSTART:20221030T020000
RDATE:20230326T030000
TZOFFSETFROM:+0200
TZOFFSETTO:+0100
TZNAME:Europe/Berlin CET
END:STANDARD
BEGIN:STANDARD
DTSTART:20231029T020000
RDATE:20240331T030000
TZOFFSETFROM:+0200
TZOFFSETTO:+0100
TZNAME:Europe/Berlin CET
END:STANDARD
BEGIN:STANDARD
DTSTART:20241027T020000
RDATE:20250330T030000
TZOFFSETFROM:+0200
TZOFFSETTO:+0100
TZNAME:Europe/Berlin CET
END:STANDARD
BEGIN:STANDARD
DTSTART:20251026T020000
RDATE:20260329T030000
TZOFFSETFROM:+0200
TZOFFSETTO:+0100
TZNAME:Europe/Berlin CET
END:STANDARD
BEGIN:STANDARD
DTSTART:20261025T020000
RDATE:20270328T030000
TZOFFSETFROM:+0200
TZOFFSETTO:+0100
TZNAME:Europe/Berlin CET
END:STANDARD
BEGIN:STANDARD
DTSTART:20271031T020000
RDATE:20280326T030000
TZOFFSETFROM:+0200
TZOFFSETTO:+0100
TZNAME:Europe/Berlin CET
END:STANDARD
BEGIN:DAYLIGHT
DTSTART:20071009T000000
RDATE:20071028T020000
TZOFFSETFROM:+0100
TZOFFSETTO:+0200
TZNAME:Europe/Berlin CEST
END:DAYLIGHT
BEGIN:DAYLIGHT
DTSTART:20080330T030000
RDATE:20081026T020000
TZOFFSETFROM:+0100
TZOFFSETTO:+0200
TZNAME:Europe/Berlin CEST
END:DAYLIGHT
BEGIN:DAYLIGHT
DTSTART:20090329T030000
RDATE:20091025T020000
TZOFFSETFROM:+0100
TZOFFSETTO:+0200
TZNAME:Europe/Berlin CEST
END:DAYLIGHT
BEGIN:DAYLIGHT
DTSTART:20100328T030000
RDATE:20101031T020000
TZOFFSETFROM:+0100
TZOFFSETTO:+0200
TZNAME:Europe/Berlin CEST
END:DAYLIGHT
BEGIN:DAYLIGHT
DTSTART:20110327T030000
RDATE:20111030T020000
TZOFFSETFROM:+0100
TZOFFSETTO:+0200
TZNAME:Europe/Berlin CEST
END:DAYLIGHT
BEGIN:DAYLIGHT
DTSTART:20120325T030000
RDATE:20121028T020000
TZOFFSETFROM:+0100
TZOFFSETTO:+0200
TZNAME:Europe/Berlin CEST
END:DAYLIGHT
BEGIN:DAYLIGHT
DTSTART:20130331T030000
RDATE:20131027T020000
TZOFFSETFROM:+0100
TZOFFSETTO:+0200
TZNAME:Europe/Berlin CEST
END:DAYLIGHT
BEGIN:DAYLIGHT
DTSTART:20140330T030000
RDATE:20141026T020000
TZOFFSETFROM:+0100
TZOFFSETTO:+0200
TZNAME:Europe/Berlin CEST
END:DAYLIGHT
BEGIN:DAYLIGHT
DTSTART:20150329T030000
RDATE:20151025T020000
TZOFFSETFROM:+0100
TZOFFSETTO:+0200
TZNAME:Europe/Berlin CEST
END:DAYLIGHT
BEGIN:DAYLIGHT
DTSTART:20160327T030000
RDATE:20161030T020000
TZOFFSETFROM:+0100
TZOFFSETTO:+0200
TZNAME:Europe/Berlin CEST
END:DAYLIGHT
BEGIN:DAYLIGHT
DTSTART:20170326T030000
RDATE:20171029T020000
TZOFFSETFROM:+0100
TZOFFSETTO:+0200
TZNAME:Europe/Berlin CEST
END:DAYLIGHT
BEGIN:DAYLIGHT
DTSTART:20180325T030000
RDATE:20181028T020000
TZOFFSETFROM:+0100
TZOFFSETTO:+0200
TZNAME:Europe/Berlin CEST
END:DAYLIGHT
BEGIN:DAYLIGHT
DTSTART:20190331T030000
RDATE:20191027T020000
TZOFFSETFROM:+0100
TZOFFSETTO:+0200
TZNAME:Europe/Berlin CEST
END:DAYLIGHT
BEGIN:DAYLIGHT
DTSTART:20200329T030000
RDATE:20201025T020000
TZOFFSETFROM:+0100
TZOFFSETTO:+0200
TZNAME:Europe/Berlin CEST
END:DAYLIGHT
BEGIN:DAYLIGHT
DTSTART:20210328T030000
RDATE:20211031T020000
TZOFFSETFROM:+0100
TZOFFSETTO:+0200
TZNAME:Europe/Berlin CEST
END:DAYLIGHT
BEGIN:DAYLIGHT
DTSTART:20220327T030000
RDATE:20221030T020000
TZOFFSETFROM:+0100
TZOFFSETTO:+0200
TZNAME:Europe/Berlin CEST
END:DAYLIGHT
BEGIN:DAYLIGHT
DTSTART:20230326T030000
RDATE:20231029T020000
TZOFFSETFROM:+0100
TZOFFSETTO:+0200
TZNAME:Europe/Berlin CEST
END:DAYLIGHT
BEGIN:DAYLIGHT
DTSTART:20240331T030000
RDATE:20241027T020000
TZOFFSETFROM:+0100
TZOFFSETTO:+0200
TZNAME:Europe/Berlin CEST
END:DAYLIGHT
BEGIN:DAYLIGHT
DTSTART:20250330T030000
RDATE:20251026T020000
TZOFFSETFROM:+0100
TZOFFSETTO:+0200
TZNAME:Europe/Berlin CEST
END:DAYLIGHT
BEGIN:DAYLIGHT
DTSTART:20260329T030000
RDATE:20261025T020000
TZOFFSETFROM:+0100
TZOFFSETTO:+0200
TZNAME:Europe/Berlin CEST
END:DAYLIGHT
BEGIN:DAYLIGHT
DTSTART:20270328T030000
RDATE:20271031T020000
TZOFFSETFROM:+0100
TZOFFSETTO:+0200
TZNAME:Europe/Berlin CEST
END:DAYLIGHT
END:VTIMEZONE
BEGIN:VEVENT
UID:24AI-ONLINE-I-39042Brixen (Südtirol)5d498c531faf68.92622416
CATEGORIES:Kongresse
CREATED:20190813T161405
SUMMARY:Päd. Trauma und Simulation (Vertiefungsmodul zu EPLS/PALS)
DESCRIPTION;ENCODING=QUOTED-PRINTABLE:\n\nLandesrettungsverein Weisses Kreuz Südtirol - Ref. Ausbildung - Dr. Bur
 khard J. Wermter / Frau Renate Kohmann - Tel. +390471444395 - fax: +3904714
 44355 - e-mail: Diese E-Mail-Adresse ist vor Spambots geschützt! Zur Anzeig
 e muss JavaScript eingeschaltet sein!
				document.getElementById('cloak255
 d7cd136f7934388e52278bbab5e32').innerHTML = '';
				var prefix = '&#109;a' 
 + 'i&#108;' + '&#116;o';
				var path = 'hr' + 'ef' + '=';
				var addy255d
 7cd136f7934388e52278bbab5e32 = 'f&#111;rm&#97;z&#105;&#111;n&#101;' + '&#64
 ;';
				addy255d7cd136f7934388e52278bbab5e32 = addy255d7cd136f7934388e52278
 bbab5e32 + 'wk-cb' + '&#46;' + 'bz' + '&#46;' + '&#105;t';
				var addy_tex
 t255d7cd136f7934388e52278bbab5e32 = 'f&#111;rm&#97;z&#105;&#111;n&#101;' + 
 '&#64;' + 'wk-cb' + '&#46;' + 'bz' + '&#46;' + '&#105;t';document.getElemen
 tById('cloak255d7cd136f7934388e52278bbab5e32').innerHTML += ''+addy_text255
 d7cd136f7934388e52278bbab5e32+'';
		\n
DTSTAMP:20260420T232347Z
DTSTART;TZID=Europe/Berlin;VALUE=DATE:20081009
DTEND;TZID=Europe/Berlin;VALUE=DATE:20081010
SEQUENCE:0
TRANSP:OPAQUE
END:VEVENT
END:VCALENDAR