BEGIN:VCALENDAR
VERSION:2.0
PRODID:-//jEvents 2.0 for Joomla//EN
CALSCALE:GREGORIAN
METHOD:PUBLISH
BEGIN:VTIMEZONE
TZID:Europe/Berlin
BEGIN:STANDARD
DTSTART:20221030T020000
RDATE:20230326T030000
TZOFFSETFROM:+0200
TZOFFSETTO:+0100
TZNAME:Europe/Berlin CET
END:STANDARD
BEGIN:STANDARD
DTSTART:20231029T020000
RDATE:20240331T030000
TZOFFSETFROM:+0200
TZOFFSETTO:+0100
TZNAME:Europe/Berlin CET
END:STANDARD
BEGIN:STANDARD
DTSTART:20241027T020000
RDATE:20250330T030000
TZOFFSETFROM:+0200
TZOFFSETTO:+0100
TZNAME:Europe/Berlin CET
END:STANDARD
BEGIN:STANDARD
DTSTART:20251026T020000
RDATE:20260329T030000
TZOFFSETFROM:+0200
TZOFFSETTO:+0100
TZNAME:Europe/Berlin CET
END:STANDARD
BEGIN:STANDARD
DTSTART:20261025T020000
RDATE:20270328T030000
TZOFFSETFROM:+0200
TZOFFSETTO:+0100
TZNAME:Europe/Berlin CET
END:STANDARD
BEGIN:STANDARD
DTSTART:20271031T020000
RDATE:20280326T030000
TZOFFSETFROM:+0200
TZOFFSETTO:+0100
TZNAME:Europe/Berlin CET
END:STANDARD
BEGIN:DAYLIGHT
DTSTART:20220517T000000
RDATE:20221030T020000
TZOFFSETFROM:+0100
TZOFFSETTO:+0200
TZNAME:Europe/Berlin CEST
END:DAYLIGHT
BEGIN:DAYLIGHT
DTSTART:20230326T030000
RDATE:20231029T020000
TZOFFSETFROM:+0100
TZOFFSETTO:+0200
TZNAME:Europe/Berlin CEST
END:DAYLIGHT
BEGIN:DAYLIGHT
DTSTART:20240331T030000
RDATE:20241027T020000
TZOFFSETFROM:+0100
TZOFFSETTO:+0200
TZNAME:Europe/Berlin CEST
END:DAYLIGHT
BEGIN:DAYLIGHT
DTSTART:20250330T030000
RDATE:20251026T020000
TZOFFSETFROM:+0100
TZOFFSETTO:+0200
TZNAME:Europe/Berlin CEST
END:DAYLIGHT
BEGIN:DAYLIGHT
DTSTART:20260329T030000
RDATE:20261025T020000
TZOFFSETFROM:+0100
TZOFFSETTO:+0200
TZNAME:Europe/Berlin CEST
END:DAYLIGHT
BEGIN:DAYLIGHT
DTSTART:20270328T030000
RDATE:20271031T020000
TZOFFSETFROM:+0100
TZOFFSETTO:+0200
TZNAME:Europe/Berlin CEST
END:DAYLIGHT
END:VTIMEZONE
BEGIN:VEVENT
UID:8d322fba1a362ba1736cc46b0e9da357
CATEGORIES:Kongresse
CREATED:20220629T094249
SUMMARY:8. Notarztkurs Allgäu 2023, II. Block
LOCATION:Amt für Ernährung, Landwirtschaft und Forsten, Kaufbeuren
DESCRIPTION;ENCODING=QUOTED-PRINTABLE:\n\nLiebe Kolleginnen und Kollegen,\nmitten in der Urlaubsregion Allgäu fin
 det im Jahr 2023 zum\nachten Mal der Notarztkurs der Kliniken Ostallgäu-Kau
 fbeuren\nvor der grandiosen Bergkulisse der Alpen statt.\nDer Kurs umfasst 
 80 Stunden nach den Empfehlungen der\nBundesärztekammer und berechtigt zur 
 Erlangung der Zusatzbezeichnung\nNotfallmedizin. Er ist anerkannt durch die
  Bayerische\nLandesärztekammer und zusätzlich zertifiziert mit 80 Fortbildu
 ngspunkten.\nDie Teilnehmerzahl ist wie bei den letzten Malen begrenzt, um 
 für\ndie Teilnehmer eine bessere Lernsituation zu schaffen. Wir sehen\nes a
 ls unsere Aufgabe alle Themen mit einem engen Bezug zur\nPraxis zu präsenti
 eren.\nWir hoffen, dass das von uns gewählte Konzept der Veranstaltung\nIhr
  Interesse findet und freuen uns, Sie im Allgäu zu unserem\nNotarztkurs in 
 zwei Kursblöcken begrüßen zu dürfen.\nWir freuen uns auf Ihr Kommen!\n\n\nD
 r. med. Joachim Klasen und PD Dr. med. Bernd Hartmann\n\n\nModul 1 Gesetze,
  Strukturen, Rahmenbedingungen\nModul 2 Untersuchung, Überwachung, Lagerung
  und Medikation\nModul 3 Therapeutische Maßnahmen I\nModul 4 Therapeutische
  Maßnahmen II\nModul 5 Leitsymptome und symptomorientierte Notfallbehandlun
 g I\nModul 6 Leitsymptome und symptomorientierte Notfallbehandlung II\nModu
 l 7 Einsatztaktische Grundlagen, Teamarbeit und Teamführung, MANV\nModul 8 
 PRAXIS-Tag Einsatztaktik / -technik / -training\n\n\nKURSGEBÜHR 920,- € ink
 l. Kursmaterial, Verpflegung &amp; Hygienekonzept. Frühbucherrabatt: 870,- 
 € (bei Zahlungseingang bis 28.02.2023). Bei Absage 14 Tage vor Veranstaltun
 gsbeginn wird eine Stornogebühr\nvon 50% der Kursgebühr fällig, bei Nichter
 scheinen findet keine Rückerstattung statt.\n\n\nBANKVERBINDUNG Kreis- &amp
 ; Stadtsparkasse Kaufbeuren\nDE 627345 0000 0000 0111 48\nSWIFT/BIC: BYLADE
 M1KFB\n\n\nVerwendungszweck: Notarztkurs Allgäu\n2023 - Nachname, Vorname\n
DTSTAMP:20260422T215356Z
DTSTART;TZID=Europe/Berlin;VALUE=DATE:20230518
DTEND;TZID=Europe/Berlin;VALUE=DATE:20230522
SEQUENCE:0
TRANSP:OPAQUE
END:VEVENT
END:VCALENDAR