BEGIN:VCALENDAR
VERSION:2.0
PRODID:-//jEvents 2.0 for Joomla//EN
CALSCALE:GREGORIAN
METHOD:PUBLISH
BEGIN:VTIMEZONE
TZID:Europe/Berlin
BEGIN:STANDARD
DTSTART:20221105T000000
RDATE:20230326T030000
TZOFFSETFROM:+0200
TZOFFSETTO:+0100
TZNAME:Europe/Berlin CET
END:STANDARD
BEGIN:STANDARD
DTSTART:20231029T020000
RDATE:20240331T030000
TZOFFSETFROM:+0200
TZOFFSETTO:+0100
TZNAME:Europe/Berlin CET
END:STANDARD
BEGIN:STANDARD
DTSTART:20241027T020000
RDATE:20250330T030000
TZOFFSETFROM:+0200
TZOFFSETTO:+0100
TZNAME:Europe/Berlin CET
END:STANDARD
BEGIN:STANDARD
DTSTART:20251026T020000
RDATE:20260329T030000
TZOFFSETFROM:+0200
TZOFFSETTO:+0100
TZNAME:Europe/Berlin CET
END:STANDARD
BEGIN:STANDARD
DTSTART:20261025T020000
RDATE:20270328T030000
TZOFFSETFROM:+0200
TZOFFSETTO:+0100
TZNAME:Europe/Berlin CET
END:STANDARD
BEGIN:STANDARD
DTSTART:20271031T020000
RDATE:20280326T030000
TZOFFSETFROM:+0200
TZOFFSETTO:+0100
TZNAME:Europe/Berlin CET
END:STANDARD
BEGIN:DAYLIGHT
DTSTART:20230326T030000
RDATE:20231029T020000
TZOFFSETFROM:+0100
TZOFFSETTO:+0200
TZNAME:Europe/Berlin CEST
END:DAYLIGHT
BEGIN:DAYLIGHT
DTSTART:20240331T030000
RDATE:20241027T020000
TZOFFSETFROM:+0100
TZOFFSETTO:+0200
TZNAME:Europe/Berlin CEST
END:DAYLIGHT
BEGIN:DAYLIGHT
DTSTART:20250330T030000
RDATE:20251026T020000
TZOFFSETFROM:+0100
TZOFFSETTO:+0200
TZNAME:Europe/Berlin CEST
END:DAYLIGHT
BEGIN:DAYLIGHT
DTSTART:20260329T030000
RDATE:20261025T020000
TZOFFSETFROM:+0100
TZOFFSETTO:+0200
TZNAME:Europe/Berlin CEST
END:DAYLIGHT
BEGIN:DAYLIGHT
DTSTART:20270328T030000
RDATE:20271031T020000
TZOFFSETFROM:+0100
TZOFFSETTO:+0200
TZNAME:Europe/Berlin CEST
END:DAYLIGHT
END:VTIMEZONE
BEGIN:VEVENT
UID:4f2902031c5047c15c6d7573cd756fbc
CATEGORIES:Kongresse
CREATED:20220718T110911
SUMMARY:Münsteraner Einführungskurs Intensivmedizin
LOCATION:St. Franziskus-Hospital Münster
DESCRIPTION;ENCODING=QUOTED-PRINTABLE:\n\nDer Münsteraner Einführungskurs Intensivmedizin dient der Vermittlung v
 on Grundlagen der Intensivmedizin und richtet sich an Ärzt:innen unterschie
 dlicher Fachrichtungen, die am Beginn Ihrer Tätigkeit in der Intensivmedizi
 n stehen.\nUnser Ziel ist es, Sie praxisnah auf alltägliche Situationen und
  Fragestellungen vorzubereiten. Am Ende des Kurses möchten wir Sie sicher u
 nd gut vorbereitet auf die Intensivstation entlassen.\nIm Rahmen der Pandem
 ie wurde der Kurs zum Hybrid-Format weiterentwickelt, sodass die Teilnahme 
 in Präsenz oder als Live-Webinar möglich ist.\nDie Verbindung zur handfeste
 n Praxis schaffen praxisnahe interaktive Vortragsformen und ein anschließen
 der Praxistag in Kleingruppen, der die theoretischen Themen praktisch festi
 gt.\nDer Praxistag im Anschluss an den Kurs ist fester Bestandteil des Präs
 enzkurses. Für das Live-Webinar kann der Praxistag optional gebucht werden.
 \nDetaillierte Informationen zum Kurs und das Anmeldeformular finden Sie un
 ter folgendem Link: www.sfh-muenster.de/intensivkurs/ \n
DTSTAMP:20260422T040557Z
DTSTART;TZID=Europe/Berlin;VALUE=DATE:20231106
DTEND;TZID=Europe/Berlin;VALUE=DATE:20231111
SEQUENCE:0
TRANSP:OPAQUE
END:VEVENT
END:VCALENDAR