BEGIN:VCALENDAR
VERSION:2.0
PRODID:-//jEvents 2.0 for Joomla//EN
CALSCALE:GREGORIAN
METHOD:PUBLISH
BEGIN:VTIMEZONE
TZID:Europe/Berlin
BEGIN:STANDARD
DTSTART:20221030T020000
RDATE:20230326T030000
TZOFFSETFROM:+0200
TZOFFSETTO:+0100
TZNAME:Europe/Berlin CET
END:STANDARD
BEGIN:STANDARD
DTSTART:20231029T020000
RDATE:20240331T030000
TZOFFSETFROM:+0200
TZOFFSETTO:+0100
TZNAME:Europe/Berlin CET
END:STANDARD
BEGIN:STANDARD
DTSTART:20241027T020000
RDATE:20250330T030000
TZOFFSETFROM:+0200
TZOFFSETTO:+0100
TZNAME:Europe/Berlin CET
END:STANDARD
BEGIN:STANDARD
DTSTART:20251026T020000
RDATE:20260329T030000
TZOFFSETFROM:+0200
TZOFFSETTO:+0100
TZNAME:Europe/Berlin CET
END:STANDARD
BEGIN:STANDARD
DTSTART:20261025T020000
RDATE:20270328T030000
TZOFFSETFROM:+0200
TZOFFSETTO:+0100
TZNAME:Europe/Berlin CET
END:STANDARD
BEGIN:STANDARD
DTSTART:20271031T020000
RDATE:20280326T030000
TZOFFSETFROM:+0200
TZOFFSETTO:+0100
TZNAME:Europe/Berlin CET
END:STANDARD
BEGIN:DAYLIGHT
DTSTART:20221006T000000
RDATE:20221030T020000
TZOFFSETFROM:+0100
TZOFFSETTO:+0200
TZNAME:Europe/Berlin CEST
END:DAYLIGHT
BEGIN:DAYLIGHT
DTSTART:20230326T030000
RDATE:20231029T020000
TZOFFSETFROM:+0100
TZOFFSETTO:+0200
TZNAME:Europe/Berlin CEST
END:DAYLIGHT
BEGIN:DAYLIGHT
DTSTART:20240331T030000
RDATE:20241027T020000
TZOFFSETFROM:+0100
TZOFFSETTO:+0200
TZNAME:Europe/Berlin CEST
END:DAYLIGHT
BEGIN:DAYLIGHT
DTSTART:20250330T030000
RDATE:20251026T020000
TZOFFSETFROM:+0100
TZOFFSETTO:+0200
TZNAME:Europe/Berlin CEST
END:DAYLIGHT
BEGIN:DAYLIGHT
DTSTART:20260329T030000
RDATE:20261025T020000
TZOFFSETFROM:+0100
TZOFFSETTO:+0200
TZNAME:Europe/Berlin CEST
END:DAYLIGHT
BEGIN:DAYLIGHT
DTSTART:20270328T030000
RDATE:20271031T020000
TZOFFSETFROM:+0100
TZOFFSETTO:+0200
TZNAME:Europe/Berlin CEST
END:DAYLIGHT
END:VTIMEZONE
BEGIN:VEVENT
UID:213f1ce8e8264daa7143ac10a176101f
CATEGORIES:Kongresse
CREATED:20220812T112131
SUMMARY:Intensivmedizin Repetitorium
LOCATION:Congress Centrum Sylt
DESCRIPTION;ENCODING=QUOTED-PRINTABLE:\n\nDieses 50h Repetitorium Intensivmedizin 2.0 findet als Präsenz-Veransta
 ltung auf Sylt statt.\n\n\nWir behalten uns ausdrücklich vor, auch die Präs
 enzveranstaltung als Live-Seminar online durchzuführen, sollten wir dies au
 s pandemiebedingten, organisatorischen Gründen für nötig erachten.\n\n\nDie
 ses Repetitorium Intensivmedizin 2.0 soll Ihnen in kompakter Form den aktue
 llen Wissenstand der Intensivmedizin unter Berücksichtigung interdisziplinä
 rer Aspekte, vermitteln.\n\n\nDiese Fortbildung ist von der LÄK  anerkannt.
 \n\n\nFür die erfolgreiche Teilnahme können 50 Fortbildungspunkte (CME) ver
 geben werden.\n\n\nAls Ergänzung und zur Vertiefung der in den Referaten da
 rgestellten Inhalte bieten wir zusätzlich zur Plenarveranstaltung Workshops
  zu ausgewählten wichtigen Themen an.  Im Mittelpunkt steht hier der interk
 ollegiale Dialog.\n\n\nDie Workshops  sind separat zertifiziert und kostenp
 flichtig. Die Anmeldung erfolgt vor Ort.\n
DTSTAMP:20260423T195936Z
DTSTART;TZID=Europe/Berlin;VALUE=DATE:20231007
DTEND;TZID=Europe/Berlin;VALUE=DATE:20231015
SEQUENCE:0
TRANSP:OPAQUE
END:VEVENT
END:VCALENDAR