BEGIN:VCALENDAR
VERSION:2.0
PRODID:-//jEvents 2.0 for Joomla//EN
CALSCALE:GREGORIAN
METHOD:PUBLISH
BEGIN:VTIMEZONE
TZID:Europe/Berlin
BEGIN:STANDARD
DTSTART:20221030T020000
RDATE:20230326T030000
TZOFFSETFROM:+0200
TZOFFSETTO:+0100
TZNAME:Europe/Berlin CET
END:STANDARD
BEGIN:STANDARD
DTSTART:20231029T020000
RDATE:20240331T030000
TZOFFSETFROM:+0200
TZOFFSETTO:+0100
TZNAME:Europe/Berlin CET
END:STANDARD
BEGIN:STANDARD
DTSTART:20241027T020000
RDATE:20250330T030000
TZOFFSETFROM:+0200
TZOFFSETTO:+0100
TZNAME:Europe/Berlin CET
END:STANDARD
BEGIN:STANDARD
DTSTART:20251026T020000
RDATE:20260329T030000
TZOFFSETFROM:+0200
TZOFFSETTO:+0100
TZNAME:Europe/Berlin CET
END:STANDARD
BEGIN:STANDARD
DTSTART:20261025T020000
RDATE:20270328T030000
TZOFFSETFROM:+0200
TZOFFSETTO:+0100
TZNAME:Europe/Berlin CET
END:STANDARD
BEGIN:STANDARD
DTSTART:20271031T020000
RDATE:20280326T030000
TZOFFSETFROM:+0200
TZOFFSETTO:+0100
TZNAME:Europe/Berlin CET
END:STANDARD
BEGIN:DAYLIGHT
DTSTART:20221020T000000
RDATE:20221030T020000
TZOFFSETFROM:+0100
TZOFFSETTO:+0200
TZNAME:Europe/Berlin CEST
END:DAYLIGHT
BEGIN:DAYLIGHT
DTSTART:20230326T030000
RDATE:20231029T020000
TZOFFSETFROM:+0100
TZOFFSETTO:+0200
TZNAME:Europe/Berlin CEST
END:DAYLIGHT
BEGIN:DAYLIGHT
DTSTART:20240331T030000
RDATE:20241027T020000
TZOFFSETFROM:+0100
TZOFFSETTO:+0200
TZNAME:Europe/Berlin CEST
END:DAYLIGHT
BEGIN:DAYLIGHT
DTSTART:20250330T030000
RDATE:20251026T020000
TZOFFSETFROM:+0100
TZOFFSETTO:+0200
TZNAME:Europe/Berlin CEST
END:DAYLIGHT
BEGIN:DAYLIGHT
DTSTART:20260329T030000
RDATE:20261025T020000
TZOFFSETFROM:+0100
TZOFFSETTO:+0200
TZNAME:Europe/Berlin CEST
END:DAYLIGHT
BEGIN:DAYLIGHT
DTSTART:20270328T030000
RDATE:20271031T020000
TZOFFSETFROM:+0100
TZOFFSETTO:+0200
TZNAME:Europe/Berlin CEST
END:DAYLIGHT
END:VTIMEZONE
BEGIN:VEVENT
UID:b2c4e7b991aeb1775c52fa2a035f82fd
CATEGORIES:Kongresse
CREATED:20220918T151851
SUMMARY:Repetitorium Intensivmedizin
LOCATION:Kursaal K3 Wenningstedt/Sylt
DESCRIPTION;ENCODING=QUOTED-PRINTABLE:\n\nDas Repetitorium Intensivmedizin behandelt in einer kompakten Form die 
 unterschiedlichen interdisziplinären Aspekte der Intensivmedizin.\nDiese Ve
 ranstaltung dient als Basis für die Vorbereitung zur Prüfung für die Zusatz
 bezeichnung Intensivmedizin. Aber auch vor einem Ersteinsatz auf der Intens
 ivstation oder nach langjähriger klinischer Tätigkeit, wird Ihnen die Mögli
 chkeit gegeben, sich fachspezifisch vorzubereiten oder ihre intensivmedizin
 ischen Kenntnisse zu aktualisieren.\n\n - Kursdauer: 8 Tage\n - Begrenzte T
 eilnehmerzahl\n - 58 CME Punkte\n - Workshops in Kleingruppen\n\nDie wissen
 schaftliche Leitung dieser Veranstaltung obliegt Herrn Prof. Dr. med. Norbe
 rt Zoremba.\nIn der Programmgestaltung wird ein sehr großer Wert auf eine a
 usgewogene Mischung von klinisch relevanten Themenbereichen gelegt. Zusamme
 n mit einem renommierten Referententeam werden die theoretischen Inhalte mi
 t praktischen Anwendungen verknüpft.\n
DTSTAMP:20260423T002131Z
DTSTART;TZID=Europe/Berlin;VALUE=DATE:20231021
DTEND;TZID=Europe/Berlin;VALUE=DATE:20231029
SEQUENCE:0
TRANSP:OPAQUE
END:VEVENT
END:VCALENDAR