BEGIN:VCALENDAR
VERSION:2.0
PRODID:-//jEvents 2.0 for Joomla//EN
CALSCALE:GREGORIAN
METHOD:PUBLISH
BEGIN:VTIMEZONE
TZID:Europe/Berlin
BEGIN:STANDARD
DTSTART:20221030T020000
RDATE:20230326T030000
TZOFFSETFROM:+0200
TZOFFSETTO:+0100
TZNAME:Europe/Berlin CET
END:STANDARD
BEGIN:STANDARD
DTSTART:20231029T020000
RDATE:20240331T030000
TZOFFSETFROM:+0200
TZOFFSETTO:+0100
TZNAME:Europe/Berlin CET
END:STANDARD
BEGIN:STANDARD
DTSTART:20241027T020000
RDATE:20250330T030000
TZOFFSETFROM:+0200
TZOFFSETTO:+0100
TZNAME:Europe/Berlin CET
END:STANDARD
BEGIN:STANDARD
DTSTART:20251026T020000
RDATE:20260329T030000
TZOFFSETFROM:+0200
TZOFFSETTO:+0100
TZNAME:Europe/Berlin CET
END:STANDARD
BEGIN:STANDARD
DTSTART:20261025T020000
RDATE:20270328T030000
TZOFFSETFROM:+0200
TZOFFSETTO:+0100
TZNAME:Europe/Berlin CET
END:STANDARD
BEGIN:STANDARD
DTSTART:20271031T020000
RDATE:20280326T030000
TZOFFSETFROM:+0200
TZOFFSETTO:+0100
TZNAME:Europe/Berlin CET
END:STANDARD
BEGIN:DAYLIGHT
DTSTART:20220520T000000
RDATE:20221030T020000
TZOFFSETFROM:+0100
TZOFFSETTO:+0200
TZNAME:Europe/Berlin CEST
END:DAYLIGHT
BEGIN:DAYLIGHT
DTSTART:20230326T030000
RDATE:20231029T020000
TZOFFSETFROM:+0100
TZOFFSETTO:+0200
TZNAME:Europe/Berlin CEST
END:DAYLIGHT
BEGIN:DAYLIGHT
DTSTART:20240331T030000
RDATE:20241027T020000
TZOFFSETFROM:+0100
TZOFFSETTO:+0200
TZNAME:Europe/Berlin CEST
END:DAYLIGHT
BEGIN:DAYLIGHT
DTSTART:20250330T030000
RDATE:20251026T020000
TZOFFSETFROM:+0100
TZOFFSETTO:+0200
TZNAME:Europe/Berlin CEST
END:DAYLIGHT
BEGIN:DAYLIGHT
DTSTART:20260329T030000
RDATE:20261025T020000
TZOFFSETFROM:+0100
TZOFFSETTO:+0200
TZNAME:Europe/Berlin CEST
END:DAYLIGHT
BEGIN:DAYLIGHT
DTSTART:20270328T030000
RDATE:20271031T020000
TZOFFSETFROM:+0100
TZOFFSETTO:+0200
TZNAME:Europe/Berlin CEST
END:DAYLIGHT
END:VTIMEZONE
BEGIN:VEVENT
UID:7cd300585e74f2886f2dc98476e729b3
CATEGORIES:Kongresse
CREATED:20221020T090634
SUMMARY:91th European Atherosclerosis Society (EAS) Congress May 21-24, 2023 Mannheim, Germany
LOCATION:Mannheim
DESCRIPTION;ENCODING=QUOTED-PRINTABLE:\n\nOn behalf of the European Atherosclerosis Society (EAS) and the German 
 societies DACH, DGFF and DGAF we are proud to invite you to participate in 
 the 91st EAS Congress in the city of Mannheim. Mannheim is conveniently loc
 ated in southern Germany with close access to Frankfurt and is home to inve
 ntions such as the automobile, bicycle and tractor. Plenty of cultural expe
 riences and wine regions are within reach of the city.\n\nThe congress will
  carry on from the successful recent congress held in Milan and will offer 
 in-person and virtual attendance. During the meeting we will explore the la
 test developments in basic, translational and clinical research into the ca
 uses of atherosclerosis and related vascular disease, and how these may aff
 ect the clinical guidelines for diagnosis and treatment. One of the key fea
 tures of our Congress is the high-level interdisciplinary exchange between 
 clinicians and basic researchers. With many world-leading experts already c
 onfirmed, the EAS 2023 scientific programme will offer an overview of the l
 atest current research in the field – including the award-winning Anitschko
 w Lecture, outstanding Keynote Lectures, state-of-the-art Plenary Sessions,
  and focused Workshops and Advance Clinical Seminars. We firmly believe tha
 t the personal meeting – presenting and discussing one's work with others a
 nd sparking ideas from others' work – is the key to progress in science. We
  encourage you to join us – to ask questions and share ideas during the Sci
 ence at a Glance and Poster Sessions.\n\nThe EAS mission is also to support
  young scientists in progressing their careers through Young Investigator F
 ellowships. This important initiative offers early-career scientists the op
 portunity to take part in the Congress, to learn through presenting their o
 wn research, attending the scientific programme, and getting to know others
  in the field. Information about Fellowships can be found on the Society we
 bsite, and we welcome abstract submissions from young scientists.\n\nWe are
  extremely happy to invite you to attend the EAS 2023 Congress in Mannheim,
  on May 21 – May 24. You are sure to gain new friends, new ideas, and inspi
 ration to take your studies of atherosclerosis and related vascular disease
  to new levels!\n\n\n \n\n\nCategory: Conferences | Science, Health and Med
 icine | Cardiology\n\nPrice:\nGeneral Admission: EUR 1.00\n\n\n \n\n\nLinke
 dIn: https://go.evvnt.com/1367187-4?pid=1357\n\n\n \n\n\nTime: 09:00 to 17:
 00\n
DTSTAMP:20260423T033126Z
DTSTART;TZID=Europe/Berlin;VALUE=DATE:20230521
DTEND;TZID=Europe/Berlin;VALUE=DATE:20230525
SEQUENCE:0
TRANSP:OPAQUE
END:VEVENT
END:VCALENDAR