BEGIN:VCALENDAR
VERSION:2.0
PRODID:-//jEvents 2.0 for Joomla//EN
CALSCALE:GREGORIAN
METHOD:PUBLISH
BEGIN:VTIMEZONE
TZID:Europe/Berlin
BEGIN:STANDARD
DTSTART:20221030T020000
RDATE:20230326T030000
TZOFFSETFROM:+0200
TZOFFSETTO:+0100
TZNAME:Europe/Berlin CET
END:STANDARD
BEGIN:STANDARD
DTSTART:20231029T020000
RDATE:20240331T030000
TZOFFSETFROM:+0200
TZOFFSETTO:+0100
TZNAME:Europe/Berlin CET
END:STANDARD
BEGIN:STANDARD
DTSTART:20241027T020000
RDATE:20250330T030000
TZOFFSETFROM:+0200
TZOFFSETTO:+0100
TZNAME:Europe/Berlin CET
END:STANDARD
BEGIN:STANDARD
DTSTART:20251026T020000
RDATE:20260329T030000
TZOFFSETFROM:+0200
TZOFFSETTO:+0100
TZNAME:Europe/Berlin CET
END:STANDARD
BEGIN:STANDARD
DTSTART:20261025T020000
RDATE:20270328T030000
TZOFFSETFROM:+0200
TZOFFSETTO:+0100
TZNAME:Europe/Berlin CET
END:STANDARD
BEGIN:STANDARD
DTSTART:20271031T020000
RDATE:20280326T030000
TZOFFSETFROM:+0200
TZOFFSETTO:+0100
TZNAME:Europe/Berlin CET
END:STANDARD
BEGIN:DAYLIGHT
DTSTART:20220614T000000
RDATE:20221030T020000
TZOFFSETFROM:+0100
TZOFFSETTO:+0200
TZNAME:Europe/Berlin CEST
END:DAYLIGHT
BEGIN:DAYLIGHT
DTSTART:20230326T030000
RDATE:20231029T020000
TZOFFSETFROM:+0100
TZOFFSETTO:+0200
TZNAME:Europe/Berlin CEST
END:DAYLIGHT
BEGIN:DAYLIGHT
DTSTART:20240331T030000
RDATE:20241027T020000
TZOFFSETFROM:+0100
TZOFFSETTO:+0200
TZNAME:Europe/Berlin CEST
END:DAYLIGHT
BEGIN:DAYLIGHT
DTSTART:20250330T030000
RDATE:20251026T020000
TZOFFSETFROM:+0100
TZOFFSETTO:+0200
TZNAME:Europe/Berlin CEST
END:DAYLIGHT
BEGIN:DAYLIGHT
DTSTART:20260329T030000
RDATE:20261025T020000
TZOFFSETFROM:+0100
TZOFFSETTO:+0200
TZNAME:Europe/Berlin CEST
END:DAYLIGHT
BEGIN:DAYLIGHT
DTSTART:20270328T030000
RDATE:20271031T020000
TZOFFSETFROM:+0100
TZOFFSETTO:+0200
TZNAME:Europe/Berlin CEST
END:DAYLIGHT
END:VTIMEZONE
BEGIN:VEVENT
UID:202dcd969038b7106d6dbb9a631c28c2
CATEGORIES:Kongresse
CREATED:20221021T084909
SUMMARY:35. Internationaler Kongress der Deutschen Ophthalmochirurgie (DOC)
LOCATION:NürnbergConvention Center, NCC Ost
DESCRIPTION;ENCODING=QUOTED-PRINTABLE:\n\nRenommierte Experten stellen Innovationen und Weiterentwicklungen vor u
 nd diskutieren die Goldstandards der Augenchirurgie mit dem Auditorium. Der
  praktischen Ophthalmochirurgie wird viel Raum in Wetlabs und Kursen einger
 äumt, so dass eine umfassende, praxisnahe Fort- und Weiterbildung gewährlei
 stet ist.\n \n Neben Master Class Kursen, die einen exzellenten Überblick i
 n komprimierter Form über einen Teilbereich der Augenheilkunde/Augenchirurg
 ie geben, werden auch die Operationskurse kontinuierlich erweitert. Das Zie
 l der Operationskurse ist es, einen klaren Operationsablauf, unterteilt in 
 Einzelschritten, den Teilnehmern an die Hand zu geben, ergänzt durch Erläut
 erungen zur Indikationsstellung und zur postoperativen Nachbehandlung.\n \n
  In Pro- &amp; Contra-Sitzungen verteidigen die Referenten ihren Standpunkt
  und diskutieren mit dem Auditorium.\n \n Auch in 2023 steht im Mittelpunkt
  die Video-Live-Surgery, aus einer großen deutschen Augenklinik (Uni-Augenk
 linik Hamburg). Die Video-Live-Surgery gewährt detaillierte Einblicke in ve
 rschiedene OP-Techniken einer renommierten deutschen Universitäts-Augenklin
 ik.\n \n Eine wichtige Säule der DOC ist die kontroverse Diskussion.\n Aufg
 abe der Vorsitzenden einer Sitzung ist es, die kontroverse Diskussion aktiv
  zu gestalten, d.h. alternative Ansichten und abweichende Meinungen zu disk
 utieren. Auch die subjektive, persönliche Meinung der Vorsitzenden ist für 
 das Auditorium von Interesse.\n \n Das wissenschaftliche Programm wird durc
 h die Seminarreihe Management in Klinik und Praxis sowie durch Symposien üb
 er Telemedizin, Anästhesie, Kontaktlinsen, Strabologie und Wahlleistungen (
 IGeLSymposium) ergänzt. Das Seminar für die Praxis des Augenarztes ist für 
 alle Kollegen von besonderem Interesse.\n Das Programm für Ärzte wird ergän
 zt durch ein umfassendes und sehr differenziertes Programm für das ophthalm
 ologische Assistenzpersonal (OAP-Programm).\n \n Wegen der immer größer wer
 denden Zahl unserer internationalen Gäste bieten wir an allen 3 Tagen für d
 en Saal Tokio eine Simultanübersetzung (Deutsch-Englisch) an. \n
DTSTAMP:20260423T180258Z
DTSTART;TZID=Europe/Berlin;VALUE=DATE:20230615
DTEND;TZID=Europe/Berlin;VALUE=DATE:20230618
SEQUENCE:0
TRANSP:OPAQUE
END:VEVENT
END:VCALENDAR