BEGIN:VCALENDAR
VERSION:2.0
PRODID:-//jEvents 2.0 for Joomla//EN
CALSCALE:GREGORIAN
METHOD:PUBLISH
BEGIN:VTIMEZONE
TZID:Europe/Berlin
BEGIN:STANDARD
DTSTART:20221030T020000
RDATE:20230326T030000
TZOFFSETFROM:+0200
TZOFFSETTO:+0100
TZNAME:Europe/Berlin CET
END:STANDARD
BEGIN:STANDARD
DTSTART:20231029T020000
RDATE:20240331T030000
TZOFFSETFROM:+0200
TZOFFSETTO:+0100
TZNAME:Europe/Berlin CET
END:STANDARD
BEGIN:STANDARD
DTSTART:20241027T020000
RDATE:20250330T030000
TZOFFSETFROM:+0200
TZOFFSETTO:+0100
TZNAME:Europe/Berlin CET
END:STANDARD
BEGIN:STANDARD
DTSTART:20251026T020000
RDATE:20260329T030000
TZOFFSETFROM:+0200
TZOFFSETTO:+0100
TZNAME:Europe/Berlin CET
END:STANDARD
BEGIN:STANDARD
DTSTART:20261025T020000
RDATE:20270328T030000
TZOFFSETFROM:+0200
TZOFFSETTO:+0100
TZNAME:Europe/Berlin CET
END:STANDARD
BEGIN:STANDARD
DTSTART:20271031T020000
RDATE:20280326T030000
TZOFFSETFROM:+0200
TZOFFSETTO:+0100
TZNAME:Europe/Berlin CET
END:STANDARD
BEGIN:DAYLIGHT
DTSTART:20220531T000000
RDATE:20221030T020000
TZOFFSETFROM:+0100
TZOFFSETTO:+0200
TZNAME:Europe/Berlin CEST
END:DAYLIGHT
BEGIN:DAYLIGHT
DTSTART:20230326T030000
RDATE:20231029T020000
TZOFFSETFROM:+0100
TZOFFSETTO:+0200
TZNAME:Europe/Berlin CEST
END:DAYLIGHT
BEGIN:DAYLIGHT
DTSTART:20240331T030000
RDATE:20241027T020000
TZOFFSETFROM:+0100
TZOFFSETTO:+0200
TZNAME:Europe/Berlin CEST
END:DAYLIGHT
BEGIN:DAYLIGHT
DTSTART:20250330T030000
RDATE:20251026T020000
TZOFFSETFROM:+0100
TZOFFSETTO:+0200
TZNAME:Europe/Berlin CEST
END:DAYLIGHT
BEGIN:DAYLIGHT
DTSTART:20260329T030000
RDATE:20261025T020000
TZOFFSETFROM:+0100
TZOFFSETTO:+0200
TZNAME:Europe/Berlin CEST
END:DAYLIGHT
BEGIN:DAYLIGHT
DTSTART:20270328T030000
RDATE:20271031T020000
TZOFFSETFROM:+0100
TZOFFSETTO:+0200
TZNAME:Europe/Berlin CEST
END:DAYLIGHT
END:VTIMEZONE
BEGIN:VEVENT
UID:7012131f1c87bf5a32ff521cbcf45fc7
CATEGORIES:Kongresse
CREATED:20221026T162531
SUMMARY:Kompaktseminar Kindernotfallmedizin - E-Learning und Praxistag
LOCATION:St. Franziskus-Hospital Münster
DESCRIPTION;ENCODING=QUOTED-PRINTABLE:\n\nAuch erfahrenes notfallmedizinisches Personal ist gestresst, wenn es um
  die Notfallversorgung von kritisch kranken Kindern geht. Zu dem erhöhtem k
 ognitiven Anspruch, Krankheitsbilder richtig zu erkennen und z.B. Medikamen
 te richtig zu dosieren, gesellt sich ein höherer Schwierigkeitsgrad bei man
 uellen Tätigkeiten hinzu. Gleichzeitig besteht jedoch wenig Routine beim Ei
 nzelnen durch die Seltenheit von lebensbedrohlichen pädiatrischen Notfällen
 . Eine praxisorientierte, hochqualitative Fortbildung ist also die logische
  Konsequenz.\n\n\nUnser Kindernotfallmedizin-Kompaktseminar ist die auf Not
 fallmedizin ausgerichtete Weiterentwicklung unseres seit Jahren erfolgreich
 en Kinderanästhesie-Kompaktseminars und richtet sich an alle medizinischen 
 Berufsgruppen, die Kinder in Notfallsituationen versorgen: (Not-)Ärzt:innen
 , Notfallsanitäter:innen und Pflegefachpersonen.\n\n\nIn unserem innovative
 n inversed-classroom-Fortbildungsformat verzahnen wir einen Theorieanteil, 
 der im Vorfeld von den Teilnehmern in eigenem Tempo erarbeitet wird (eLearn
 ing-Portal und Audio-Podcast) mit einem Praxistag, an dem in Kleingruppen i
 ntensiv und praxisnah in Skilltrainings und Patientensimulationen geübt wir
 d.\n\n\n \n\n\nTheorie:\n\n\n- inversed-classroom-Konzept mit Zugang zum eL
 earning-Portal\n\n\n- Audio-Podcast zum Thema Kindernotfallmedizin\n\n\n- s
 trukturierte Vorbereitung im teilnehmereigenen Tempo und Stil\n\n\n- Strukt
 uriertes Vorgehen, symptombezogen nach ABCDE und mit symptomorientierter Th
 erapie nach aktuellen Empfehlungen\n\n\n \n\n\nPraxistag:\n\n\n- Atemwegsma
 nagement\n\n\n- Intraossäre Zugänge mit EZ-IO, Umgang mit MAD\n\n\n- besond
 ere Techniken für präklinische Traumaversorgung und Immobilisation im Kinde
 salter\n\n\n- realistisch dargestellte Fallsimulationen in Kleingruppen\n\n
 \n \n\n\nWeitere Informationen und Anmeldung: \n\n\nhttps://www.sfh-muenste
 r.de/unsere-kompetenzen/franziskussim-simulationszentrum/trainingsprogramm/
 kompaktseminar-kindernotfallmedizin\n
DTSTAMP:20260423T082622Z
DTSTART;TZID=Europe/Berlin;VALUE=DATE:20230601
DTEND;TZID=Europe/Berlin;VALUE=DATE:20230602
SEQUENCE:0
TRANSP:OPAQUE
END:VEVENT
END:VCALENDAR