BEGIN:VCALENDAR
VERSION:2.0
PRODID:-//jEvents 2.0 for Joomla//EN
CALSCALE:GREGORIAN
METHOD:PUBLISH
BEGIN:VTIMEZONE
TZID:Europe/Berlin
BEGIN:STANDARD
DTSTART:20221103T090000
RDATE:20230326T030000
TZOFFSETFROM:+0200
TZOFFSETTO:+0100
TZNAME:Europe/Berlin CET
END:STANDARD
BEGIN:STANDARD
DTSTART:20231029T020000
RDATE:20240331T030000
TZOFFSETFROM:+0200
TZOFFSETTO:+0100
TZNAME:Europe/Berlin CET
END:STANDARD
BEGIN:STANDARD
DTSTART:20241027T020000
RDATE:20250330T030000
TZOFFSETFROM:+0200
TZOFFSETTO:+0100
TZNAME:Europe/Berlin CET
END:STANDARD
BEGIN:STANDARD
DTSTART:20251026T020000
RDATE:20260329T030000
TZOFFSETFROM:+0200
TZOFFSETTO:+0100
TZNAME:Europe/Berlin CET
END:STANDARD
BEGIN:STANDARD
DTSTART:20261025T020000
RDATE:20270328T030000
TZOFFSETFROM:+0200
TZOFFSETTO:+0100
TZNAME:Europe/Berlin CET
END:STANDARD
BEGIN:STANDARD
DTSTART:20271031T020000
RDATE:20280326T030000
TZOFFSETFROM:+0200
TZOFFSETTO:+0100
TZNAME:Europe/Berlin CET
END:STANDARD
BEGIN:DAYLIGHT
DTSTART:20230326T030000
RDATE:20231029T020000
TZOFFSETFROM:+0100
TZOFFSETTO:+0200
TZNAME:Europe/Berlin CEST
END:DAYLIGHT
BEGIN:DAYLIGHT
DTSTART:20240331T030000
RDATE:20241027T020000
TZOFFSETFROM:+0100
TZOFFSETTO:+0200
TZNAME:Europe/Berlin CEST
END:DAYLIGHT
BEGIN:DAYLIGHT
DTSTART:20250330T030000
RDATE:20251026T020000
TZOFFSETFROM:+0100
TZOFFSETTO:+0200
TZNAME:Europe/Berlin CEST
END:DAYLIGHT
BEGIN:DAYLIGHT
DTSTART:20260329T030000
RDATE:20261025T020000
TZOFFSETFROM:+0100
TZOFFSETTO:+0200
TZNAME:Europe/Berlin CEST
END:DAYLIGHT
BEGIN:DAYLIGHT
DTSTART:20270328T030000
RDATE:20271031T020000
TZOFFSETFROM:+0100
TZOFFSETTO:+0200
TZNAME:Europe/Berlin CEST
END:DAYLIGHT
END:VTIMEZONE
BEGIN:VEVENT
UID:92c40676d65c10fadba609cce574986e
CATEGORIES:Kongresse
CREATED:20221108T133343
SUMMARY:48. P.P.-Kleemann Kurs zur endoskopischen Intubation
LOCATION:Mainz
DESCRIPTION;ENCODING=QUOTED-PRINTABLE:\n\nSehr geehrte Damen und Herren,\n\n\nder mittlerweile 48. Peter Paul Kle
 emann-Kurs zur endoskopischen Intubation vermittelt in kompetenter Weise de
 n professionellen Umgang mit der flexiblen Endoskopie zur Atemwegssicherung
 . Es wird das komplette Spektrum von der Vorbereitung, über die vielseitige
 n Anwendungsgebiete, bis hin zur Wiederaufbereitung der Gerätschaften ausfü
 hrlich thematisiert. Darüber hinaus werden diverse weitere Verfahren der mo
 dernen Atemwegssicherung vorgestellt und können von den Teilnehmern im Hand
 s-on Training ausreichend trainiert werden.\n\n\nWir freuen uns auf Sie!\n\
 n\nOrganisatorische Leitung:\n\n\nPriv.-Doz. Dr. med. Marc Kriege\n\n\nDr. 
 med. Eric Hotz\n
DTSTAMP:20260422T053443Z
DTSTART;TZID=Europe/Berlin:20231104T090000
DTEND;TZID=Europe/Berlin:20231104T180000
SEQUENCE:0
TRANSP:OPAQUE
END:VEVENT
END:VCALENDAR