BEGIN:VCALENDAR
VERSION:2.0
PRODID:-//jEvents 2.0 for Joomla//EN
CALSCALE:GREGORIAN
METHOD:PUBLISH
BEGIN:VTIMEZONE
TZID:Europe/Berlin
BEGIN:STANDARD
DTSTART:20221030T020000
RDATE:20230326T030000
TZOFFSETFROM:+0200
TZOFFSETTO:+0100
TZNAME:Europe/Berlin CET
END:STANDARD
BEGIN:STANDARD
DTSTART:20231029T020000
RDATE:20240331T030000
TZOFFSETFROM:+0200
TZOFFSETTO:+0100
TZNAME:Europe/Berlin CET
END:STANDARD
BEGIN:STANDARD
DTSTART:20241027T020000
RDATE:20250330T030000
TZOFFSETFROM:+0200
TZOFFSETTO:+0100
TZNAME:Europe/Berlin CET
END:STANDARD
BEGIN:STANDARD
DTSTART:20251026T020000
RDATE:20260329T030000
TZOFFSETFROM:+0200
TZOFFSETTO:+0100
TZNAME:Europe/Berlin CET
END:STANDARD
BEGIN:STANDARD
DTSTART:20261025T020000
RDATE:20270328T030000
TZOFFSETFROM:+0200
TZOFFSETTO:+0100
TZNAME:Europe/Berlin CET
END:STANDARD
BEGIN:STANDARD
DTSTART:20271031T020000
RDATE:20280326T030000
TZOFFSETFROM:+0200
TZOFFSETTO:+0100
TZNAME:Europe/Berlin CET
END:STANDARD
BEGIN:DAYLIGHT
DTSTART:20220616T000000
RDATE:20221030T020000
TZOFFSETFROM:+0100
TZOFFSETTO:+0200
TZNAME:Europe/Berlin CEST
END:DAYLIGHT
BEGIN:DAYLIGHT
DTSTART:20230326T030000
RDATE:20231029T020000
TZOFFSETFROM:+0100
TZOFFSETTO:+0200
TZNAME:Europe/Berlin CEST
END:DAYLIGHT
BEGIN:DAYLIGHT
DTSTART:20240331T030000
RDATE:20241027T020000
TZOFFSETFROM:+0100
TZOFFSETTO:+0200
TZNAME:Europe/Berlin CEST
END:DAYLIGHT
BEGIN:DAYLIGHT
DTSTART:20250330T030000
RDATE:20251026T020000
TZOFFSETFROM:+0100
TZOFFSETTO:+0200
TZNAME:Europe/Berlin CEST
END:DAYLIGHT
BEGIN:DAYLIGHT
DTSTART:20260329T030000
RDATE:20261025T020000
TZOFFSETFROM:+0100
TZOFFSETTO:+0200
TZNAME:Europe/Berlin CEST
END:DAYLIGHT
BEGIN:DAYLIGHT
DTSTART:20270328T030000
RDATE:20271031T020000
TZOFFSETFROM:+0100
TZOFFSETTO:+0200
TZNAME:Europe/Berlin CEST
END:DAYLIGHT
END:VTIMEZONE
BEGIN:VEVENT
UID:624e5f091272b84c442f2b72c7986429
CATEGORIES:Kongresse
CREATED:20221113T105504
SUMMARY:Ultraschall-gezielte Regionalanästhesie Grundkurs I + II
LOCATION:THV Trainingscenter
DESCRIPTION;ENCODING=QUOTED-PRINTABLE:Regionalanästhesie lässt sich sehr gut mit anderen Anästhesie-Methoden komb
 inieren, sie ist schnell erlernbar und in Kombination mit dem Ultraschall i
 n nahezu allen Anästhesie-Settings einsetzbar. Unser Kurs gestaltet sich pr
 axisorientiert mit Fokus auf dem klinischen Alltag. Im theoretischen Teil w
 erden die wichtigsten Grundlagen der Regionalanästhesie vermittelt. In unse
 ren Hands-on Workshops kann durch ausreichende Übungszeiten das theoretisch
 e Wissen in der Praxis angewandt werden. Zusätzlich können Ultraschall-Gerä
 te, Nadeln und Katheter-Sets verschiedener Hersteller verglichen und auspro
 biert werden\n \nGrundkurs I\nUnser Kurs gestaltet sich praxisorientiert im
  Fokus auf den klinischen Alltag. Im theoretischen Teil werden die wichtigs
 ten Grundlagen der Regionalanästhesie vermittelt, sowie top aktuelle, praxi
 srelevante Informationen zusammengefasst und besprochen.\nDie für den Kurs 
 ausgewählten Blockaden ermöglichen dem Teilnehmer die Regionalanästhesie in
  die tägliche Routine zu implementieren und dem Patienten moderne anästhesi
 eologische Methoden anzubieten.\nUnsere Hands-on Workshops ermöglichen durc
 h ausreichende Übungszeiten das theoretische Wissen in der Praxis anzuwende
 n. Zusätzlich besteht die Möglichkeit diverse Ultraschall-Geräte, Nadeln un
 d Kathetersets von verschiedenen Herstellern zu vergleichen und auszuprobie
 ren.\nUnsere weiteren Kurse bieten die Möglichkeit das Regionalanästhesiolo
 gische Portfolio zu erweitern, das erworbene Wissen zu vertiefen und Fertig
 keiten zu perfektionieren.\n \nGrundkurs II\nDer Kurs baut auf das erworben
 e Wissen des „US-gezielte Regionalanästhesie Grundkurs I“ auf. Die ausgewäh
 lten und präsentierten peripheren Blockaden erweitern das Wissen in der Reg
 ionalanästhesie und rückenmarksnahe Ultraschall-Techniken erleichtern, bezi
 ehungsweise machen konventionell frustrane Eingriffe überhaupt erst durchfü
 hrbar.\nNeben den regionalanästhesiologischen Themenblöcken, werden die Ult
 raschall-gezielte Gefäßpunktion, sowie die Grundlagen der Lungensonographie
  erlernt. Die Grundlagen der Lungensonographie bringen aufgrund der Pleuran
 ahen Tätigkeiten, Patientensicherheit und ein einfaches diagnostisches Tool
  in den klinischen Alltag.\nUnsere Hands-on Workshops ermöglichen durch aus
 reichende Übungszeiten das theoretische Wissen in der Praxis anzuwenden. Zu
 sätzlich besteht die Möglichkeit diverse Ultraschall-Geräte, Nadeln und Kat
 hetersets von verschiedenen Herstellern, zu vergleichen und auszuprobieren.
 \nDer Grundkurs II bieten die Möglichkeit das Regionalanästhesiologische Po
 rtfolio zu erweitern, das erworbene Wissen zu vertiefen und Fertigkeiten zu
  perfektionieren.\n
DTSTAMP:20260424T025248Z
DTSTART;TZID=Europe/Berlin;VALUE=DATE:20230617
DTEND;TZID=Europe/Berlin;VALUE=DATE:20230619
SEQUENCE:0
TRANSP:OPAQUE
END:VEVENT
END:VCALENDAR