BEGIN:VCALENDAR
VERSION:2.0
PRODID:-//jEvents 2.0 for Joomla//EN
CALSCALE:GREGORIAN
METHOD:PUBLISH
BEGIN:VTIMEZONE
TZID:Europe/Berlin
BEGIN:STANDARD
DTSTART:20221030T020000
RDATE:20230326T030000
TZOFFSETFROM:+0200
TZOFFSETTO:+0100
TZNAME:Europe/Berlin CET
END:STANDARD
BEGIN:STANDARD
DTSTART:20231029T020000
RDATE:20240331T030000
TZOFFSETFROM:+0200
TZOFFSETTO:+0100
TZNAME:Europe/Berlin CET
END:STANDARD
BEGIN:STANDARD
DTSTART:20241027T020000
RDATE:20250330T030000
TZOFFSETFROM:+0200
TZOFFSETTO:+0100
TZNAME:Europe/Berlin CET
END:STANDARD
BEGIN:STANDARD
DTSTART:20251026T020000
RDATE:20260329T030000
TZOFFSETFROM:+0200
TZOFFSETTO:+0100
TZNAME:Europe/Berlin CET
END:STANDARD
BEGIN:STANDARD
DTSTART:20261025T020000
RDATE:20270328T030000
TZOFFSETFROM:+0200
TZOFFSETTO:+0100
TZNAME:Europe/Berlin CET
END:STANDARD
BEGIN:STANDARD
DTSTART:20271031T020000
RDATE:20280326T030000
TZOFFSETFROM:+0200
TZOFFSETTO:+0100
TZNAME:Europe/Berlin CET
END:STANDARD
BEGIN:DAYLIGHT
DTSTART:20220623T090000
RDATE:20221030T020000
TZOFFSETFROM:+0100
TZOFFSETTO:+0200
TZNAME:Europe/Berlin CEST
END:DAYLIGHT
BEGIN:DAYLIGHT
DTSTART:20230326T030000
RDATE:20231029T020000
TZOFFSETFROM:+0100
TZOFFSETTO:+0200
TZNAME:Europe/Berlin CEST
END:DAYLIGHT
BEGIN:DAYLIGHT
DTSTART:20240331T030000
RDATE:20241027T020000
TZOFFSETFROM:+0100
TZOFFSETTO:+0200
TZNAME:Europe/Berlin CEST
END:DAYLIGHT
BEGIN:DAYLIGHT
DTSTART:20250330T030000
RDATE:20251026T020000
TZOFFSETFROM:+0100
TZOFFSETTO:+0200
TZNAME:Europe/Berlin CEST
END:DAYLIGHT
BEGIN:DAYLIGHT
DTSTART:20260329T030000
RDATE:20261025T020000
TZOFFSETFROM:+0100
TZOFFSETTO:+0200
TZNAME:Europe/Berlin CEST
END:DAYLIGHT
BEGIN:DAYLIGHT
DTSTART:20270328T030000
RDATE:20271031T020000
TZOFFSETFROM:+0100
TZOFFSETTO:+0200
TZNAME:Europe/Berlin CEST
END:DAYLIGHT
END:VTIMEZONE
BEGIN:VEVENT
UID:b5144d8390305fbece7d516762473a91
CATEGORIES:Kongresse
CREATED:20221115T090655
SUMMARY:3. Atemwegssymposium des wissenschaftlichen Arbeitskreis Atemwegsmanagement der DGAI
LOCATION:Mainz
DESCRIPTION;ENCODING=QUOTED-PRINTABLE:\n\nLiebe Kolleginnen und Kollegen,\n\n\nnachdem unser 2. Atemwegssymposium
  an Bord eines Schiffes dieses Jahr ein voller Erfolg war, möchten wir Sie 
 auch im kommenden Jahr wieder bei uns in Mainz auf dem Rhein willkommen hei
 ßen. Bei „Airwaymanagement at Riverside 2023“ werden an Bord erneut spannen
 de Vorträge von erlesenen Referenten auf der Agenda stehen und wir freuen u
 ns ganz besonders auf den traditionellen Puppen Workshop. Eine Reise nach M
 ainz lohnt sich immer und ganz bestimmt an diesem Wochenende. Erleben Sie v
 om 23. bis 26. Juni die Mainzer Johannisnacht, ein lebendig zelebriertes Fe
 st zur Erinnerung an den großen Erfinder des Buchdruckes - Johannes Gutenbe
 rg mit abwechslungsreichen Aktionen rund um den Buchdruck sowie vielen kuli
 narischen Mainzer Köstlichkeiten. Bevor wir am Samstag in See stechen, würd
 en wir uns sehr freuen, wenn wir Sie zu einem Get-Together bereits am Freit
 ag, den 23. Juni ab 19 Uhr begrüßen dürfen. Weitere Details hierzu werden w
 ir Ihnen in Kürze mitteilen. Um dieses Atemwegssymposium finanzieren zu kön
 nen, kommen wir trotz großzügiger Unterstützung durch die Industrie nicht u
 mhin, eine Tagungsgebühr zu verlangen. Um sich anzumelden, schreiben Sie bi
 tte eine E-Mail mit Namen und Adresse an Marc Kriege: Diese E-Mail-Adresse 
 ist vor Spambots geschützt! Zur Anzeige muss JavaScript eingeschaltet sein!
 
				document.getElementById('cloak1d03ef1a292bc2e0cede7dee48f3352e').inner
 HTML = '';
				var prefix = '&#109;a' + 'i&#108;' + '&#116;o';
				var path
  = 'hr' + 'ef' + '=';
				var addy1d03ef1a292bc2e0cede7dee48f3352e = 'm&#97
 ;kr&#105;&#101;g&#101;' + '&#64;';
				addy1d03ef1a292bc2e0cede7dee48f3352e
  = addy1d03ef1a292bc2e0cede7dee48f3352e + '&#117;n&#105;-m&#97;&#105;nz' + 
 '&#46;' + 'd&#101;';
				var addy_text1d03ef1a292bc2e0cede7dee48f3352e = 'm
 &#97;kr&#105;&#101;g&#101;' + '&#64;' + '&#117;n&#105;-m&#97;&#105;nz' + '&
 #46;' + 'd&#101;';document.getElementById('cloak1d03ef1a292bc2e0cede7dee48f
 3352e').innerHTML += ''+addy_text1d03ef1a292bc2e0cede7dee48f3352e+'';
		. B
 itte teilen Sie uns auch mit, ob Sie bereits am Get- Together am 23. Juni t
 eilnehmen möchten.\n\n\nWir freuen uns auf Sie und verbleiben mit herzliche
 n Grüßen\n
DTSTAMP:20260424T091958Z
DTSTART;TZID=Europe/Berlin:20230624T090000
DTEND;TZID=Europe/Berlin:20230624T160000
SEQUENCE:0
TRANSP:OPAQUE
END:VEVENT
END:VCALENDAR