BEGIN:VCALENDAR
VERSION:2.0
PRODID:-//jEvents 2.0 for Joomla//EN
CALSCALE:GREGORIAN
METHOD:PUBLISH
BEGIN:VTIMEZONE
TZID:Europe/Berlin
BEGIN:STANDARD
DTSTART:20221030T020000
RDATE:20230326T030000
TZOFFSETFROM:+0200
TZOFFSETTO:+0100
TZNAME:Europe/Berlin CET
END:STANDARD
BEGIN:STANDARD
DTSTART:20231029T020000
RDATE:20240331T030000
TZOFFSETFROM:+0200
TZOFFSETTO:+0100
TZNAME:Europe/Berlin CET
END:STANDARD
BEGIN:STANDARD
DTSTART:20241027T020000
RDATE:20250330T030000
TZOFFSETFROM:+0200
TZOFFSETTO:+0100
TZNAME:Europe/Berlin CET
END:STANDARD
BEGIN:STANDARD
DTSTART:20251026T020000
RDATE:20260329T030000
TZOFFSETFROM:+0200
TZOFFSETTO:+0100
TZNAME:Europe/Berlin CET
END:STANDARD
BEGIN:STANDARD
DTSTART:20261025T020000
RDATE:20270328T030000
TZOFFSETFROM:+0200
TZOFFSETTO:+0100
TZNAME:Europe/Berlin CET
END:STANDARD
BEGIN:STANDARD
DTSTART:20271031T020000
RDATE:20280326T030000
TZOFFSETFROM:+0200
TZOFFSETTO:+0100
TZNAME:Europe/Berlin CET
END:STANDARD
BEGIN:DAYLIGHT
DTSTART:20221010T000000
RDATE:20221030T020000
TZOFFSETFROM:+0100
TZOFFSETTO:+0200
TZNAME:Europe/Berlin CEST
END:DAYLIGHT
BEGIN:DAYLIGHT
DTSTART:20230326T030000
RDATE:20231029T020000
TZOFFSETFROM:+0100
TZOFFSETTO:+0200
TZNAME:Europe/Berlin CEST
END:DAYLIGHT
BEGIN:DAYLIGHT
DTSTART:20240331T030000
RDATE:20241027T020000
TZOFFSETFROM:+0100
TZOFFSETTO:+0200
TZNAME:Europe/Berlin CEST
END:DAYLIGHT
BEGIN:DAYLIGHT
DTSTART:20250330T030000
RDATE:20251026T020000
TZOFFSETFROM:+0100
TZOFFSETTO:+0200
TZNAME:Europe/Berlin CEST
END:DAYLIGHT
BEGIN:DAYLIGHT
DTSTART:20260329T030000
RDATE:20261025T020000
TZOFFSETFROM:+0100
TZOFFSETTO:+0200
TZNAME:Europe/Berlin CEST
END:DAYLIGHT
BEGIN:DAYLIGHT
DTSTART:20270328T030000
RDATE:20271031T020000
TZOFFSETFROM:+0100
TZOFFSETTO:+0200
TZNAME:Europe/Berlin CEST
END:DAYLIGHT
END:VTIMEZONE
BEGIN:VEVENT
UID:514e0b5781cf22c5ff559daceba33e51
CATEGORIES:Kongresse
CREATED:20221116T155757
SUMMARY:46. Dreiländertreffen der DEGUM in Zusammenarbeit mit ÖGUM & SGUM
LOCATION:Mainz
DESCRIPTION;ENCODING=QUOTED-PRINTABLE:\n\nSehr geehrte Kolleginnen und Kollegen, sehr geehrte Ultraschallbegeiste
 rte,\n\n\nwir möchten Sie ganz herzlich vom 11.-14. Oktober 2023 nach Mainz
  am Rhein zum 46. Dreiländertreffen der DEGUM, ÖGUM und SGUM einladen.\n\n\
 nAuch in der vergangenen Zeit, in der wir uns nicht immer in Präsenz treffe
 n konnten, hat die Entwicklung des Ultraschalls weiter an Geschwindigkeit u
 nd Bedeutung gewonnen. Vor allem in Bereichen der Digitalisierung und der I
 mplementierung von künstlicher Intelligenz in diagnostische Algorithmen hat
  sich in den letzten Jahren ein ausgesprochener Wandel vollzogen und forder
 t somit von uns allen, die den Ultraschall auf höchstem Niveau nutzen möcht
 en, ein stetiges Weiterbilden. Um dieses Ziel zu erreichen, haben wir auch 
 dieses Jahr namhafte nationale sowie internationale Vortragende aus den dre
 i Gesellschaften der DEGUM, ÖGUM und SGUM eingeladen, die uns auf den aktue
 llen Stand der Entwicklungen bringen und uns darüber hinaus Technologien un
 d Einsatzmöglichkeiten des medizinischen Ultraschalls der nahen Zukunft vor
 stellen.\n\n\nGemeinsam mit Ihnen möchten wir den Kongress in der Rheingold
 halle in Mainz mit Leben füllen und durch regen Austausch und lebendige Dis
 kussionen unser Wissen und unsere Erfahrungen im Bereich des Ultraschalls t
 eilen und erweitern.\n\n\nWir freuen uns auf Sie!\n\n\nHerzliche Grüße\n\n\
 nProf. Dr. med. Dirk-André Clevert, München\nPD Dr. med. André Farrokh, Kie
 l\n
DTSTAMP:20260423T184037Z
DTSTART;TZID=Europe/Berlin;VALUE=DATE:20231011
DTEND;TZID=Europe/Berlin;VALUE=DATE:20231015
SEQUENCE:0
TRANSP:OPAQUE
END:VEVENT
END:VCALENDAR