BEGIN:VCALENDAR
VERSION:2.0
PRODID:-//jEvents 2.0 for Joomla//EN
CALSCALE:GREGORIAN
METHOD:PUBLISH
BEGIN:VTIMEZONE
TZID:Europe/Berlin
BEGIN:STANDARD
DTSTART:20221030T020000
RDATE:20230326T030000
TZOFFSETFROM:+0200
TZOFFSETTO:+0100
TZNAME:Europe/Berlin CET
END:STANDARD
BEGIN:STANDARD
DTSTART:20231029T020000
RDATE:20240331T030000
TZOFFSETFROM:+0200
TZOFFSETTO:+0100
TZNAME:Europe/Berlin CET
END:STANDARD
BEGIN:STANDARD
DTSTART:20241027T020000
RDATE:20250330T030000
TZOFFSETFROM:+0200
TZOFFSETTO:+0100
TZNAME:Europe/Berlin CET
END:STANDARD
BEGIN:STANDARD
DTSTART:20251026T020000
RDATE:20260329T030000
TZOFFSETFROM:+0200
TZOFFSETTO:+0100
TZNAME:Europe/Berlin CET
END:STANDARD
BEGIN:STANDARD
DTSTART:20261025T020000
RDATE:20270328T030000
TZOFFSETFROM:+0200
TZOFFSETTO:+0100
TZNAME:Europe/Berlin CET
END:STANDARD
BEGIN:STANDARD
DTSTART:20271031T020000
RDATE:20280326T030000
TZOFFSETFROM:+0200
TZOFFSETTO:+0100
TZNAME:Europe/Berlin CET
END:STANDARD
BEGIN:DAYLIGHT
DTSTART:20220521T000000
RDATE:20221030T020000
TZOFFSETFROM:+0100
TZOFFSETTO:+0200
TZNAME:Europe/Berlin CEST
END:DAYLIGHT
BEGIN:DAYLIGHT
DTSTART:20230326T030000
RDATE:20231029T020000
TZOFFSETFROM:+0100
TZOFFSETTO:+0200
TZNAME:Europe/Berlin CEST
END:DAYLIGHT
BEGIN:DAYLIGHT
DTSTART:20240331T030000
RDATE:20241027T020000
TZOFFSETFROM:+0100
TZOFFSETTO:+0200
TZNAME:Europe/Berlin CEST
END:DAYLIGHT
BEGIN:DAYLIGHT
DTSTART:20250330T030000
RDATE:20251026T020000
TZOFFSETFROM:+0100
TZOFFSETTO:+0200
TZNAME:Europe/Berlin CEST
END:DAYLIGHT
BEGIN:DAYLIGHT
DTSTART:20260329T030000
RDATE:20261025T020000
TZOFFSETFROM:+0100
TZOFFSETTO:+0200
TZNAME:Europe/Berlin CEST
END:DAYLIGHT
BEGIN:DAYLIGHT
DTSTART:20270328T030000
RDATE:20271031T020000
TZOFFSETFROM:+0100
TZOFFSETTO:+0200
TZNAME:Europe/Berlin CEST
END:DAYLIGHT
END:VTIMEZONE
BEGIN:VEVENT
UID:d126d83a49fe6dad1d7b96b6f251509f
CATEGORIES:Kongresse
CREATED:20221123T100722
SUMMARY:AHA ACLS Provider -Erweiterte Maßnahmen der kardiovaskulären Reanimation-
LOCATION:Institut für notfallmedizinische Bildung
DESCRIPTION;ENCODING=QUOTED-PRINTABLE:\n\nDer ACLS (Advanced Cardiac Life Support) Provider Kurs der American Hea
 rt Association ist ein auf Evidenz und Algorithmus ausgelegtes, internation
 al anerkanntes Kurskonzept mit hohem praktischen Anteil von ca. 65%.\n\n\n 
 \n\n\nIn Kleingruppen von maximal 8 Teilnehmern pro AHA-Instruktor werden S
 ie das zuvor erlernte theoretische Wissen anwenden, um verschiedene Fallsze
 narien und lebensrettende Fähigkeiten gruppendynamisch zu trainieren.\n\n\n
  \n\n\nDer Kurs beinhaltet:\n\n\n \n\n\n- Basic Life Support (BLS Certifica
 tion)\n\n\n- High Performance CPR (Cardiopulmonary Resuscitation)\n\n\n- At
 emwegsmanagement\n\n\n- Notfallmedizinisch relevante EKG Interpretation und
  Diagnose\n\n\n- Diagnose und Therapie bradykarder und tachykarder Herzrhyt
 hmusstörungen, mit sowohl pharmakologischer  als auch elektrotherapeutische
 r Intervention\n\n\n- ACLS Algorithmen der aktuellsten Guidelines \n\n\n- P
 harmakologie für ACLS\n\n\n- Behandlung bei akutem Koronarsyndrom (ACS) und
  Schlaganfall\n\n\n-Behandlung bei Rückehr eines Spontankreislauf (ROSC)\n\
 n\n- Kommunikative Kompetenzen\n\n\n \n\n\nIm Anschluss durchlaufen Sie die
  internationale Zertifikation ACLS Provider (ACLS Certification) im Rahmen 
 einer zu bestehenden Leistungsüberprüfung mit sowohl theoretischem, als auc
 h praktischem Prüfungsteil. \n\n\n \n\n\nSie erhalten das internationale Ze
 rtifikat sowie die offizielle AHA Provider Card. Ebenso ist dieser Kurs der
  zuständigen Ärztekammer zur Bewertung vorgelegt worden und wir erwarten ei
 ne Bewertung mit 25 CME Punkten Kategorie C sowie 25 Punkten zur notärztlic
 hen FortbildunFortbildungspflicht. Weiterhin werden 21 Fortbildungsstunden 
 für Rettungsfachpersonal bescheinigt.\n\n\n \n\n\nDer Gesamte Kurs findet i
 n deutscher Sprache statt.\n
DTSTAMP:20260423T044929Z
DTSTART;TZID=Europe/Berlin;VALUE=DATE:20230522
DTEND;TZID=Europe/Berlin;VALUE=DATE:20230524
SEQUENCE:0
TRANSP:OPAQUE
END:VEVENT
END:VCALENDAR