BEGIN:VCALENDAR
VERSION:2.0
PRODID:-//jEvents 2.0 for Joomla//EN
CALSCALE:GREGORIAN
METHOD:PUBLISH
BEGIN:VTIMEZONE
TZID:Europe/Berlin
BEGIN:STANDARD
DTSTART:20221030T020000
RDATE:20230326T030000
TZOFFSETFROM:+0200
TZOFFSETTO:+0100
TZNAME:Europe/Berlin CET
END:STANDARD
BEGIN:STANDARD
DTSTART:20231029T020000
RDATE:20240331T030000
TZOFFSETFROM:+0200
TZOFFSETTO:+0100
TZNAME:Europe/Berlin CET
END:STANDARD
BEGIN:STANDARD
DTSTART:20241027T020000
RDATE:20250330T030000
TZOFFSETFROM:+0200
TZOFFSETTO:+0100
TZNAME:Europe/Berlin CET
END:STANDARD
BEGIN:STANDARD
DTSTART:20251026T020000
RDATE:20260329T030000
TZOFFSETFROM:+0200
TZOFFSETTO:+0100
TZNAME:Europe/Berlin CET
END:STANDARD
BEGIN:STANDARD
DTSTART:20261025T020000
RDATE:20270328T030000
TZOFFSETFROM:+0200
TZOFFSETTO:+0100
TZNAME:Europe/Berlin CET
END:STANDARD
BEGIN:STANDARD
DTSTART:20271031T020000
RDATE:20280326T030000
TZOFFSETFROM:+0200
TZOFFSETTO:+0100
TZNAME:Europe/Berlin CET
END:STANDARD
BEGIN:DAYLIGHT
DTSTART:20221018T090000
RDATE:20221030T020000
TZOFFSETFROM:+0100
TZOFFSETTO:+0200
TZNAME:Europe/Berlin CEST
END:DAYLIGHT
BEGIN:DAYLIGHT
DTSTART:20230326T030000
RDATE:20231029T020000
TZOFFSETFROM:+0100
TZOFFSETTO:+0200
TZNAME:Europe/Berlin CEST
END:DAYLIGHT
BEGIN:DAYLIGHT
DTSTART:20240331T030000
RDATE:20241027T020000
TZOFFSETFROM:+0100
TZOFFSETTO:+0200
TZNAME:Europe/Berlin CEST
END:DAYLIGHT
BEGIN:DAYLIGHT
DTSTART:20250330T030000
RDATE:20251026T020000
TZOFFSETFROM:+0100
TZOFFSETTO:+0200
TZNAME:Europe/Berlin CEST
END:DAYLIGHT
BEGIN:DAYLIGHT
DTSTART:20260329T030000
RDATE:20261025T020000
TZOFFSETFROM:+0100
TZOFFSETTO:+0200
TZNAME:Europe/Berlin CEST
END:DAYLIGHT
BEGIN:DAYLIGHT
DTSTART:20270328T030000
RDATE:20271031T020000
TZOFFSETFROM:+0100
TZOFFSETTO:+0200
TZNAME:Europe/Berlin CEST
END:DAYLIGHT
END:VTIMEZONE
BEGIN:VEVENT
UID:494a19673ed3f256ae76dadd33d85c4b
CATEGORIES:Kongresse
CREATED:20221206T094917
SUMMARY:ACLS Refresher der AHA 
LOCATION:Lingen
DESCRIPTION;ENCODING=QUOTED-PRINTABLE:\n\nDieser Kurs richtet sich an medizinisches Fachpersonal, welches an der 
 inner- und außerklinischen Notfallversorgung des erwachsenen Patienten teil
 nimmt.\n\n\nFür Mitarbeiter, die im Rettungsdienst, in der Notaufnahme, der
  Anästhesie und auf Intensivstationen tätig sind, zur Verlängerung der 24 M
 onate gültigen Provider-Card.\n\n\nUm an diesen Kurs teilnehmen zu können, 
 benötigen Sie einen aktuell gültigen ACLS Provider Status. Ihren Ausweis kö
 nnen Sie uns gerne nach der Buchung oder am Kurstag vorlegen.\n\n\n \n\n\n1
 9.10.2023 09:00-17:00 Uhr (Tagungsstätte wird noch bekannt gegeben)\n\n\n \
 n\n\n \nLeistungsumfang\n\n \n\n - Einsatz modernster Videotechnik für ein 
 erweitertes Debriefing\n - Modernste Simulation dank Patientensimulator\n -
  Offizielle ACLS Provider Karte (nach erfolgreichem Kursabschluss)\n - Teil
 nahmebescheinigung (+ CME Punkte der LÄK für Ärzte)\n - Inklusive Mittagess
 en sowie Snacks und Getränke
DTSTAMP:20260423T084210Z
DTSTART;TZID=Europe/Berlin:20231019T090000
SEQUENCE:0
TRANSP:OPAQUE
END:VEVENT
END:VCALENDAR