BEGIN:VCALENDAR
VERSION:2.0
PRODID:-//jEvents 2.0 for Joomla//EN
CALSCALE:GREGORIAN
METHOD:PUBLISH
BEGIN:VTIMEZONE
TZID:Europe/Berlin
BEGIN:STANDARD
DTSTART:20221030T020000
RDATE:20230326T030000
TZOFFSETFROM:+0200
TZOFFSETTO:+0100
TZNAME:Europe/Berlin CET
END:STANDARD
BEGIN:STANDARD
DTSTART:20231029T020000
RDATE:20240331T030000
TZOFFSETFROM:+0200
TZOFFSETTO:+0100
TZNAME:Europe/Berlin CET
END:STANDARD
BEGIN:STANDARD
DTSTART:20241027T020000
RDATE:20250330T030000
TZOFFSETFROM:+0200
TZOFFSETTO:+0100
TZNAME:Europe/Berlin CET
END:STANDARD
BEGIN:STANDARD
DTSTART:20251026T020000
RDATE:20260329T030000
TZOFFSETFROM:+0200
TZOFFSETTO:+0100
TZNAME:Europe/Berlin CET
END:STANDARD
BEGIN:STANDARD
DTSTART:20261025T020000
RDATE:20270328T030000
TZOFFSETFROM:+0200
TZOFFSETTO:+0100
TZNAME:Europe/Berlin CET
END:STANDARD
BEGIN:STANDARD
DTSTART:20271031T020000
RDATE:20280326T030000
TZOFFSETFROM:+0200
TZOFFSETTO:+0100
TZNAME:Europe/Berlin CET
END:STANDARD
BEGIN:DAYLIGHT
DTSTART:20220820T000000
RDATE:20221030T020000
TZOFFSETFROM:+0100
TZOFFSETTO:+0200
TZNAME:Europe/Berlin CEST
END:DAYLIGHT
BEGIN:DAYLIGHT
DTSTART:20230326T030000
RDATE:20231029T020000
TZOFFSETFROM:+0100
TZOFFSETTO:+0200
TZNAME:Europe/Berlin CEST
END:DAYLIGHT
BEGIN:DAYLIGHT
DTSTART:20240331T030000
RDATE:20241027T020000
TZOFFSETFROM:+0100
TZOFFSETTO:+0200
TZNAME:Europe/Berlin CEST
END:DAYLIGHT
BEGIN:DAYLIGHT
DTSTART:20250330T030000
RDATE:20251026T020000
TZOFFSETFROM:+0100
TZOFFSETTO:+0200
TZNAME:Europe/Berlin CEST
END:DAYLIGHT
BEGIN:DAYLIGHT
DTSTART:20260329T030000
RDATE:20261025T020000
TZOFFSETFROM:+0100
TZOFFSETTO:+0200
TZNAME:Europe/Berlin CEST
END:DAYLIGHT
BEGIN:DAYLIGHT
DTSTART:20270328T030000
RDATE:20271031T020000
TZOFFSETFROM:+0100
TZOFFSETTO:+0200
TZNAME:Europe/Berlin CEST
END:DAYLIGHT
END:VTIMEZONE
BEGIN:VEVENT
UID:845be7777b1740fe814b3e24017f730d
CATEGORIES:Kongresse
CREATED:20221221T101606
SUMMARY:AHA ACLS Provider -Erweiterte Maßnahmen der kardiovaskulären Reanimation-
LOCATION:Institut für notfallmedizinische Bildung 
DESCRIPTION;ENCODING=QUOTED-PRINTABLE:\n\n \n\n\nDer ACLS (Advanced Cardiac Life Support) Provider Kurs der Ameri
 can Heart Association ist ein auf Evidenz und Algorithmus ausgelegtes, inte
 rnational anerkanntes Kurskonzept mit hohem praktischen Anteil von ca. 65%.
 \n\n\n \n\n\nIn Kleingruppen von maximal 8 Teilnehmern pro AHA-Instruktor w
 erden Sie das zuvor erlernte theoretische Wissen anwenden, um verschiedene 
 Fallszenarien und lebensrettende Fähigkeiten gruppendynamisch zu trainieren
 .\n\n\n \n\n\nDer Kurs beinhaltet:\n\n\n \n\n\n- Basic Life Support (BLS Ce
 rtification)\n\n\n- High Performance CPR (Cardiopulmonary Resuscitation)\n\
 n\n- Atemwegsmanagement\n\n\n- Notfallmedizinisch relevante EKG Interpretat
 ion und Diagnose\n\n\n- Diagnose und Therapie bradykarder und tachykarder H
 erzrhythmusstörungen, mit sowohl pharmakologischer  als auch elektrotherape
 utischer Intervention\n\n\n- ACLS Algorithmen der aktuellsten Guidelines \n
 \n\n- Pharmakologie für ACLS\n\n\n- Behandlung bei akutem Koronarsyndrom (A
 CS) und Schlaganfall\n\n\n-Behandlung bei Rückehr eines Spontankreislauf (R
 OSC)\n\n\n- Kommunikative Kompetenzen\n\n\n \n\n\nIm Anschluss durchlaufen 
 Sie die internationale Zertifikation ACLS Provider (ACLS Certification) im 
 Rahmen einer zu bestehenden Leistungsüberprüfung mit sowohl theoretischem, 
 als auch praktischem Prüfungsteil. \n\n\n \n\n\nSie erhalten das internatio
 nale Zertifikat sowie die offizielle AHA Provider Card. Ebenso ist dieser K
 urs der zuständigen Ärztekammer zur Bewertung vorgelegt worden und wir erwa
 rten eine Bewertung mit 25 CME Punkten Kategorie C sowie 25 Punkten zur not
 ärztlichen FortbildunFortbildungspflicht. Weiterhin werden 21 Fortbildungss
 tunden für Rettungsfachpersonal bescheinigt.\n\n\n \n\n\nDer Gesamte Kurs f
 indet in deutscher Sprache statt.\n
DTSTAMP:20260425T034909Z
DTSTART;TZID=Europe/Berlin;VALUE=DATE:20230821
DTEND;TZID=Europe/Berlin;VALUE=DATE:20230823
SEQUENCE:0
TRANSP:OPAQUE
END:VEVENT
END:VCALENDAR