BEGIN:VCALENDAR
VERSION:2.0
PRODID:-//jEvents 2.0 for Joomla//EN
CALSCALE:GREGORIAN
METHOD:PUBLISH
BEGIN:VTIMEZONE
TZID:Europe/Berlin
BEGIN:STANDARD
DTSTART:20221030T020000
RDATE:20230326T030000
TZOFFSETFROM:+0200
TZOFFSETTO:+0100
TZNAME:Europe/Berlin CET
END:STANDARD
BEGIN:STANDARD
DTSTART:20231029T020000
RDATE:20240331T030000
TZOFFSETFROM:+0200
TZOFFSETTO:+0100
TZNAME:Europe/Berlin CET
END:STANDARD
BEGIN:STANDARD
DTSTART:20241027T020000
RDATE:20250330T030000
TZOFFSETFROM:+0200
TZOFFSETTO:+0100
TZNAME:Europe/Berlin CET
END:STANDARD
BEGIN:STANDARD
DTSTART:20251026T020000
RDATE:20260329T030000
TZOFFSETFROM:+0200
TZOFFSETTO:+0100
TZNAME:Europe/Berlin CET
END:STANDARD
BEGIN:STANDARD
DTSTART:20261025T020000
RDATE:20270328T030000
TZOFFSETFROM:+0200
TZOFFSETTO:+0100
TZNAME:Europe/Berlin CET
END:STANDARD
BEGIN:STANDARD
DTSTART:20271031T020000
RDATE:20280326T030000
TZOFFSETFROM:+0200
TZOFFSETTO:+0100
TZNAME:Europe/Berlin CET
END:STANDARD
BEGIN:DAYLIGHT
DTSTART:20220530T000000
RDATE:20221030T020000
TZOFFSETFROM:+0100
TZOFFSETTO:+0200
TZNAME:Europe/Berlin CEST
END:DAYLIGHT
BEGIN:DAYLIGHT
DTSTART:20230326T030000
RDATE:20231029T020000
TZOFFSETFROM:+0100
TZOFFSETTO:+0200
TZNAME:Europe/Berlin CEST
END:DAYLIGHT
BEGIN:DAYLIGHT
DTSTART:20240331T030000
RDATE:20241027T020000
TZOFFSETFROM:+0100
TZOFFSETTO:+0200
TZNAME:Europe/Berlin CEST
END:DAYLIGHT
BEGIN:DAYLIGHT
DTSTART:20250330T030000
RDATE:20251026T020000
TZOFFSETFROM:+0100
TZOFFSETTO:+0200
TZNAME:Europe/Berlin CEST
END:DAYLIGHT
BEGIN:DAYLIGHT
DTSTART:20260329T030000
RDATE:20261025T020000
TZOFFSETFROM:+0100
TZOFFSETTO:+0200
TZNAME:Europe/Berlin CEST
END:DAYLIGHT
BEGIN:DAYLIGHT
DTSTART:20270328T030000
RDATE:20271031T020000
TZOFFSETFROM:+0100
TZOFFSETTO:+0200
TZNAME:Europe/Berlin CEST
END:DAYLIGHT
END:VTIMEZONE
BEGIN:VEVENT
UID:bc85ab8cb9d7420a45cc981578ae55cc
CATEGORIES:Kongresse
CREATED:20230109T105016
SUMMARY:Kompaktseminar Kinderanästhesie - E-Learning und Praxistag
LOCATION:St. Franziskus-Hospital Münster
DESCRIPTION;ENCODING=QUOTED-PRINTABLE:\n\nUnser praxisorientiertes Kompaktseminar orientiert sich an den Bedürfni
 ssen klinisch tätiger (Kinder-)Anästhesist:innen und Pflegefachpersonen. Di
 e enge Verzahnung von Theorie und Praxis gelingt mit einem vorbereitenden E
 -Learning-Modul, dessen Inhalte am Praxistag in Skill-Stationen und Simulat
 ionstrainings vertieft werden. Das Curriculum ist angelehnt an nationale un
 d internationale Empfehlungen (DGAI 2011 / FEAPA 2007 / ACGME 2014).\n\n\n\
 nTheorie im E-Learning-Anteil\n• Anatomie des kindlichen Atemwegs\n• Atemwe
 gsmanagement (Intubation, Larynxmaske, schwieriger Atemweg)\n• Beatmung\n• 
 Kreislauf- und Flüssigkeitstherapie, Gefäßzugang\n• Grundlagen medikamentös
 er Therapie und Besonderheiten der wichtigsten Narkosemedikamente\n• Häufig
 e (charakteristische) Komplikationen in der Kinderanästhesie, klassische No
 tfallsituationen\n• Kinder im Aufwachraum\n\n\nInhalte des Praxistags (Skil
 lstationen und Simulationstrainings)\n• Intubation\n• Fiberoptische Intubat
 ion über die LMA, schwieriger Atemweg\n• Intraossäre Zugänge mit EZ-IO, Umg
 ang mit MAD\n• Inhalative Narkoseeinleitung\n• RSI beim Säugling\n• Komplik
 ationsmanagement\n• postoperative Betreuung\n\n\n \n\n\nWeitere Information
 en und Anmeldung\n\n\nhttps://www.sfh-muenster.de/unsere-kompetenzen/franzi
 skussim-simulationszentrum/trainingsprogramm/kompaktseminar-kinderanaesthes
 ie/\n
DTSTAMP:20260423T070942Z
DTSTART;TZID=Europe/Berlin;VALUE=DATE:20230531
DTEND;TZID=Europe/Berlin;VALUE=DATE:20230601
SEQUENCE:0
TRANSP:OPAQUE
END:VEVENT
END:VCALENDAR