BEGIN:VCALENDAR
VERSION:2.0
PRODID:-//jEvents 2.0 for Joomla//EN
CALSCALE:GREGORIAN
METHOD:PUBLISH
BEGIN:VTIMEZONE
TZID:Europe/Berlin
BEGIN:STANDARD
DTSTART:20221030T020000
RDATE:20230326T030000
TZOFFSETFROM:+0200
TZOFFSETTO:+0100
TZNAME:Europe/Berlin CET
END:STANDARD
BEGIN:STANDARD
DTSTART:20231029T020000
RDATE:20240331T030000
TZOFFSETFROM:+0200
TZOFFSETTO:+0100
TZNAME:Europe/Berlin CET
END:STANDARD
BEGIN:STANDARD
DTSTART:20241027T020000
RDATE:20250330T030000
TZOFFSETFROM:+0200
TZOFFSETTO:+0100
TZNAME:Europe/Berlin CET
END:STANDARD
BEGIN:STANDARD
DTSTART:20251026T020000
RDATE:20260329T030000
TZOFFSETFROM:+0200
TZOFFSETTO:+0100
TZNAME:Europe/Berlin CET
END:STANDARD
BEGIN:STANDARD
DTSTART:20261025T020000
RDATE:20270328T030000
TZOFFSETFROM:+0200
TZOFFSETTO:+0100
TZNAME:Europe/Berlin CET
END:STANDARD
BEGIN:STANDARD
DTSTART:20271031T020000
RDATE:20280326T030000
TZOFFSETFROM:+0200
TZOFFSETTO:+0100
TZNAME:Europe/Berlin CET
END:STANDARD
BEGIN:DAYLIGHT
DTSTART:20221019T160000
RDATE:20221030T020000
TZOFFSETFROM:+0100
TZOFFSETTO:+0200
TZNAME:Europe/Berlin CEST
END:DAYLIGHT
BEGIN:DAYLIGHT
DTSTART:20230326T030000
RDATE:20231029T020000
TZOFFSETFROM:+0100
TZOFFSETTO:+0200
TZNAME:Europe/Berlin CEST
END:DAYLIGHT
BEGIN:DAYLIGHT
DTSTART:20240331T030000
RDATE:20241027T020000
TZOFFSETFROM:+0100
TZOFFSETTO:+0200
TZNAME:Europe/Berlin CEST
END:DAYLIGHT
BEGIN:DAYLIGHT
DTSTART:20250330T030000
RDATE:20251026T020000
TZOFFSETFROM:+0100
TZOFFSETTO:+0200
TZNAME:Europe/Berlin CEST
END:DAYLIGHT
BEGIN:DAYLIGHT
DTSTART:20260329T030000
RDATE:20261025T020000
TZOFFSETFROM:+0100
TZOFFSETTO:+0200
TZNAME:Europe/Berlin CEST
END:DAYLIGHT
BEGIN:DAYLIGHT
DTSTART:20270328T030000
RDATE:20271031T020000
TZOFFSETFROM:+0100
TZOFFSETTO:+0200
TZNAME:Europe/Berlin CEST
END:DAYLIGHT
END:VTIMEZONE
BEGIN:VEVENT
UID:c83e2f0d0bd4d5a0403629c18986b650
CATEGORIES:Kongresse
CREATED:20230112T162750
SUMMARY:Eppendorfer Airwayworkshop
LOCATION:Lehr- und Simulationszentrum der Klinik und Poliklinik für Anästhesiologie,
  Universitätsklinikum Hamburg-Eppendorf
DESCRIPTION;ENCODING=QUOTED-PRINTABLE:\n\nDie Atemwegssicherung ist eine der wichtigsten Kernkompetenzen in der A
 nästhesiologie, Intensivmedizin und Notfallmedizin. Zur Beherrschung des s
 chwierigen Atemweges ist daher neben einem hohen fachlichen Wissen auch ein
  intensives Training der technischen Fertigkeiten erforderlich. Entscheiden
 de Faktoren in Notfallsituationen sind zudem die Interaktion und Kommunikat
 ion im Team.\n\n\nUnser Eppendorfer Airwayworkshop hat daher zum Ziel, fund
 iertes Wissen zum Thema zu vermitteln, Ausblicke auf neue Entwicklungen zu 
 geben, aber auch aktuelle kontroverse Debatten aufzugreifen. Der Schwerpunk
 t unseres Workshops liegt hierbei bei den praktischen Übungen der gängige
 n, aber auch der seltenen (Notfall-) Techniken der Atemwegssicherung bei Ki
 ndern und Erwachsenen. In 6 Modulen mit insgesamt 26 praktischen Übungen w
 ollen wir alle wichtigen technischen Fertigkeiten vertiefen und im Rahmen v
 on simulierten Szenarien in bestehende klinische Algorithmen einbetten.\n\n
 \nAufgrund der Möglichkeiten unseres Simulationszentrums, dem großen Instr
 uktorenteam und der begrenzten Teilnehmerzahl (16 Personen) haben wir optim
 ale Voraussetzungen, um an verschiedenen Atemwegsphantomen und Tierpräpara
 ten ein intensives praktisches Atemwegstraining durchzuführen.\n
DTSTAMP:20260423T014152Z
DTSTART;TZID=Europe/Berlin:20231020T160000
DTEND;TZID=Europe/Berlin:20231022T180000
SEQUENCE:0
TRANSP:OPAQUE
END:VEVENT
END:VCALENDAR