BEGIN:VCALENDAR
VERSION:2.0
PRODID:-//jEvents 2.0 for Joomla//EN
CALSCALE:GREGORIAN
METHOD:PUBLISH
BEGIN:VTIMEZONE
TZID:Europe/Berlin
BEGIN:STANDARD
DTSTART:20221030T020000
RDATE:20230326T030000
TZOFFSETFROM:+0200
TZOFFSETTO:+0100
TZNAME:Europe/Berlin CET
END:STANDARD
BEGIN:STANDARD
DTSTART:20231029T020000
RDATE:20240331T030000
TZOFFSETFROM:+0200
TZOFFSETTO:+0100
TZNAME:Europe/Berlin CET
END:STANDARD
BEGIN:STANDARD
DTSTART:20241027T020000
RDATE:20250330T030000
TZOFFSETFROM:+0200
TZOFFSETTO:+0100
TZNAME:Europe/Berlin CET
END:STANDARD
BEGIN:STANDARD
DTSTART:20251026T020000
RDATE:20260329T030000
TZOFFSETFROM:+0200
TZOFFSETTO:+0100
TZNAME:Europe/Berlin CET
END:STANDARD
BEGIN:STANDARD
DTSTART:20261025T020000
RDATE:20270328T030000
TZOFFSETFROM:+0200
TZOFFSETTO:+0100
TZNAME:Europe/Berlin CET
END:STANDARD
BEGIN:STANDARD
DTSTART:20271031T020000
RDATE:20280326T030000
TZOFFSETFROM:+0200
TZOFFSETTO:+0100
TZNAME:Europe/Berlin CET
END:STANDARD
BEGIN:DAYLIGHT
DTSTART:20221005T000000
RDATE:20221030T020000
TZOFFSETFROM:+0100
TZOFFSETTO:+0200
TZNAME:Europe/Berlin CEST
END:DAYLIGHT
BEGIN:DAYLIGHT
DTSTART:20230326T030000
RDATE:20231029T020000
TZOFFSETFROM:+0100
TZOFFSETTO:+0200
TZNAME:Europe/Berlin CEST
END:DAYLIGHT
BEGIN:DAYLIGHT
DTSTART:20240331T030000
RDATE:20241027T020000
TZOFFSETFROM:+0100
TZOFFSETTO:+0200
TZNAME:Europe/Berlin CEST
END:DAYLIGHT
BEGIN:DAYLIGHT
DTSTART:20250330T030000
RDATE:20251026T020000
TZOFFSETFROM:+0100
TZOFFSETTO:+0200
TZNAME:Europe/Berlin CEST
END:DAYLIGHT
BEGIN:DAYLIGHT
DTSTART:20260329T030000
RDATE:20261025T020000
TZOFFSETFROM:+0100
TZOFFSETTO:+0200
TZNAME:Europe/Berlin CEST
END:DAYLIGHT
BEGIN:DAYLIGHT
DTSTART:20270328T030000
RDATE:20271031T020000
TZOFFSETFROM:+0100
TZOFFSETTO:+0200
TZNAME:Europe/Berlin CEST
END:DAYLIGHT
END:VTIMEZONE
BEGIN:VEVENT
UID:f094269e6ceed89002e4d72e3c6498e4
CATEGORIES:Kongresse
CREATED:20230130T153944
SUMMARY:Perioperative Fokussierte Echokardiografie (PFE) PFE Module 1 und 2 inkl. E-Learning der DGAI zum Erwerb des PFE-Zertifikats 
LOCATION:Fulda
DESCRIPTION;ENCODING=QUOTED-PRINTABLE:\n\n \n\n\n06.10.2023\n\n\nMit den Theoriekenntnissen aus dem vorgeschaltet
 en E-Learning erfolgen im Grundkurs die praktische Einstellung der Schnitte
 benen und die klinische Bearbeitung der folgenden Fragestellungen:\n\n - Re
 chts-/Linksherzfunktion: Schnittebenen\n - Füllung: Schnittebenen, Messmeth
 oden\n - Kontraktilität: Eye-Balling, Messmethoden\n - Aorten- und Mitralkl
 appe: Funktionsbeurteilung\n - Perikarderguss: Schnittebenen\n - Limitation
 en einer fokussierten TTE\n\n 13:00 Uhr - 18:30 Uhr Vorträge + praktische Ü
 bungen\n\n\n07.10.2023\n\n\nAufbauend auf dem Grundkurs fokussiert der Aufb
 aukurs auf der Beurteilung der systolischen und diastolischen Ventrikel- un
 d Klappenfunktion und der Erkennung von Pathologien unter Einbindung von Do
 ppler-Verfahren und weiteren Messmethoden.\n\n\n09:00 Uhr - 14:30 Uhr Vortr
 äge + praktische Übungen\n\n\n \n\n\nVeranstalter\n\n\nKlinikum Fulda Studi
 enzentrum GmbH\n\n\n \n\n\nKursleitung \n\n\nOÄ Dr. med. Eva Schieb\n\n\nKl
 inik für Anästhesiologie, Intensiv-\n\n\nund Notfallmedizin \n Klinikum Ful
 da\n\n\nPacelliallee 4, 36043 Fulda\n\n\n \n\n\nAnmeldung / Organisation\n\
 n\nFr. Monique Richter\n\n\nKlinik für Anästhesiologie, Intensiv-\n\n\nund 
 Notfallmedizin \n Klinikum Fulda\n\n\nPacelliallee 4, 36043 Fulda\n\n\n \n\
 n\nTelefon: +49 661 – 84 6041\n\n\nTelefax: +49 661 – 84 6043\n\n\nEmail: D
 iese E-Mail-Adresse ist vor Spambots geschützt! Zur Anzeige muss JavaScript
  eingeschaltet sein!
				document.getElementById('cloakb36ebdd3b610927e5617
 2372023ae4e3').innerHTML = '';
				var prefix = '&#109;a' + 'i&#108;' + '&#
 116;o';
				var path = 'hr' + 'ef' + '=';
				var addyb36ebdd3b610927e56172
 372023ae4e3 = 's&#101;k.&#97;n&#97;&#101;sth' + '&#64;';
				addyb36ebdd3b6
 10927e56172372023ae4e3 = addyb36ebdd3b610927e56172372023ae4e3 + 'kl&#105;n&
 #105;k&#117;m-f&#117;ld&#97;' + '&#46;' + 'd&#101;';
				var addy_textb36eb
 dd3b610927e56172372023ae4e3 = 's&#101;k.&#97;n&#97;&#101;sth' + '&#64;' + '
 kl&#105;n&#105;k&#117;m-f&#117;ld&#97;' + '&#46;' + 'd&#101;';document.getE
 lementById('cloakb36ebdd3b610927e56172372023ae4e3').innerHTML += ''+addy_te
 xtb36ebdd3b610927e56172372023ae4e3+'';
		\n\n\nwww.klinikum-fulda.de\n
DTSTAMP:20260424T001732Z
DTSTART;TZID=Europe/Berlin;VALUE=DATE:20231006
DTEND;TZID=Europe/Berlin;VALUE=DATE:20231008
SEQUENCE:0
TRANSP:OPAQUE
END:VEVENT
END:VCALENDAR