BEGIN:VCALENDAR
VERSION:2.0
PRODID:-//jEvents 2.0 for Joomla//EN
CALSCALE:GREGORIAN
METHOD:PUBLISH
BEGIN:VTIMEZONE
TZID:Europe/Berlin
BEGIN:STANDARD
DTSTART:20221030T020000
RDATE:20230326T030000
TZOFFSETFROM:+0200
TZOFFSETTO:+0100
TZNAME:Europe/Berlin CET
END:STANDARD
BEGIN:STANDARD
DTSTART:20231029T020000
RDATE:20240331T030000
TZOFFSETFROM:+0200
TZOFFSETTO:+0100
TZNAME:Europe/Berlin CET
END:STANDARD
BEGIN:STANDARD
DTSTART:20241027T020000
RDATE:20250330T030000
TZOFFSETFROM:+0200
TZOFFSETTO:+0100
TZNAME:Europe/Berlin CET
END:STANDARD
BEGIN:STANDARD
DTSTART:20251026T020000
RDATE:20260329T030000
TZOFFSETFROM:+0200
TZOFFSETTO:+0100
TZNAME:Europe/Berlin CET
END:STANDARD
BEGIN:STANDARD
DTSTART:20261025T020000
RDATE:20270328T030000
TZOFFSETFROM:+0200
TZOFFSETTO:+0100
TZNAME:Europe/Berlin CET
END:STANDARD
BEGIN:STANDARD
DTSTART:20271031T020000
RDATE:20280326T030000
TZOFFSETFROM:+0200
TZOFFSETTO:+0100
TZNAME:Europe/Berlin CET
END:STANDARD
BEGIN:DAYLIGHT
DTSTART:20220622T000000
RDATE:20221030T020000
TZOFFSETFROM:+0100
TZOFFSETTO:+0200
TZNAME:Europe/Berlin CEST
END:DAYLIGHT
BEGIN:DAYLIGHT
DTSTART:20230326T030000
RDATE:20231029T020000
TZOFFSETFROM:+0100
TZOFFSETTO:+0200
TZNAME:Europe/Berlin CEST
END:DAYLIGHT
BEGIN:DAYLIGHT
DTSTART:20240331T030000
RDATE:20241027T020000
TZOFFSETFROM:+0100
TZOFFSETTO:+0200
TZNAME:Europe/Berlin CEST
END:DAYLIGHT
BEGIN:DAYLIGHT
DTSTART:20250330T030000
RDATE:20251026T020000
TZOFFSETFROM:+0100
TZOFFSETTO:+0200
TZNAME:Europe/Berlin CEST
END:DAYLIGHT
BEGIN:DAYLIGHT
DTSTART:20260329T030000
RDATE:20261025T020000
TZOFFSETFROM:+0100
TZOFFSETTO:+0200
TZNAME:Europe/Berlin CEST
END:DAYLIGHT
BEGIN:DAYLIGHT
DTSTART:20270328T030000
RDATE:20271031T020000
TZOFFSETFROM:+0100
TZOFFSETTO:+0200
TZNAME:Europe/Berlin CEST
END:DAYLIGHT
END:VTIMEZONE
BEGIN:VEVENT
UID:95b6efb1d453b03cf389889590ffeca0
CATEGORIES:Kongresse
CREATED:20230203T142029
SUMMARY:Hamburger Kurs Invasive Notfalltechniken
LOCATION:Universitätsklinikum Hamburg-Eppendorf, Institut für Rechtsmedizin
DESCRIPTION;ENCODING=QUOTED-PRINTABLE:Sehr geehrte Kolleginnen und Kollegen,\nder Einsatz invasiver Techniken in 
 der Notfallmedizin – z. B. der intraossäre Zugang, die Koniotomie oder die 
 Thoraxdrainage – ist bei bestehender Indikation alternativlos und für jede/
 n notfallmedizinisch tätige/n Ärzt:in oder nichtärztliches Fachpersonal gle
 ichermaßen eine große Herausforderung. Personelle, zeitliche und örtliche R
 ahmenbedingungen sind häufig ungünstig. Selbst bei regelmäßiger Tätigkeit i
 n notfallmedizinisch relevanten Arbeitsbereichen wie dem Rettungsdienst, de
 m Schockraum, im OP-Bereich oder auf der Intensivstation bleiben invasive M
 aßnahmen eine Seltenheit. Die aktuellen Reanimationsleitlinien beinhalten –
  gerade beim traumatischen Herzkreislaufstillstand – Maßnahmen von bisher u
 ngewohnter Invasivität.\nMit unserem Hamburger Kurs Invasive Notfalltechnik
 en am Institut für Rechtsmedizin des UKE, unterstützt von der AGNN, möchten
  wir Ihnen Indikation und Durchführung verschiedener invasiver Maßnahmen na
 hebringen, Unsicherheiten im Umgang damit abbauen und Sie über moderne Verf
 ahrensweisen in Ultima-ratio-Situationen informieren. Ein besonderer Schwer
 punkt liegt bei diesem Kurs auf den vielfältigen praktischen und realitätsn
 ahen Übungen.\n\n\n \n
DTSTAMP:20260424T051646Z
DTSTART;TZID=Europe/Berlin;VALUE=DATE:20230623
DTEND;TZID=Europe/Berlin;VALUE=DATE:20230624
SEQUENCE:0
TRANSP:OPAQUE
END:VEVENT
END:VCALENDAR