BEGIN:VCALENDAR
VERSION:2.0
PRODID:-//jEvents 2.0 for Joomla//EN
CALSCALE:GREGORIAN
METHOD:PUBLISH
BEGIN:VTIMEZONE
TZID:Europe/Berlin
BEGIN:STANDARD
DTSTART:20221030T020000
RDATE:20230326T030000
TZOFFSETFROM:+0200
TZOFFSETTO:+0100
TZNAME:Europe/Berlin CET
END:STANDARD
BEGIN:STANDARD
DTSTART:20231029T020000
RDATE:20240331T030000
TZOFFSETFROM:+0200
TZOFFSETTO:+0100
TZNAME:Europe/Berlin CET
END:STANDARD
BEGIN:STANDARD
DTSTART:20241027T020000
RDATE:20250330T030000
TZOFFSETFROM:+0200
TZOFFSETTO:+0100
TZNAME:Europe/Berlin CET
END:STANDARD
BEGIN:STANDARD
DTSTART:20251026T020000
RDATE:20260329T030000
TZOFFSETFROM:+0200
TZOFFSETTO:+0100
TZNAME:Europe/Berlin CET
END:STANDARD
BEGIN:STANDARD
DTSTART:20261025T020000
RDATE:20270328T030000
TZOFFSETFROM:+0200
TZOFFSETTO:+0100
TZNAME:Europe/Berlin CET
END:STANDARD
BEGIN:STANDARD
DTSTART:20271031T020000
RDATE:20280326T030000
TZOFFSETFROM:+0200
TZOFFSETTO:+0100
TZNAME:Europe/Berlin CET
END:STANDARD
BEGIN:DAYLIGHT
DTSTART:20220629T000000
RDATE:20221030T020000
TZOFFSETFROM:+0100
TZOFFSETTO:+0200
TZNAME:Europe/Berlin CEST
END:DAYLIGHT
BEGIN:DAYLIGHT
DTSTART:20230326T030000
RDATE:20231029T020000
TZOFFSETFROM:+0100
TZOFFSETTO:+0200
TZNAME:Europe/Berlin CEST
END:DAYLIGHT
BEGIN:DAYLIGHT
DTSTART:20240331T030000
RDATE:20241027T020000
TZOFFSETFROM:+0100
TZOFFSETTO:+0200
TZNAME:Europe/Berlin CEST
END:DAYLIGHT
BEGIN:DAYLIGHT
DTSTART:20250330T030000
RDATE:20251026T020000
TZOFFSETFROM:+0100
TZOFFSETTO:+0200
TZNAME:Europe/Berlin CEST
END:DAYLIGHT
BEGIN:DAYLIGHT
DTSTART:20260329T030000
RDATE:20261025T020000
TZOFFSETFROM:+0100
TZOFFSETTO:+0200
TZNAME:Europe/Berlin CEST
END:DAYLIGHT
BEGIN:DAYLIGHT
DTSTART:20270328T030000
RDATE:20271031T020000
TZOFFSETFROM:+0100
TZOFFSETTO:+0200
TZNAME:Europe/Berlin CEST
END:DAYLIGHT
END:VTIMEZONE
BEGIN:VEVENT
UID:61cbe9b1f8aa037a6543eaee68a73e24
CATEGORIES:Kongresse
CREATED:20230205T101857
SUMMARY:10. Luzerner Repetitorium Kinderanästhesie
LOCATION:Luzerner Kantonsspital 
DESCRIPTION;ENCODING=QUOTED-PRINTABLE:\n\nWir freuen uns Sie zum 10. Luzerner Repetitorium Kinderanästhesie einzu
 laden.\n\n\nDas Repetitorium findet am 30. Juni und 1. Juli 2023 am Luzerne
 r Kantonsspital statt. Alternativ kann das Repetitoium auch online besucht 
 werden. \n\n\nZiel des Repetitoriums ist es, neuste Entwicklungen mit dem B
 asiswissen der Kinderanästhesie zu verknüpfen und Tipps und Tricks von Expe
 rten für den praktischen Alltag von Anästhesisten und Anästhesiepflegefachp
 ersonen zu vermitteln. Das Repetitorium bietet zudem eine ideale Plattform 
 für Diskussionen, Wissensaustausch und Bildung persönlicher Kontakte. \n\n\
 nWir freuen uns Sie an diesem Anlass zu begrüssen.\n
DTSTAMP:20260424T131127Z
DTSTART;TZID=Europe/Berlin;VALUE=DATE:20230630
DTEND;TZID=Europe/Berlin;VALUE=DATE:20230702
SEQUENCE:0
TRANSP:OPAQUE
END:VEVENT
END:VCALENDAR