BEGIN:VCALENDAR
VERSION:2.0
PRODID:-//jEvents 2.0 for Joomla//EN
CALSCALE:GREGORIAN
METHOD:PUBLISH
BEGIN:VTIMEZONE
TZID:Europe/Berlin
BEGIN:STANDARD
DTSTART:20221030T020000
RDATE:20230326T030000
TZOFFSETFROM:+0200
TZOFFSETTO:+0100
TZNAME:Europe/Berlin CET
END:STANDARD
BEGIN:STANDARD
DTSTART:20231029T020000
RDATE:20240331T030000
TZOFFSETFROM:+0200
TZOFFSETTO:+0100
TZNAME:Europe/Berlin CET
END:STANDARD
BEGIN:STANDARD
DTSTART:20241027T020000
RDATE:20250330T030000
TZOFFSETFROM:+0200
TZOFFSETTO:+0100
TZNAME:Europe/Berlin CET
END:STANDARD
BEGIN:STANDARD
DTSTART:20251026T020000
RDATE:20260329T030000
TZOFFSETFROM:+0200
TZOFFSETTO:+0100
TZNAME:Europe/Berlin CET
END:STANDARD
BEGIN:STANDARD
DTSTART:20261025T020000
RDATE:20270328T030000
TZOFFSETFROM:+0200
TZOFFSETTO:+0100
TZNAME:Europe/Berlin CET
END:STANDARD
BEGIN:STANDARD
DTSTART:20271031T020000
RDATE:20280326T030000
TZOFFSETFROM:+0200
TZOFFSETTO:+0100
TZNAME:Europe/Berlin CET
END:STANDARD
BEGIN:DAYLIGHT
DTSTART:20220919T000000
RDATE:20221030T020000
TZOFFSETFROM:+0100
TZOFFSETTO:+0200
TZNAME:Europe/Berlin CEST
END:DAYLIGHT
BEGIN:DAYLIGHT
DTSTART:20230326T030000
RDATE:20231029T020000
TZOFFSETFROM:+0100
TZOFFSETTO:+0200
TZNAME:Europe/Berlin CEST
END:DAYLIGHT
BEGIN:DAYLIGHT
DTSTART:20240331T030000
RDATE:20241027T020000
TZOFFSETFROM:+0100
TZOFFSETTO:+0200
TZNAME:Europe/Berlin CEST
END:DAYLIGHT
BEGIN:DAYLIGHT
DTSTART:20250330T030000
RDATE:20251026T020000
TZOFFSETFROM:+0100
TZOFFSETTO:+0200
TZNAME:Europe/Berlin CEST
END:DAYLIGHT
BEGIN:DAYLIGHT
DTSTART:20260329T030000
RDATE:20261025T020000
TZOFFSETFROM:+0100
TZOFFSETTO:+0200
TZNAME:Europe/Berlin CEST
END:DAYLIGHT
BEGIN:DAYLIGHT
DTSTART:20270328T030000
RDATE:20271031T020000
TZOFFSETFROM:+0100
TZOFFSETTO:+0200
TZNAME:Europe/Berlin CEST
END:DAYLIGHT
END:VTIMEZONE
BEGIN:VEVENT
UID:cc5b35d0d2f619d500c8df388073e11a
CATEGORIES:Kongresse
CREATED:20230207T084611
SUMMARY:56. Jahrestagung der DGTI 2023
LOCATION:Mecure Hotel Moa Berlin 
DESCRIPTION;ENCODING=QUOTED-PRINTABLE:\n\nSehr geehrte Kolleginnen und Kollegen, \n\n\nnach mehr als 10 Jahren wi
 rd der 56. Jahreskongress der Deutschen Gesellschaft für Transfusionsmedizi
 n und Immunhämatologie (DGTI) im September 2023 wieder in Berlin stattfinde
 n. Gastgeber sind das Institut für Transfusionsmedizin und Transplantat Eng
 ineering der Medizinischen Hochschule Hannover sowie der Blutspendedienst d
 es Bayerischen Roten Kreuzes. Diese Kombination steht für Innovation, Inter
 disziplinarität und Integration in der breiten Versorgung mit Blutkomponent
 en genauso wie in der hochspezialisierten Zelltherapie.  \n\n\nTransfusions
 medizin ist personalisierte Medizin. Sie deckt mit ihren Teilbereichen Immu
 nhämatologie und Hämotherapie sowie Transplantationsimmunologie mit Zell- u
 nd Gewebetherapie eine sehr große Bandbreite an unabdingbaren und zukunftsr
 elevanten Themen ab. Die aktuellen Krisen machen deutlich, wie essenziell, 
 aber auch fragil eine sichere und gesicherte medizinische Versorgung ist. U
 mso wichtiger ist es, dass unser Fachgebiet nicht müde wird, an Konzepten, 
 Technologien und Strukturen zu arbeiten, die jederzeit die Versorgung der B
 evölkerung mit Blutprodukten und innovativen Zelltherapeutika auf höchstem 
 Niveau ermöglichen. Darüber hinaus kann und sollte die Transfusionsmedizin 
 mit ihrer einmaligen klinisch-pharmazeutischen Expertise, welche vom Spende
 rmanagement über die Infektions- und Kompatibilitätsdiagnostik bis hin zur 
 Herstellung und Verabreichung passgenauer, standardisierter Produkte mensch
 lichen Ursprungs reicht, eine Schlüsselrolle bei der Entwicklung neuer zell
 basierter Therapien spielen. \n\n\nDie Komplexität und die Herausforderunge
 n der modernen Transfusionsmedizin verlangen eine enge und vertrauensvolle 
 Zusammenarbeit unterschiedlicher Disziplinen und Berufsgruppen. In guter Tr
 adition sind auch dieses Mal wieder transfusionsmedizinisches Fachpersonal 
 und Kolleginnen und Kollegen angrenzender Fachgebiete zu Fortbildungsverans
 taltungen eingeladen. \n\n\nDie Zukunftsfähigkeit des Fachgebietes hängt en
 tscheidend davon ab, ob wir Nachwuchskräfte von der Attraktivität unserer T
 hemen überzeugen können und ihnen Raum und Möglichkeiten für eigenes wissen
 schaftliches Engagement bieten. Ein Schwerpunkt des Berliner Kongresses wir
 d daher sein, insbesondere den jüngeren Kolleginnen und Kollegen eine Platt
 form für die Präsentation ihrer Beiträge im Rahmen von Vortrags- und Poster
 veranstaltungen zu geben. Zudem werden wir Nachwuchswissenschaftlerinnen un
 d Nachwuchswissenschaftler zu einem Young Investigator/Scientific Career Br
 eakfast einladen, um den Austausch mit erfahrenen Wissenschaftlerinnen und 
 Wissenschaftlern zu fördern. \n\n\nOhne den engen Austausch zwischen Wissen
 schaft, den Herstellern von Medizinprodukten und Diagnostika sowie deren An
 wenderinnen und Anwendern sind weder ein technologischer Fortschritt noch e
 ine optimale transfusionsmedizinische Versorgung denkbar. Die Industrieauss
 tellung wird direkt in das Kongressgeschehen integriert, um eine hervorrage
 nde Kommunikation mit den Kongressteilnehmerinnen und Kongressteilnehmern z
 u ermöglichen. Lunch-Symposien und Standplätze werden wieder den Rahmen für
  diese wichtige Form der persönlichen Interaktion schaffen. \n\n\nGemeinsam
  mit dem Programmkomitee und dem Vorstand der DGTI freuen wir uns sehr, Sie
  in Berlin begrüßen zu dürfen und bedanken uns bereits jetzt bei Ihnen. Nur
  mit Ihrer Unterstützung kann der Kongress zu einem Erfolg und unvergesslic
 hem Erlebnis werden. \n\n\nMit herzlichen Grüßen \n\n\nRainer Blasczyk und 
 Axel Seltsam, Kongresspräsidenten \n
DTSTAMP:20260424T114012Z
DTSTART;TZID=Europe/Berlin;VALUE=DATE:20230920
DTEND;TZID=Europe/Berlin;VALUE=DATE:20230923
SEQUENCE:0
TRANSP:OPAQUE
END:VEVENT
END:VCALENDAR