BEGIN:VCALENDAR
VERSION:2.0
PRODID:-//jEvents 2.0 for Joomla//EN
CALSCALE:GREGORIAN
METHOD:PUBLISH
BEGIN:VTIMEZONE
TZID:Europe/Berlin
BEGIN:STANDARD
DTSTART:20221030T020000
RDATE:20230326T030000
TZOFFSETFROM:+0200
TZOFFSETTO:+0100
TZNAME:Europe/Berlin CET
END:STANDARD
BEGIN:STANDARD
DTSTART:20231029T020000
RDATE:20240331T030000
TZOFFSETFROM:+0200
TZOFFSETTO:+0100
TZNAME:Europe/Berlin CET
END:STANDARD
BEGIN:STANDARD
DTSTART:20241027T020000
RDATE:20250330T030000
TZOFFSETFROM:+0200
TZOFFSETTO:+0100
TZNAME:Europe/Berlin CET
END:STANDARD
BEGIN:STANDARD
DTSTART:20251026T020000
RDATE:20260329T030000
TZOFFSETFROM:+0200
TZOFFSETTO:+0100
TZNAME:Europe/Berlin CET
END:STANDARD
BEGIN:STANDARD
DTSTART:20261025T020000
RDATE:20270328T030000
TZOFFSETFROM:+0200
TZOFFSETTO:+0100
TZNAME:Europe/Berlin CET
END:STANDARD
BEGIN:STANDARD
DTSTART:20271031T020000
RDATE:20280326T030000
TZOFFSETFROM:+0200
TZOFFSETTO:+0100
TZNAME:Europe/Berlin CET
END:STANDARD
BEGIN:DAYLIGHT
DTSTART:20221024T000000
RDATE:20221030T020000
TZOFFSETFROM:+0100
TZOFFSETTO:+0200
TZNAME:Europe/Berlin CEST
END:DAYLIGHT
BEGIN:DAYLIGHT
DTSTART:20230326T030000
RDATE:20231029T020000
TZOFFSETFROM:+0100
TZOFFSETTO:+0200
TZNAME:Europe/Berlin CEST
END:DAYLIGHT
BEGIN:DAYLIGHT
DTSTART:20240331T030000
RDATE:20241027T020000
TZOFFSETFROM:+0100
TZOFFSETTO:+0200
TZNAME:Europe/Berlin CEST
END:DAYLIGHT
BEGIN:DAYLIGHT
DTSTART:20250330T030000
RDATE:20251026T020000
TZOFFSETFROM:+0100
TZOFFSETTO:+0200
TZNAME:Europe/Berlin CEST
END:DAYLIGHT
BEGIN:DAYLIGHT
DTSTART:20260329T030000
RDATE:20261025T020000
TZOFFSETFROM:+0100
TZOFFSETTO:+0200
TZNAME:Europe/Berlin CEST
END:DAYLIGHT
BEGIN:DAYLIGHT
DTSTART:20270328T030000
RDATE:20271031T020000
TZOFFSETFROM:+0100
TZOFFSETTO:+0200
TZNAME:Europe/Berlin CEST
END:DAYLIGHT
END:VTIMEZONE
BEGIN:VEVENT
UID:2b408a6733780c3975dee00fb77de63c
CATEGORIES:Kongresse
CREATED:20230216T164433
SUMMARY:Anästhesie bei herzchirurgischen und interventionellen kardiologischen Eingriffen
LOCATION:Münster
DESCRIPTION;ENCODING=QUOTED-PRINTABLE:\n\nCurriculare Fortbildung - Anästhesie bei herzchirurgischen und interven
 tionellen kardiologischen Eingriffen \n\n\nBlended-Learning-Angebot - gem. 
 Curriculum der ÄKWL und den Empfehlungen der DGAI\n\n\n \n\n\nDie Ärztekamm
 er Westfalen-Lippe hat gemeinsam mit Vertretern des wissenschaftlichen Arbe
 itskreises Kardioanästhesie der Deutschen Gesellschaft für Anästhesiologie 
 und Intensivmedizin die Curriculare Fortbildung „Anästhesie bei herzchirurg
 ischen und interventionellen kardiologischen Eingriffen“ erarbeitet. Die Fo
 rtbildung schließt nach erfolgreicher Absolvierung der Lernerfolgskontrolle
  nach dem Theorieteil, dem Nachweis über den erforderlichen klinischpraktis
 chen Teil und einem Abschlusskolloquium mit dem Zertifikat der Ärztekammer 
 Westfalen-Lippe ab. \n\n\nDie Fortbildung richtet sich bundesweit an Fachär
 ztinnen und Fachärzte für Anästhesiologie deren Tätigkeit in der Herzchirur
 gie und/oder interventionellen Kardiologie einer engen Einbindung in die pe
 rioperative Diagnostik und Therapie sowie der besonderen Expertise in der K
 ooperation mit Fachärztinnen und Fachärzten für Herzchirurgie und/oder Kard
 iologie bedarf. \n\n\nDie Curriculare Fortbildung, die in Form von Blended 
 Learning angeboten wird, bietet durch renommierte und erfahrene Referentinn
 en und Referenten einen aktuellen Überblick und fachlichen Austausch über d
 ie wesentlichen Aspekte der Kardioanästhesie. Bei der Fortbildung handelt e
 s sich um ein kammerbreichsübergreifendes Angebot, so dass Teilnehmende aus
  Bereichen anderer Ärztekammern herzlich willkommen sind. \n\n\n \n\n\nWiss
 enschaftliche Leitung\n\n\n\nProf. Dr. med. Uwe Schirmer, MBA, ehem. Direkt
 or des Instituts für Anästhesiologie und Schmerztherapie, HDZ-NRW,\nBad Oey
 nhausen, Ruhr-Universität Bochum\n\n\n\nDr. med. Andreas Brünen, Oberarzt d
 er Klinik für Anästhesiologie, operative Intensivmedizin und Schmerztherapi
 e,\nUniversitätsklinikum Münster\n
DTSTAMP:20260422T200202Z
DTSTART;TZID=Europe/Berlin;VALUE=DATE:20231025
DTEND;TZID=Europe/Berlin;VALUE=DATE:20231029
SEQUENCE:0
TRANSP:OPAQUE
END:VEVENT
END:VCALENDAR