BEGIN:VCALENDAR
VERSION:2.0
PRODID:-//jEvents 2.0 for Joomla//EN
CALSCALE:GREGORIAN
METHOD:PUBLISH
BEGIN:VTIMEZONE
TZID:Europe/Berlin
BEGIN:STANDARD
DTSTART:20221030T020000
RDATE:20230326T030000
TZOFFSETFROM:+0200
TZOFFSETTO:+0100
TZNAME:Europe/Berlin CET
END:STANDARD
BEGIN:STANDARD
DTSTART:20231029T020000
RDATE:20240331T030000
TZOFFSETFROM:+0200
TZOFFSETTO:+0100
TZNAME:Europe/Berlin CET
END:STANDARD
BEGIN:STANDARD
DTSTART:20241027T020000
RDATE:20250330T030000
TZOFFSETFROM:+0200
TZOFFSETTO:+0100
TZNAME:Europe/Berlin CET
END:STANDARD
BEGIN:STANDARD
DTSTART:20251026T020000
RDATE:20260329T030000
TZOFFSETFROM:+0200
TZOFFSETTO:+0100
TZNAME:Europe/Berlin CET
END:STANDARD
BEGIN:STANDARD
DTSTART:20261025T020000
RDATE:20270328T030000
TZOFFSETFROM:+0200
TZOFFSETTO:+0100
TZNAME:Europe/Berlin CET
END:STANDARD
BEGIN:STANDARD
DTSTART:20271031T020000
RDATE:20280326T030000
TZOFFSETFROM:+0200
TZOFFSETTO:+0100
TZNAME:Europe/Berlin CET
END:STANDARD
BEGIN:DAYLIGHT
DTSTART:20220516T140000
RDATE:20221030T020000
TZOFFSETFROM:+0100
TZOFFSETTO:+0200
TZNAME:Europe/Berlin CEST
END:DAYLIGHT
BEGIN:DAYLIGHT
DTSTART:20230326T030000
RDATE:20231029T020000
TZOFFSETFROM:+0100
TZOFFSETTO:+0200
TZNAME:Europe/Berlin CEST
END:DAYLIGHT
BEGIN:DAYLIGHT
DTSTART:20240331T030000
RDATE:20241027T020000
TZOFFSETFROM:+0100
TZOFFSETTO:+0200
TZNAME:Europe/Berlin CEST
END:DAYLIGHT
BEGIN:DAYLIGHT
DTSTART:20250330T030000
RDATE:20251026T020000
TZOFFSETFROM:+0100
TZOFFSETTO:+0200
TZNAME:Europe/Berlin CEST
END:DAYLIGHT
BEGIN:DAYLIGHT
DTSTART:20260329T030000
RDATE:20261025T020000
TZOFFSETFROM:+0100
TZOFFSETTO:+0200
TZNAME:Europe/Berlin CEST
END:DAYLIGHT
BEGIN:DAYLIGHT
DTSTART:20270328T030000
RDATE:20271031T020000
TZOFFSETFROM:+0100
TZOFFSETTO:+0200
TZNAME:Europe/Berlin CEST
END:DAYLIGHT
END:VTIMEZONE
BEGIN:VEVENT
UID:955454cb95071ae0d67fe3741c89e5e2
CATEGORIES:Kongresse
CREATED:20230216T211727
SUMMARY:Repetitorium Kinderanästhesie 2023
LOCATION:Landhotel und Seminarpark Rössle
DESCRIPTION;ENCODING=QUOTED-PRINTABLE:\n\nDas beliebte Repetitorium Kinderanästhesie ist zurück als Präsenzverans
 taltung im schönen Hotel Rössle in Stimpfach-Rechenberg!\n\n\nBringen Sie I
 hr Wissen auf den aktuellen Stand und diskutieren Sie Ihre Fragen mit uns.\
 n\n\nAm vorgeschalteten Mittwoch bieten wir Ihnen das neu konzipierte Zirke
 ltraining Kinderanästhesie an, bei dem Sie wichtige praktische Fähigkeiten 
 mit unseren Dozenten in Kleingruppen trainieren (bitte gesondert hinzubuche
 n): Kaudalanästhesie am Simulationsmodell, intraossäre Punktion, Beatmungsm
 anagement Früh- und Neugeborene, Refresher ALS, Medikamentensicherheit, ult
 raschallgezielte Punktion und ZVK-Anlage.\n\n\nAm Donnerstag (Feiertag) wer
 den die Basics der Kinderanästhesie von der präoperativen Evaluation über d
 ie Narkoseeinleitung bis zur Schmerztherapie in einer logischen Reihenfolge
  in 30-minütigen Vorträgen präsentiert und dann mit Ihnen diskutiert. Am Fr
 eitag (Brückentag) und Samstag bieten wir Ihnen speziellere kinderanästhesi
 ologische Themen wie beispielsweise invasive Zugänge, Anästhesie bei Kinder
 n mit Herzfehlern, Erstversorgung von Früh- und Neugeborenen, Regionalanäst
 hesie und Kindernotfälle an.\n\n\nHighlights:\n\n - Bis zu 23 CME-Punkte\n 
 - Referenten mit exzellenter Expertise\n - Auf das Wesentliche konzentriert
 e praxisnahe Vorträge\n - Ausgiebige Diskussionen nach jedem Vortrag\n - Le
 rnen - Fragen - Diskutieren - Schlemmen\n\nZielgruppe sind Anfänger, Fortge
 schrittene und Profis in der Kinderanästhesie.\n\n\nAusführliche Informatio
 nen und die Möglichkeit zur Anmeldung finden Sie auf unserer Webpräsenz htt
 ps://skaga-ev.de.\n\n\n \n
DTSTAMP:20260422T203222Z
DTSTART;TZID=Europe/Berlin:20230517T140000
DTEND;TZID=Europe/Berlin:20230520T130000
SEQUENCE:0
TRANSP:OPAQUE
END:VEVENT
END:VCALENDAR