BEGIN:VCALENDAR
VERSION:2.0
PRODID:-//jEvents 2.0 for Joomla//EN
CALSCALE:GREGORIAN
METHOD:PUBLISH
BEGIN:VTIMEZONE
TZID:Europe/Berlin
BEGIN:STANDARD
DTSTART:20221030T020000
RDATE:20230326T030000
TZOFFSETFROM:+0200
TZOFFSETTO:+0100
TZNAME:Europe/Berlin CET
END:STANDARD
BEGIN:STANDARD
DTSTART:20231029T020000
RDATE:20240331T030000
TZOFFSETFROM:+0200
TZOFFSETTO:+0100
TZNAME:Europe/Berlin CET
END:STANDARD
BEGIN:STANDARD
DTSTART:20241027T020000
RDATE:20250330T030000
TZOFFSETFROM:+0200
TZOFFSETTO:+0100
TZNAME:Europe/Berlin CET
END:STANDARD
BEGIN:STANDARD
DTSTART:20251026T020000
RDATE:20260329T030000
TZOFFSETFROM:+0200
TZOFFSETTO:+0100
TZNAME:Europe/Berlin CET
END:STANDARD
BEGIN:STANDARD
DTSTART:20261025T020000
RDATE:20270328T030000
TZOFFSETFROM:+0200
TZOFFSETTO:+0100
TZNAME:Europe/Berlin CET
END:STANDARD
BEGIN:STANDARD
DTSTART:20271031T020000
RDATE:20280326T030000
TZOFFSETFROM:+0200
TZOFFSETTO:+0100
TZNAME:Europe/Berlin CET
END:STANDARD
BEGIN:DAYLIGHT
DTSTART:20220611T000000
RDATE:20221030T020000
TZOFFSETFROM:+0100
TZOFFSETTO:+0200
TZNAME:Europe/Berlin CEST
END:DAYLIGHT
BEGIN:DAYLIGHT
DTSTART:20230326T030000
RDATE:20231029T020000
TZOFFSETFROM:+0100
TZOFFSETTO:+0200
TZNAME:Europe/Berlin CEST
END:DAYLIGHT
BEGIN:DAYLIGHT
DTSTART:20240331T030000
RDATE:20241027T020000
TZOFFSETFROM:+0100
TZOFFSETTO:+0200
TZNAME:Europe/Berlin CEST
END:DAYLIGHT
BEGIN:DAYLIGHT
DTSTART:20250330T030000
RDATE:20251026T020000
TZOFFSETFROM:+0100
TZOFFSETTO:+0200
TZNAME:Europe/Berlin CEST
END:DAYLIGHT
BEGIN:DAYLIGHT
DTSTART:20260329T030000
RDATE:20261025T020000
TZOFFSETFROM:+0100
TZOFFSETTO:+0200
TZNAME:Europe/Berlin CEST
END:DAYLIGHT
BEGIN:DAYLIGHT
DTSTART:20270328T030000
RDATE:20271031T020000
TZOFFSETFROM:+0100
TZOFFSETTO:+0200
TZNAME:Europe/Berlin CEST
END:DAYLIGHT
END:VTIMEZONE
BEGIN:VEVENT
UID:ce210b079ce976729cd683b32049587e
CATEGORIES:Kongresse
CREATED:20230301T120910
SUMMARY:Newcomer-Seminar Intensivmedizin
LOCATION:Kliniken Maria Hilf 
DESCRIPTION;ENCODING=QUOTED-PRINTABLE:\n\nLiebe Kolleginnen und Kollegen,\n\n\neine Rotation in die Intensivmediz
 in ist in vielen medizinischen Fach- gebieten wie u.a. Anästhesiologie, In
 nere Medizin, Chirurgie oder Neurologie verpflichtend in der Weiterbildung 
 verankert. Allerdings hat die Tätigkeit auf einer Intensivstation oftmals 
 wenig mit Ihren bisherigen Aufgaben und dem klinischen Alltag bis dahin gem
 einsam und ist ein komplett neuer und sehr komplexer Arbeitsbereich.\n\n\nS
 ie sind fast ausschließlich mit vital gefährdeten Patienten konfrontiert, 
 müssen die Pharmakotherapie zur Kreislaufstabilisierung ebenso beherrschen
  wie Beatmungseinstellungen oder invasive Maßnahmen wie Gefäßzugänge, Int
 ubation oder Bronchoskopien.\n\n\nDarüber hinaus müssen Sie leitlinienger
 echte Therapien klassischer Krankheitsbilder wie Sepsis, Schlaganfall, Myok
 ardinfarkt durchführen und auch die intensivmedizinische Versorgung nach T
 rauma oder großen Operationen beherrschen.\n\n\nEntscheidend für die Einle
 itung einer richtigen Diagnostik und Therapie ist es aber, die akuten Probl
 eme Ihrer Patienten zu identifizieren und daraus die richtigen differential
 diagnostischen Schlüsse zu ziehen. Hierfür sind vor allem ein gutes patho
 physiologisches Verständnis und ein strukturiertes Vorgehen essentiell.\n\
 n\nDieses neue, fünftägige Kursformat soll Einsteigern aus allen Fachgebi
 eten in die Intensivmedizin ein strukturiertes Vorgehen bei der intensivmed
 izinischen Versorgung, die pathophysiologischen Grundlagen der wichtigsten 
 Organsysteme, einen differentialdiagnostischen Denkansatz und die wichtigst
 en Standardtherapien vermitteln. Darüber hinaus haben die Teilnehmer die M
 öglichkeit in Praxiseinheiten wichtige praktische Skills wie u.a. Atemwegs
 management, Gefäßzugänge, Bronchoskopie oder Reanimation zu trainieren.\n
 \n\nAlles das soll Ihnen helfen, Ihnen mehr Sicherheit für Ihren Einstieg 
 in die spannende Welt der Intensivmedizin zu geben und auf die typischen Kr
 ankheitsbilder vorzubereiten.\n\n\nUnser interdisziplinäres Referententeam
  aus langjährig in der Intensivmedizin erfahrenen Fach- und Oberärztinnen
  und Oberärzten aus Anästhesiologie, Innerer Medizin, Kardiologie und Neu
 rologie freut sich, Sie demnächst in den Kliniken Maria Hilf zu diesem neu
 en Kurs-format begrüßen zu dürfen.\n\n\nIhr Andreas Hohn\n
DTSTAMP:20260423T142715Z
DTSTART;TZID=Europe/Berlin;VALUE=DATE:20230612
DTEND;TZID=Europe/Berlin;VALUE=DATE:20230617
SEQUENCE:0
TRANSP:OPAQUE
END:VEVENT
END:VCALENDAR