BEGIN:VCALENDAR
VERSION:2.0
PRODID:-//jEvents 2.0 for Joomla//EN
CALSCALE:GREGORIAN
METHOD:PUBLISH
BEGIN:VTIMEZONE
TZID:Europe/Berlin
BEGIN:STANDARD
DTSTART:20221030T020000
RDATE:20230326T030000
TZOFFSETFROM:+0200
TZOFFSETTO:+0100
TZNAME:Europe/Berlin CET
END:STANDARD
BEGIN:STANDARD
DTSTART:20231029T020000
RDATE:20240331T030000
TZOFFSETFROM:+0200
TZOFFSETTO:+0100
TZNAME:Europe/Berlin CET
END:STANDARD
BEGIN:STANDARD
DTSTART:20241027T020000
RDATE:20250330T030000
TZOFFSETFROM:+0200
TZOFFSETTO:+0100
TZNAME:Europe/Berlin CET
END:STANDARD
BEGIN:STANDARD
DTSTART:20251026T020000
RDATE:20260329T030000
TZOFFSETFROM:+0200
TZOFFSETTO:+0100
TZNAME:Europe/Berlin CET
END:STANDARD
BEGIN:STANDARD
DTSTART:20261025T020000
RDATE:20270328T030000
TZOFFSETFROM:+0200
TZOFFSETTO:+0100
TZNAME:Europe/Berlin CET
END:STANDARD
BEGIN:STANDARD
DTSTART:20271031T020000
RDATE:20280326T030000
TZOFFSETFROM:+0200
TZOFFSETTO:+0100
TZNAME:Europe/Berlin CET
END:STANDARD
BEGIN:DAYLIGHT
DTSTART:20220512T000000
RDATE:20221030T020000
TZOFFSETFROM:+0100
TZOFFSETTO:+0200
TZNAME:Europe/Berlin CEST
END:DAYLIGHT
BEGIN:DAYLIGHT
DTSTART:20230326T030000
RDATE:20231029T020000
TZOFFSETFROM:+0100
TZOFFSETTO:+0200
TZNAME:Europe/Berlin CEST
END:DAYLIGHT
BEGIN:DAYLIGHT
DTSTART:20240331T030000
RDATE:20241027T020000
TZOFFSETFROM:+0100
TZOFFSETTO:+0200
TZNAME:Europe/Berlin CEST
END:DAYLIGHT
BEGIN:DAYLIGHT
DTSTART:20250330T030000
RDATE:20251026T020000
TZOFFSETFROM:+0100
TZOFFSETTO:+0200
TZNAME:Europe/Berlin CEST
END:DAYLIGHT
BEGIN:DAYLIGHT
DTSTART:20260329T030000
RDATE:20261025T020000
TZOFFSETFROM:+0100
TZOFFSETTO:+0200
TZNAME:Europe/Berlin CEST
END:DAYLIGHT
BEGIN:DAYLIGHT
DTSTART:20270328T030000
RDATE:20271031T020000
TZOFFSETFROM:+0100
TZOFFSETTO:+0200
TZNAME:Europe/Berlin CEST
END:DAYLIGHT
END:VTIMEZONE
BEGIN:VEVENT
UID:fcda9d8a77555715bd0c8b44752e1434
CATEGORIES:Kongresse
CREATED:20230301T121749
SUMMARY:Interdisziplinärer und berufsgruppenübergreifender Tag der Intensivtherapie
LOCATION:Kliniken Maria Hilf 
DESCRIPTION;ENCODING=QUOTED-PRINTABLE:\n\nLiebe Kolleginnen und Kollegen.\n\n\nAuf den Intensivstationen arbeiten
  wie kaum in einem anderen Bereich im Krankenhaus täglich so viele verschi
 edene Berufsgruppen unter teilweise extremen Bedingungen eng zusammen und k
 ümmern sich dabei hochprofessionell um lebensbedrohlich erkrankte Patiente
 n.\n\n\nDies gelingt nur mit gegenseitiger Wertschätzung, in einem guten T
 eamgefüge und mit klaren Kommunikations- und Organisationsstrukturen.\n\n\
 nWir möchten mit diesem Interdisziplinären und berufsgruppenübergreifend
 en Tag der Intensivtherapie den medizinischen, pflegerischen und anderen th
 erapeutischen Berufsgruppen ein Forum zur besseren Vernetzung und zum kolle
 gialem Austausch untereinander bieten.\n\n\nIn einem Vortrags-Teil, der von
  Referenten und Moderatoren aus allen Berufsgruppen gestaltet wurde, diskut
 ieren wir aktuelle Themen aus der Intensivmedizin, pflegerische Aspekte abe
 r auch Themen aus der Atemtherapie, Logopädie sowie Physio- und Ergotherap
 ie.\n\n\nDanach bieten wir Ihnen die Möglichkeit, in verschiedenen Worksho
 ps diagnostische und therapeutische Maßnahmen oder Teamtraining interaktiv 
 zu erleben, bevor wir den Tag mit Ihnen in bei einem lockeren „Get together
 “ ausklingen lassen.\n\n\nWir freuen uns sehr, Sie zu dieser Veranstaltung 
 in den Kliniken Maria Hilf begrüßen zu dürfen und einen erlebnisreichen T
 ag mit Ihnen zu verbringen.\n\n\nIhr\nAndreas Hohn\n\n\n \n\n\nWorkshop 1: 
 Anästhesiologie &amp; Pflege: LIVE-Demonstration Simulationstraining mit D
 ebriefing\n\n\nWorkshop 2: Neurologie &amp; Logopädie: Diagnostik der Schl
 uckstörung (FEES und Co) LIVE-Demonstration\n\n\nWorkshop 3: Pneumologie &
 amp; Atemtherapie: Nicht-invasive respiratorische Unterstützungs- verfahre
 n (NIV, HF-CPAP, Cough Assist etc.)\n\n\nWorkshop 4: Physio- &amp; Ergother
 apie: Physio- und ergotherapeutische Techniken bei Intensivpatienten\n\n\nW
 orkshop 5: Kardiologie &amp; Pflege: ECMO-Anlage am Phantom oder Bauchlager
 ung – Wie mache ich es richtig?\n
DTSTAMP:20260423T013536Z
DTSTART;TZID=Europe/Berlin;VALUE=DATE:20230513
DTEND;TZID=Europe/Berlin;VALUE=DATE:20230514
SEQUENCE:0
TRANSP:OPAQUE
END:VEVENT
END:VCALENDAR