BEGIN:VCALENDAR
VERSION:2.0
PRODID:-//jEvents 2.0 for Joomla//EN
CALSCALE:GREGORIAN
METHOD:PUBLISH
BEGIN:VTIMEZONE
TZID:Europe/Berlin
BEGIN:STANDARD
DTSTART:20221030T020000
RDATE:20230326T030000
TZOFFSETFROM:+0200
TZOFFSETTO:+0100
TZNAME:Europe/Berlin CET
END:STANDARD
BEGIN:STANDARD
DTSTART:20231029T020000
RDATE:20240331T030000
TZOFFSETFROM:+0200
TZOFFSETTO:+0100
TZNAME:Europe/Berlin CET
END:STANDARD
BEGIN:STANDARD
DTSTART:20241027T020000
RDATE:20250330T030000
TZOFFSETFROM:+0200
TZOFFSETTO:+0100
TZNAME:Europe/Berlin CET
END:STANDARD
BEGIN:STANDARD
DTSTART:20251026T020000
RDATE:20260329T030000
TZOFFSETFROM:+0200
TZOFFSETTO:+0100
TZNAME:Europe/Berlin CET
END:STANDARD
BEGIN:STANDARD
DTSTART:20261025T020000
RDATE:20270328T030000
TZOFFSETFROM:+0200
TZOFFSETTO:+0100
TZNAME:Europe/Berlin CET
END:STANDARD
BEGIN:STANDARD
DTSTART:20271031T020000
RDATE:20280326T030000
TZOFFSETFROM:+0200
TZOFFSETTO:+0100
TZNAME:Europe/Berlin CET
END:STANDARD
BEGIN:DAYLIGHT
DTSTART:20220907T000000
RDATE:20221030T020000
TZOFFSETFROM:+0100
TZOFFSETTO:+0200
TZNAME:Europe/Berlin CEST
END:DAYLIGHT
BEGIN:DAYLIGHT
DTSTART:20230326T030000
RDATE:20231029T020000
TZOFFSETFROM:+0100
TZOFFSETTO:+0200
TZNAME:Europe/Berlin CEST
END:DAYLIGHT
BEGIN:DAYLIGHT
DTSTART:20240331T030000
RDATE:20241027T020000
TZOFFSETFROM:+0100
TZOFFSETTO:+0200
TZNAME:Europe/Berlin CEST
END:DAYLIGHT
BEGIN:DAYLIGHT
DTSTART:20250330T030000
RDATE:20251026T020000
TZOFFSETFROM:+0100
TZOFFSETTO:+0200
TZNAME:Europe/Berlin CEST
END:DAYLIGHT
BEGIN:DAYLIGHT
DTSTART:20260329T030000
RDATE:20261025T020000
TZOFFSETFROM:+0100
TZOFFSETTO:+0200
TZNAME:Europe/Berlin CEST
END:DAYLIGHT
BEGIN:DAYLIGHT
DTSTART:20270328T030000
RDATE:20271031T020000
TZOFFSETFROM:+0100
TZOFFSETTO:+0200
TZNAME:Europe/Berlin CEST
END:DAYLIGHT
END:VTIMEZONE
BEGIN:VEVENT
UID:90fc67f1b1546be88b84ed8edf267826
CATEGORIES:Kongresse
CREATED:20230306T104614
SUMMARY:9. Intensiv- und Notfallmedizinisches Symposium am Wörthersee
LOCATION:Parkhotel Pörtschach am Wörthersee
DESCRIPTION;ENCODING=QUOTED-PRINTABLE:\n\nTagung:        9. Intensiv- und Notfallmedizinisches Symposium\n\n\n   
                   am Wörthersee\n\n\n \n\n\nOrt:               Parkhotel Pö
 rtschach am Wörthersee\n\n\n                     9210 Pörtschach, Hans Prus
 cha Weg 5\n\n\n \n\n\nTermin:         08.–09. September 2023\n\n\n \n\n\nVe
 ranstalter:   Gesellschaft für Herz-Kreislauf-Forschung und –Fortbildung\n\
 n\n                          (ZVR-Zahl: 1340010211)\n\n\n \n\n\nWissenschaf
 tliche Leitung:\n\n\n                                                      
     \n\n\n                          Prim. Priv. Doz. Dr. Hannes Alber\n\n\n
                           Dr. Heribert Bauer\n\n\n                         
  Abt. für Innere Medizin und Kardiologie\n\n\n \n\n\n                      
     Prim. Univ. Prof. Dr. Rudolf Likar Msc\n\n\n                          D
 r. Roland Steiner\n\n\n                          Abt. für Anäshesiologie un
 d Intensivmedizin\n\n\n                          Klinikum Klagenfurt am Wör
 thersee\n\n\n \n\n\nOnline-Anmeldelink:\n\n\n \n\n\n                       
    https://registration.maw.co.at/intensivklag2023\n\n\n \n\n\nInformation 
 und Fachausstellung:\n\n\n \n\n\n                                   \n\n\n 
                          Ärztezentrale med.info\n\n\n                      
     Helferstorferstraße 2, A-1010 Wien\n\n\n                          Tel.:
  (+43/1) 531 16 - 41\n\n\n                          Fax: (+43/1) 531 16 - 6
 1\n\n\n                          E-Mail: Diese E-Mail-Adresse ist vor Spamb
 ots geschützt! Zur Anzeige muss JavaScript eingeschaltet sein!
				document
 .getElementById('cloakbda7709ba07b1f423a4d0ffec5b56fce').innerHTML = '';
		
 		var prefix = '&#109;a' + 'i&#108;' + '&#116;o';
				var path = 'hr' + 'ef
 ' + '=';
				var addybda7709ba07b1f423a4d0ffec5b56fce = '&#97;zm&#101;d&#10
 5;nf&#111;' + '&#64;';
				addybda7709ba07b1f423a4d0ffec5b56fce = addybda77
 09ba07b1f423a4d0ffec5b56fce + 'm&#101;d&#105;&#97;' + '&#46;' + 'c&#111;' +
  '&#46;' + '&#97;t';
				var addy_textbda7709ba07b1f423a4d0ffec5b56fce = '&
 #97;zm&#101;d&#105;nf&#111;' + '&#64;' + 'm&#101;d&#105;&#97;' + '&#46;' + 
 'c&#111;' + '&#46;' + '&#97;t';document.getElementById('cloakbda7709ba07b1f
 423a4d0ffec5b56fce').innerHTML += ''+addy_textbda7709ba07b1f423a4d0ffec5b56
 fce+'';
		\n
DTSTAMP:20260425T143225Z
DTSTART;TZID=Europe/Berlin;VALUE=DATE:20230908
DTEND;TZID=Europe/Berlin;VALUE=DATE:20230910
SEQUENCE:0
TRANSP:OPAQUE
END:VEVENT
END:VCALENDAR