BEGIN:VCALENDAR
VERSION:2.0
PRODID:-//jEvents 2.0 for Joomla//EN
CALSCALE:GREGORIAN
METHOD:PUBLISH
BEGIN:VTIMEZONE
TZID:Europe/Berlin
BEGIN:STANDARD
DTSTART:20221030T020000
RDATE:20230326T030000
TZOFFSETFROM:+0200
TZOFFSETTO:+0100
TZNAME:Europe/Berlin CET
END:STANDARD
BEGIN:STANDARD
DTSTART:20231029T020000
RDATE:20240331T030000
TZOFFSETFROM:+0200
TZOFFSETTO:+0100
TZNAME:Europe/Berlin CET
END:STANDARD
BEGIN:STANDARD
DTSTART:20241027T020000
RDATE:20250330T030000
TZOFFSETFROM:+0200
TZOFFSETTO:+0100
TZNAME:Europe/Berlin CET
END:STANDARD
BEGIN:STANDARD
DTSTART:20251026T020000
RDATE:20260329T030000
TZOFFSETFROM:+0200
TZOFFSETTO:+0100
TZNAME:Europe/Berlin CET
END:STANDARD
BEGIN:STANDARD
DTSTART:20261025T020000
RDATE:20270328T030000
TZOFFSETFROM:+0200
TZOFFSETTO:+0100
TZNAME:Europe/Berlin CET
END:STANDARD
BEGIN:STANDARD
DTSTART:20271031T020000
RDATE:20280326T030000
TZOFFSETFROM:+0200
TZOFFSETTO:+0100
TZNAME:Europe/Berlin CET
END:STANDARD
BEGIN:DAYLIGHT
DTSTART:20221017T000000
RDATE:20221030T020000
TZOFFSETFROM:+0100
TZOFFSETTO:+0200
TZNAME:Europe/Berlin CEST
END:DAYLIGHT
BEGIN:DAYLIGHT
DTSTART:20230326T030000
RDATE:20231029T020000
TZOFFSETFROM:+0100
TZOFFSETTO:+0200
TZNAME:Europe/Berlin CEST
END:DAYLIGHT
BEGIN:DAYLIGHT
DTSTART:20240331T030000
RDATE:20241027T020000
TZOFFSETFROM:+0100
TZOFFSETTO:+0200
TZNAME:Europe/Berlin CEST
END:DAYLIGHT
BEGIN:DAYLIGHT
DTSTART:20250330T030000
RDATE:20251026T020000
TZOFFSETFROM:+0100
TZOFFSETTO:+0200
TZNAME:Europe/Berlin CEST
END:DAYLIGHT
BEGIN:DAYLIGHT
DTSTART:20260329T030000
RDATE:20261025T020000
TZOFFSETFROM:+0100
TZOFFSETTO:+0200
TZNAME:Europe/Berlin CEST
END:DAYLIGHT
BEGIN:DAYLIGHT
DTSTART:20270328T030000
RDATE:20271031T020000
TZOFFSETFROM:+0100
TZOFFSETTO:+0200
TZNAME:Europe/Berlin CEST
END:DAYLIGHT
END:VTIMEZONE
BEGIN:VEVENT
UID:51a62372547fc211792947b16b6ee863
CATEGORIES:Kongresse
CREATED:20230306T152102
SUMMARY:Anästhesie Repetitorium an der Donau
LOCATION:Klinikum Ingolstadt
DESCRIPTION;ENCODING=QUOTED-PRINTABLE:\n\nSie sind auf der Suche nach einem strukturierten Repetitorium für das F
 achgebiet der Anästhesiologie als Vorbereitung für die Facharztprüfung? Ode
 r sind bereits Fachärzt*in und wollen auf dem neuesten Stand in unserem Fac
 h bleiben?\n\n\nMit diesem Kurs bieten wir Ihnen eine umfassende Vorbereitu
 ng, nicht nur auf die Facharztprüfung Anästhesiologie, sondern auch auf die
  verantwortungsvolle Tätigkeit als Fachärzt*in im klinischen Alltag.\n\n\nW
 ir machen Sie fit für den Facharzt!\n\n - Sie simulieren die Facharzt-Prüfu
 ng in Einzelprüfungsgesprächen mit aktuell tätigen Prüfer*innen und erhalte
 n direkt Feedback\n - Nicht nur langweiliger Frontalunterricht! Theorie am 
 Vormittag, Praxis am Nachmittag\n - Sie trainieren relevante Themen praktis
 ch im Simulator mit Hands-on-Trainings\n - Kleine Gruppen mit maximal 40 Te
 ilnehmer*innen\n - Mit hochrangigen Spezialist*innen der Anästhesiologie au
 s ganz Deutschland \n - 5-tägiger Kurs für 600 Euro\n\nIn unserem 5-tägigen
  Kurs wiederholen Sie prüfungsrelevante Themengebiete anhand theoretischer 
 Vorträge durch klinische Expert*innen. Sie trainieren unter fachkundiger Su
 pervision zertifizierter Instruktoren relevante Themen praktisch im Simulat
 or mit Hands-on Skills Trainings (Videolaryngoskopie, fiberoptische Intubat
 ion, Bronchoskopie, Koniotomie FONA), Grundlagen der Sonographie und Echoka
 rdiographie, Kommunikations- und Zwischenfalltrainings (CRM analog der Luft
 fahrt) sowie Diskussion von klinisch relevanten Fallbeispielen in Kleingrup
 pen.\n\n\nJede Teilnehmer*in erhält zudem die Möglichkeit, in simulierten E
 inzel-Prüfungsgesprächen mit aktuell tätigen Prüfer*innen der Landesärzteka
 mmer, die Prüfungssituation zu üben und direkt Feedback zu erhalten.\n\n\n\
 nDie Anmeldung ist hier möglich: https://klinikum-ingolstadt.de/kurse/anaes
 thesie-repetitorium-an-der-donau-2023/\n\n\n \n\n\n \n
DTSTAMP:20260423T110424Z
DTSTART;TZID=Europe/Berlin;VALUE=DATE:20231018
DTEND;TZID=Europe/Berlin;VALUE=DATE:20231023
SEQUENCE:0
TRANSP:OPAQUE
END:VEVENT
END:VCALENDAR