BEGIN:VCALENDAR
VERSION:2.0
PRODID:-//jEvents 2.0 for Joomla//EN
CALSCALE:GREGORIAN
METHOD:PUBLISH
BEGIN:VTIMEZONE
TZID:Europe/Berlin
BEGIN:STANDARD
DTSTART:20221030T020000
RDATE:20230326T030000
TZOFFSETFROM:+0200
TZOFFSETTO:+0100
TZNAME:Europe/Berlin CET
END:STANDARD
BEGIN:STANDARD
DTSTART:20231029T020000
RDATE:20240331T030000
TZOFFSETFROM:+0200
TZOFFSETTO:+0100
TZNAME:Europe/Berlin CET
END:STANDARD
BEGIN:STANDARD
DTSTART:20241027T020000
RDATE:20250330T030000
TZOFFSETFROM:+0200
TZOFFSETTO:+0100
TZNAME:Europe/Berlin CET
END:STANDARD
BEGIN:STANDARD
DTSTART:20251026T020000
RDATE:20260329T030000
TZOFFSETFROM:+0200
TZOFFSETTO:+0100
TZNAME:Europe/Berlin CET
END:STANDARD
BEGIN:STANDARD
DTSTART:20261025T020000
RDATE:20270328T030000
TZOFFSETFROM:+0200
TZOFFSETTO:+0100
TZNAME:Europe/Berlin CET
END:STANDARD
BEGIN:STANDARD
DTSTART:20271031T020000
RDATE:20280326T030000
TZOFFSETFROM:+0200
TZOFFSETTO:+0100
TZNAME:Europe/Berlin CET
END:STANDARD
BEGIN:DAYLIGHT
DTSTART:20221010T000000
RDATE:20221030T020000
TZOFFSETFROM:+0100
TZOFFSETTO:+0200
TZNAME:Europe/Berlin CEST
END:DAYLIGHT
BEGIN:DAYLIGHT
DTSTART:20230326T030000
RDATE:20231029T020000
TZOFFSETFROM:+0100
TZOFFSETTO:+0200
TZNAME:Europe/Berlin CEST
END:DAYLIGHT
BEGIN:DAYLIGHT
DTSTART:20240331T030000
RDATE:20241027T020000
TZOFFSETFROM:+0100
TZOFFSETTO:+0200
TZNAME:Europe/Berlin CEST
END:DAYLIGHT
BEGIN:DAYLIGHT
DTSTART:20250330T030000
RDATE:20251026T020000
TZOFFSETFROM:+0100
TZOFFSETTO:+0200
TZNAME:Europe/Berlin CEST
END:DAYLIGHT
BEGIN:DAYLIGHT
DTSTART:20260329T030000
RDATE:20261025T020000
TZOFFSETFROM:+0100
TZOFFSETTO:+0200
TZNAME:Europe/Berlin CEST
END:DAYLIGHT
BEGIN:DAYLIGHT
DTSTART:20270328T030000
RDATE:20271031T020000
TZOFFSETFROM:+0100
TZOFFSETTO:+0200
TZNAME:Europe/Berlin CEST
END:DAYLIGHT
END:VTIMEZONE
BEGIN:VEVENT
UID:2ba2afff44e67203c83eac7ed14ecb57
CATEGORIES:Kongresse
CREATED:20230310T082751
SUMMARY:Freiburger Infektiologie- und Hygienekongress
LOCATION:Konzerthaus Freiburg
DESCRIPTION;ENCODING=QUOTED-PRINTABLE:\n\nInternationaler Fachkongress zum Thema Hygiene, Infektionsprävention un
 d Infektiologie für Fachärzte aus den Bereichen Hygiene, Mikrobiologie und 
 Infektiologie sowie Hygienefachkräfte, Hygienebeauftragte Ärztinnen und Ärz
 te und Pflegende oder Medizinische Fachangestellte aus Krankenhaus und Prax
 is, sowie Angehörige des Öffentlichen Gesundheitsdienstes.\n\n\nThemenauswa
 hl u. a.:\n Wie der Markt die Heilkunst abschafft: Infektionsprävention in 
 Zeiten eines kommerzialisierten Gesundheitswesens\n\n\nIsolierungsmaßnahmen
 : Wen, wann, wie?\n\n\nSchimmelpilze im Krankenhaus\n\n\nHygienische Heraus
 forderungen im Pflegeheim: Ein Praxisbericht\n\n\nWas habe ich gelesen: Mei
 ne Top-Studien der Hygiene\n\n\nWas habe ich gelesen: Meine Top-Studien der
  Infektiologie\n\n\nStellenwert neuer Antibiotika\n ABS in kleinen Krankenh
 äusern: Was braucht es - was bringt es?\n\n\nPrähabilitation: Praktisch ums
 etzbar oder ein schöner Traum?\n\n\nFlächendesinfektion und Krankenhausrein
 igung: Praktische Erfahrungen\n\n\nPersönliche Schutzausrüstung: Personalsc
 hutz und Patientenschutz\n\n\n \n
DTSTAMP:20260423T173225Z
DTSTART;TZID=Europe/Berlin;VALUE=DATE:20231011
DTEND;TZID=Europe/Berlin;VALUE=DATE:20231014
SEQUENCE:0
TRANSP:OPAQUE
END:VEVENT
END:VCALENDAR