BEGIN:VCALENDAR
VERSION:2.0
PRODID:-//jEvents 2.0 for Joomla//EN
CALSCALE:GREGORIAN
METHOD:PUBLISH
BEGIN:VTIMEZONE
TZID:Europe/Berlin
BEGIN:STANDARD
DTSTART:20221030T020000
RDATE:20230326T030000
TZOFFSETFROM:+0200
TZOFFSETTO:+0100
TZNAME:Europe/Berlin CET
END:STANDARD
BEGIN:STANDARD
DTSTART:20231029T020000
RDATE:20240331T030000
TZOFFSETFROM:+0200
TZOFFSETTO:+0100
TZNAME:Europe/Berlin CET
END:STANDARD
BEGIN:STANDARD
DTSTART:20241027T020000
RDATE:20250330T030000
TZOFFSETFROM:+0200
TZOFFSETTO:+0100
TZNAME:Europe/Berlin CET
END:STANDARD
BEGIN:STANDARD
DTSTART:20251026T020000
RDATE:20260329T030000
TZOFFSETFROM:+0200
TZOFFSETTO:+0100
TZNAME:Europe/Berlin CET
END:STANDARD
BEGIN:STANDARD
DTSTART:20261025T020000
RDATE:20270328T030000
TZOFFSETFROM:+0200
TZOFFSETTO:+0100
TZNAME:Europe/Berlin CET
END:STANDARD
BEGIN:STANDARD
DTSTART:20271031T020000
RDATE:20280326T030000
TZOFFSETFROM:+0200
TZOFFSETTO:+0100
TZNAME:Europe/Berlin CET
END:STANDARD
BEGIN:DAYLIGHT
DTSTART:20220519T000000
RDATE:20221030T020000
TZOFFSETFROM:+0100
TZOFFSETTO:+0200
TZNAME:Europe/Berlin CEST
END:DAYLIGHT
BEGIN:DAYLIGHT
DTSTART:20230326T030000
RDATE:20231029T020000
TZOFFSETFROM:+0100
TZOFFSETTO:+0200
TZNAME:Europe/Berlin CEST
END:DAYLIGHT
BEGIN:DAYLIGHT
DTSTART:20240331T030000
RDATE:20241027T020000
TZOFFSETFROM:+0100
TZOFFSETTO:+0200
TZNAME:Europe/Berlin CEST
END:DAYLIGHT
BEGIN:DAYLIGHT
DTSTART:20250330T030000
RDATE:20251026T020000
TZOFFSETFROM:+0100
TZOFFSETTO:+0200
TZNAME:Europe/Berlin CEST
END:DAYLIGHT
BEGIN:DAYLIGHT
DTSTART:20260329T030000
RDATE:20261025T020000
TZOFFSETFROM:+0100
TZOFFSETTO:+0200
TZNAME:Europe/Berlin CEST
END:DAYLIGHT
BEGIN:DAYLIGHT
DTSTART:20270328T030000
RDATE:20271031T020000
TZOFFSETFROM:+0100
TZOFFSETTO:+0200
TZNAME:Europe/Berlin CEST
END:DAYLIGHT
END:VTIMEZONE
BEGIN:VEVENT
UID:276a3fd62acafbe9c9b7379051437e6e
CATEGORIES:Kongresse
CREATED:20230321T130538
SUMMARY:II. Speisinger Symposium Kinderanästhesie
LOCATION:Orthopädisches Spital Speising
DESCRIPTION;ENCODING=QUOTED-PRINTABLE:\n\nDas II. Kinderanästhesie-Symposium findet am Samstag, den 20. Mai 2023 
 in Wien statt. Das abwechslungsreiche Programm reicht von aktuellen Trends,
  bewährten Methoden bis hin zu wichtigen Fallbeispielen der Anästhesie und 
 Intensivmedizin. Das Symposium soll die so erfolgswichtige interdisziplinär
 e Zusammenarbeit im perioperativen Bereich bei Säuglingen und Kindern förde
 rn und zugleich das Verständnis für die besonderen Anforderungen im Umgang 
 mit Kindern und Eltern stärken. Wir freuen uns auf einen spannenden und int
 ensiven Austausch von Fachwissen und angenehme Gesprächsrunden am 20. Mai i
 n Wien.\n
DTSTAMP:20260423T021623Z
DTSTART;TZID=Europe/Berlin;VALUE=DATE:20230520
DTEND;TZID=Europe/Berlin;VALUE=DATE:20230521
SEQUENCE:0
TRANSP:OPAQUE
END:VEVENT
END:VCALENDAR