BEGIN:VCALENDAR
VERSION:2.0
PRODID:-//jEvents 2.0 for Joomla//EN
CALSCALE:GREGORIAN
METHOD:PUBLISH
BEGIN:VTIMEZONE
TZID:Europe/Berlin
BEGIN:STANDARD
DTSTART:20221030T020000
RDATE:20230326T030000
TZOFFSETFROM:+0200
TZOFFSETTO:+0100
TZNAME:Europe/Berlin CET
END:STANDARD
BEGIN:STANDARD
DTSTART:20231029T020000
RDATE:20240331T030000
TZOFFSETFROM:+0200
TZOFFSETTO:+0100
TZNAME:Europe/Berlin CET
END:STANDARD
BEGIN:STANDARD
DTSTART:20241027T020000
RDATE:20250330T030000
TZOFFSETFROM:+0200
TZOFFSETTO:+0100
TZNAME:Europe/Berlin CET
END:STANDARD
BEGIN:STANDARD
DTSTART:20251026T020000
RDATE:20260329T030000
TZOFFSETFROM:+0200
TZOFFSETTO:+0100
TZNAME:Europe/Berlin CET
END:STANDARD
BEGIN:STANDARD
DTSTART:20261025T020000
RDATE:20270328T030000
TZOFFSETFROM:+0200
TZOFFSETTO:+0100
TZNAME:Europe/Berlin CET
END:STANDARD
BEGIN:STANDARD
DTSTART:20271031T020000
RDATE:20280326T030000
TZOFFSETFROM:+0200
TZOFFSETTO:+0100
TZNAME:Europe/Berlin CET
END:STANDARD
BEGIN:DAYLIGHT
DTSTART:20220608T000000
RDATE:20221030T020000
TZOFFSETFROM:+0100
TZOFFSETTO:+0200
TZNAME:Europe/Berlin CEST
END:DAYLIGHT
BEGIN:DAYLIGHT
DTSTART:20230326T030000
RDATE:20231029T020000
TZOFFSETFROM:+0100
TZOFFSETTO:+0200
TZNAME:Europe/Berlin CEST
END:DAYLIGHT
BEGIN:DAYLIGHT
DTSTART:20240331T030000
RDATE:20241027T020000
TZOFFSETFROM:+0100
TZOFFSETTO:+0200
TZNAME:Europe/Berlin CEST
END:DAYLIGHT
BEGIN:DAYLIGHT
DTSTART:20250330T030000
RDATE:20251026T020000
TZOFFSETFROM:+0100
TZOFFSETTO:+0200
TZNAME:Europe/Berlin CEST
END:DAYLIGHT
BEGIN:DAYLIGHT
DTSTART:20260329T030000
RDATE:20261025T020000
TZOFFSETFROM:+0100
TZOFFSETTO:+0200
TZNAME:Europe/Berlin CEST
END:DAYLIGHT
BEGIN:DAYLIGHT
DTSTART:20270328T030000
RDATE:20271031T020000
TZOFFSETFROM:+0100
TZOFFSETTO:+0200
TZNAME:Europe/Berlin CEST
END:DAYLIGHT
END:VTIMEZONE
BEGIN:VEVENT
UID:b9ef15f395820f8f413b7ce4defde3bd
CATEGORIES:Kongresse
CREATED:20230403T135434
SUMMARY:ALPHA  - 16. Greifswalder Symposium
LOCATION:Strandbad Eldena
DESCRIPTION;ENCODING=QUOTED-PRINTABLE:2023 - endlich wieder ALPHA\n\nWir freuen uns nun endlich auf das ALPHA Sym
 posium, nachdem wir zwei Jahre keinen Kongress durchführen konnten.\n\n\nNe
 u ist dabei wortwörtlich gemeint - es wird anders, es wird großartig - denn
  wir haben etwas zu feiern!\n\n\nDazu freuen wir uns auf Sie!\n\n\n \n\n\nM
 erken Sie sich den Termin schon jetzt vor!!! 9. und 10. Juni 2023 - in Grei
 fswald\n\n\n \n\n\nAlle wichtigen Informationen erhalten Sie auf den folgen
 den Seiten ALPHA Symposium 2023 - mit Jubiläum am Strand.\n\n\n \n\n\nHerzl
 ich grüßt\nIhr ALPHA-Team\n
DTSTAMP:20260423T120259Z
DTSTART;TZID=Europe/Berlin;VALUE=DATE:20230609
DTEND;TZID=Europe/Berlin;VALUE=DATE:20230611
SEQUENCE:0
TRANSP:OPAQUE
END:VEVENT
END:VCALENDAR