BEGIN:VCALENDAR
VERSION:2.0
PRODID:-//jEvents 2.0 for Joomla//EN
CALSCALE:GREGORIAN
METHOD:PUBLISH
BEGIN:VTIMEZONE
TZID:Europe/Berlin
BEGIN:STANDARD
DTSTART:20221030T020000
RDATE:20230326T030000
TZOFFSETFROM:+0200
TZOFFSETTO:+0100
TZNAME:Europe/Berlin CET
END:STANDARD
BEGIN:STANDARD
DTSTART:20231029T020000
RDATE:20240331T030000
TZOFFSETFROM:+0200
TZOFFSETTO:+0100
TZNAME:Europe/Berlin CET
END:STANDARD
BEGIN:STANDARD
DTSTART:20241027T020000
RDATE:20250330T030000
TZOFFSETFROM:+0200
TZOFFSETTO:+0100
TZNAME:Europe/Berlin CET
END:STANDARD
BEGIN:STANDARD
DTSTART:20251026T020000
RDATE:20260329T030000
TZOFFSETFROM:+0200
TZOFFSETTO:+0100
TZNAME:Europe/Berlin CET
END:STANDARD
BEGIN:STANDARD
DTSTART:20261025T020000
RDATE:20270328T030000
TZOFFSETFROM:+0200
TZOFFSETTO:+0100
TZNAME:Europe/Berlin CET
END:STANDARD
BEGIN:STANDARD
DTSTART:20271031T020000
RDATE:20280326T030000
TZOFFSETFROM:+0200
TZOFFSETTO:+0100
TZNAME:Europe/Berlin CET
END:STANDARD
BEGIN:DAYLIGHT
DTSTART:20220908T000000
RDATE:20221030T020000
TZOFFSETFROM:+0100
TZOFFSETTO:+0200
TZNAME:Europe/Berlin CEST
END:DAYLIGHT
BEGIN:DAYLIGHT
DTSTART:20230326T030000
RDATE:20231029T020000
TZOFFSETFROM:+0100
TZOFFSETTO:+0200
TZNAME:Europe/Berlin CEST
END:DAYLIGHT
BEGIN:DAYLIGHT
DTSTART:20240331T030000
RDATE:20241027T020000
TZOFFSETFROM:+0100
TZOFFSETTO:+0200
TZNAME:Europe/Berlin CEST
END:DAYLIGHT
BEGIN:DAYLIGHT
DTSTART:20250330T030000
RDATE:20251026T020000
TZOFFSETFROM:+0100
TZOFFSETTO:+0200
TZNAME:Europe/Berlin CEST
END:DAYLIGHT
BEGIN:DAYLIGHT
DTSTART:20260329T030000
RDATE:20261025T020000
TZOFFSETFROM:+0100
TZOFFSETTO:+0200
TZNAME:Europe/Berlin CEST
END:DAYLIGHT
BEGIN:DAYLIGHT
DTSTART:20270328T030000
RDATE:20271031T020000
TZOFFSETFROM:+0100
TZOFFSETTO:+0200
TZNAME:Europe/Berlin CEST
END:DAYLIGHT
END:VTIMEZONE
BEGIN:VEVENT
UID:32ede91f47d86ed67d5905923296a232
CATEGORIES:Kongresse
CREATED:20230403T153342
SUMMARY:ALS Provider Kurs
LOCATION:Train4Life Simulationszentrum
DESCRIPTION;ENCODING=QUOTED-PRINTABLE:Kursort GreifswaldKlinik für Anästhesie, Intensiv-, Notfall- und Schmerzmed
 izin, Universitätsmedizin Greifswald (UMG)\n(Direktor: Prof. Dr. Klaus Hahn
 enkamp)Beschreibung des Kursortes\n\n„Train4Life“, das Trainingszentrum für
  Patientensicherheit und medizinische Simulation ist eingegliedert in die K
 linik für Anästhesie, Intensiv-, Notfall- und Schmerzmedizin der Universitä
 tsmedizin Greifswald. Es bietet seit vielen Jahren Fort- und Weiterbildung 
 in allen Bereichen der Patientenversorgung an. Seit 2019 finden ERC zertifi
 zierte ALS Kurse in unserem Zentrum statt und wir freuen uns als Kursort de
 s German Resuscitation Councils ERC Kurse anbieten zu können.\n\n\nDie Hans
 e- und Universitätsstadt Greifswald inmitten der Urlaubsregion Mecklenburg-
 Vorpommern ist eine lebendige Stadt, die von den vielen Studierenden gepräg
 t wird. Zu den wunderschönen Inseln Usedom und Rügen ist es nicht weit, dah
 er immer auch eine herzliche Einladung an die Kursteilnehmenden und Instruk
 toren vor oder nach dem Kurs einen Ausflug an die Ostsee einzuplanen.\nAnsp
 rechpartner\n\nJohannes Pawlowski\nDr. med. Camilla Metelmann\nCornelia Kam
 pe\nKontakt\n\nUniversitätsmedizin Greifswald\nKlinik für Anästhesie, Inten
 siv-, Notfall- und Schmerzmedizin\nTrain4Life – SIM-Zentrum\nFerdinand-Saue
 rbruch-Straße\n17475 Greifswald\nTel: +49 3834 86 2900 und 86 5860\nFax: +4
 9 3834 86 7895 und 86 5802\nDiese E-Mail-Adresse ist vor Spambots geschützt
 ! Zur Anzeige muss JavaScript eingeschaltet sein!
				document.getElementBy
 Id('cloakc1114006398904f86a4a7153235c651d').innerHTML = '';
				var prefix 
 = '&#109;a' + 'i&#108;' + '&#116;o';
				var path = 'hr' + 'ef' + '=';
				
 var addyc1114006398904f86a4a7153235c651d = 's&#105;m-z&#101;ntr&#117;m' + '
 &#64;';
				addyc1114006398904f86a4a7153235c651d = addyc1114006398904f86a4a
 7153235c651d + 'm&#101;d' + '&#46;' + '&#117;n&#105;-gr&#101;&#105;fsw&#97;
 ld' + '&#46;' + 'd&#101;';
				var addy_textc1114006398904f86a4a7153235c651
 d = 's&#105;m-z&#101;ntr&#117;m' + '&#64;' + 'm&#101;d' + '&#46;' + '&#117;
 n&#105;-gr&#101;&#105;fsw&#97;ld' + '&#46;' + 'd&#101;';document.getElement
 ById('cloakc1114006398904f86a4a7153235c651d').innerHTML += ''+addy_textc111
 4006398904f86a4a7153235c651d+'';
		\n
DTSTAMP:20260425T154943Z
DTSTART;TZID=Europe/Berlin;VALUE=DATE:20230909
DTEND;TZID=Europe/Berlin;VALUE=DATE:20230911
SEQUENCE:0
TRANSP:OPAQUE
END:VEVENT
END:VCALENDAR