BEGIN:VCALENDAR
VERSION:2.0
PRODID:-//jEvents 2.0 for Joomla//EN
CALSCALE:GREGORIAN
METHOD:PUBLISH
BEGIN:VTIMEZONE
TZID:Europe/Berlin
BEGIN:STANDARD
DTSTART:20221030T020000
RDATE:20230326T030000
TZOFFSETFROM:+0200
TZOFFSETTO:+0100
TZNAME:Europe/Berlin CET
END:STANDARD
BEGIN:STANDARD
DTSTART:20231029T020000
RDATE:20240331T030000
TZOFFSETFROM:+0200
TZOFFSETTO:+0100
TZNAME:Europe/Berlin CET
END:STANDARD
BEGIN:STANDARD
DTSTART:20241027T020000
RDATE:20250330T030000
TZOFFSETFROM:+0200
TZOFFSETTO:+0100
TZNAME:Europe/Berlin CET
END:STANDARD
BEGIN:STANDARD
DTSTART:20251026T020000
RDATE:20260329T030000
TZOFFSETFROM:+0200
TZOFFSETTO:+0100
TZNAME:Europe/Berlin CET
END:STANDARD
BEGIN:STANDARD
DTSTART:20261025T020000
RDATE:20270328T030000
TZOFFSETFROM:+0200
TZOFFSETTO:+0100
TZNAME:Europe/Berlin CET
END:STANDARD
BEGIN:STANDARD
DTSTART:20271031T020000
RDATE:20280326T030000
TZOFFSETFROM:+0200
TZOFFSETTO:+0100
TZNAME:Europe/Berlin CET
END:STANDARD
BEGIN:DAYLIGHT
DTSTART:20221019T000000
RDATE:20221030T020000
TZOFFSETFROM:+0100
TZOFFSETTO:+0200
TZNAME:Europe/Berlin CEST
END:DAYLIGHT
BEGIN:DAYLIGHT
DTSTART:20230326T030000
RDATE:20231029T020000
TZOFFSETFROM:+0100
TZOFFSETTO:+0200
TZNAME:Europe/Berlin CEST
END:DAYLIGHT
BEGIN:DAYLIGHT
DTSTART:20240331T030000
RDATE:20241027T020000
TZOFFSETFROM:+0100
TZOFFSETTO:+0200
TZNAME:Europe/Berlin CEST
END:DAYLIGHT
BEGIN:DAYLIGHT
DTSTART:20250330T030000
RDATE:20251026T020000
TZOFFSETFROM:+0100
TZOFFSETTO:+0200
TZNAME:Europe/Berlin CEST
END:DAYLIGHT
BEGIN:DAYLIGHT
DTSTART:20260329T030000
RDATE:20261025T020000
TZOFFSETFROM:+0100
TZOFFSETTO:+0200
TZNAME:Europe/Berlin CEST
END:DAYLIGHT
BEGIN:DAYLIGHT
DTSTART:20270328T030000
RDATE:20271031T020000
TZOFFSETFROM:+0100
TZOFFSETTO:+0200
TZNAME:Europe/Berlin CEST
END:DAYLIGHT
END:VTIMEZONE
BEGIN:VEVENT
UID:12ca500882d08cf064886a6230228e1e
CATEGORIES:Kongresse
CREATED:20230405T094526
SUMMARY:ÖSKIM 2023 - Österreichisches Symposium für Kardiovaskuläre Intensivmedizin (Hybridveranstaltung)
LOCATION:Wyndham Grand Salzburg - Conference Centre
DESCRIPTION;ENCODING=QUOTED-PRINTABLE:\n\nTagung:            ÖSKIM 2023 –\n\n\n                         Österreic
 hisches Symposium für Kardiovaskuläre Intensivmedizin\n\n\n                
          (Hybridveranstaltung)\n\n\n \n\n\nVeranstalter:       Arbeitsgrupp
 e für Kardiovaskuläre Intensivmedizin\n\n\n                         und Not
 fallmedizin der Österreichischen Kardiologischen Gesellschaft\n\n\n \n\n\nO
 rt:                  Wyndham Grand Salzburg Conference Centre\n\n\n        
                  Fanny-von-Lehnert-Straße 7\n\n\n                         5
 020 Salzburg\n\n\n \n\n\nTermin:            20.- 21. Oktober 2023\n\n\n \n\
 n\nWissenschaftl.     Assoz. Prof. Priv.-Doz. Dr. Walter Speidl\n\n\nLeitun
 g:             Assoz. Prof. Priv.-Doz. Dr. Dirk von Lewinski\n\n\n         
                 Priv.-Doz. Dr. Christoph Brenner\n\n\n \n\n\nAnmeldung:    
      Anmeldung unbedingt erforderlich unter:\n\n\n                         
 https://registration.maw.co.at/oeskim2023\n\n\n \n\n\nKontakt:             
 Medizinische Ausstellungs- und Werbegesellschaft\n\n\n                     
     Freyung 6/3, 1010 Wien\n\n\n                         Herr David Grünsei
 s, Frau Stefanie Skodler\n\n\n                         Tel.: (+43/1) 536 63
  -62 / -84\n\n\n                         Fax: (+43/1) 535 60 16\n\n\n      
                    E-Mail: Diese E-Mail-Adresse ist vor Spambots geschützt!
  Zur Anzeige muss JavaScript eingeschaltet sein!
				document.getElementByI
 d('cloak3e01b383b8a14ed165de4f8028ba360e').innerHTML = '';
				var prefix =
  '&#109;a' + 'i&#108;' + '&#116;o';
				var path = 'hr' + 'ef' + '=';
				v
 ar addy3e01b383b8a14ed165de4f8028ba360e = 'k&#97;rd&#105;&#111;' + '&#64;';
 
				addy3e01b383b8a14ed165de4f8028ba360e = addy3e01b383b8a14ed165de4f8028b
 a360e + 'm&#97;w' + '&#46;' + 'c&#111;' + '&#46;' + '&#97;t';
				var addy_
 text3e01b383b8a14ed165de4f8028ba360e = 'k&#97;rd&#105;&#111;' + '&#64;' + '
 m&#97;w' + '&#46;' + 'c&#111;' + '&#46;' + '&#97;t';document.getElementById
 ('cloak3e01b383b8a14ed165de4f8028ba360e').innerHTML += ''+addy_text3e01b383
 b8a14ed165de4f8028ba360e+'';
		\n\n\n \n\n\nDFP-Punkte:        Diese Verans
 taltung wird für das Diplomfortbildungsprogramm der\n\n\n                  
       Österreichischen Ärztekammer eingereicht.\n
DTSTAMP:20260423T050835Z
DTSTART;TZID=Europe/Berlin;VALUE=DATE:20231020
DTEND;TZID=Europe/Berlin;VALUE=DATE:20231022
SEQUENCE:0
TRANSP:OPAQUE
END:VEVENT
END:VCALENDAR