BEGIN:VCALENDAR
VERSION:2.0
PRODID:-//jEvents 2.0 for Joomla//EN
CALSCALE:GREGORIAN
METHOD:PUBLISH
BEGIN:VTIMEZONE
TZID:Europe/Berlin
BEGIN:STANDARD
DTSTART:20221030T020000
RDATE:20230326T030000
TZOFFSETFROM:+0200
TZOFFSETTO:+0100
TZNAME:Europe/Berlin CET
END:STANDARD
BEGIN:STANDARD
DTSTART:20231029T020000
RDATE:20240331T030000
TZOFFSETFROM:+0200
TZOFFSETTO:+0100
TZNAME:Europe/Berlin CET
END:STANDARD
BEGIN:STANDARD
DTSTART:20241027T020000
RDATE:20250330T030000
TZOFFSETFROM:+0200
TZOFFSETTO:+0100
TZNAME:Europe/Berlin CET
END:STANDARD
BEGIN:STANDARD
DTSTART:20251026T020000
RDATE:20260329T030000
TZOFFSETFROM:+0200
TZOFFSETTO:+0100
TZNAME:Europe/Berlin CET
END:STANDARD
BEGIN:STANDARD
DTSTART:20261025T020000
RDATE:20270328T030000
TZOFFSETFROM:+0200
TZOFFSETTO:+0100
TZNAME:Europe/Berlin CET
END:STANDARD
BEGIN:STANDARD
DTSTART:20271031T020000
RDATE:20280326T030000
TZOFFSETFROM:+0200
TZOFFSETTO:+0100
TZNAME:Europe/Berlin CET
END:STANDARD
BEGIN:DAYLIGHT
DTSTART:20220706T100000
RDATE:20221030T020000
TZOFFSETFROM:+0100
TZOFFSETTO:+0200
TZNAME:Europe/Berlin CEST
END:DAYLIGHT
BEGIN:DAYLIGHT
DTSTART:20230326T030000
RDATE:20231029T020000
TZOFFSETFROM:+0100
TZOFFSETTO:+0200
TZNAME:Europe/Berlin CEST
END:DAYLIGHT
BEGIN:DAYLIGHT
DTSTART:20240331T030000
RDATE:20241027T020000
TZOFFSETFROM:+0100
TZOFFSETTO:+0200
TZNAME:Europe/Berlin CEST
END:DAYLIGHT
BEGIN:DAYLIGHT
DTSTART:20250330T030000
RDATE:20251026T020000
TZOFFSETFROM:+0100
TZOFFSETTO:+0200
TZNAME:Europe/Berlin CEST
END:DAYLIGHT
BEGIN:DAYLIGHT
DTSTART:20260329T030000
RDATE:20261025T020000
TZOFFSETFROM:+0100
TZOFFSETTO:+0200
TZNAME:Europe/Berlin CEST
END:DAYLIGHT
BEGIN:DAYLIGHT
DTSTART:20270328T030000
RDATE:20271031T020000
TZOFFSETFROM:+0100
TZOFFSETTO:+0200
TZNAME:Europe/Berlin CEST
END:DAYLIGHT
END:VTIMEZONE
BEGIN:VEVENT
UID:87237fb79d399e2515a8c34cbeb66d9d
CATEGORIES:Kongresse
CREATED:20230406T103323
SUMMARY:HICC 2023 Haemostasis in Critical Care
LOCATION:Hotel Aquino
DESCRIPTION;ENCODING=QUOTED-PRINTABLE:\n\nLIEBE KOLLEGINNEN UND KOLLEGEN,\n\n\nder zunehmenden Inzidenz zivilisat
 ionsbedingter Krankheitsbilder (koronare Herzkrankheit, Vorhofflimmern, Sch
 laganfall, periphere arterielle Verschlusskrankheit, venöse Thrombembolie, 
 etc.) zufolge, werden auch in der perioperativen und intensivmedizinischen 
 Behandlung immer mehr Patient:innen mit oralen Antikoagulanzien, Thrombozyt
 enaggregationshemmern oder Heparinen - manchmal auch in Kombination - behan
 delt.\n\n\nFür Anästhesist:innen, Intensivmediziner:innen, operativ tätige
  Kolleg:innen und Hämostaseolog:innen bedeutet dies im Spannungsfeld von Th
 rombose und Blutung, Patient:innen mit Antikoagulanzien und/oder angeborene
 n oder erworbenen Gerinnungsstörungen sicher durch die perioperative und in
 tensivmedizinische Behandlung zu führen.\n\n\nNeben den verschiedenen hämos
 taseologischen Krankheitsbilder (u.a. Hämophilie, von-Willebrand-Syndrom, a
 ber auch thrombophile Gerinnungsstörungen) und den perioperativ erworbenen 
 Störungen der Hämostase (z. B. bei Massentransfusion, Polytrauma, periparta
 ler Blutung, etc.), erfordert auch die zunehmende Anzahl hochwirksamer Anti
 koagulanzien ein profundes Wissen über die Möglichkeiten der Diagnostik (i
 nkl. Point of care-Diagnostik) und der hämostaseologischen Therapie.\n\n\nD
 aher ist das Ziel dieses Intensivworkshops, die Besonderheiten von Patiente
 n mit hämostaseologischen Krankheitsbildern, die eine  Antikoagulanzienther
 apie benötigen, als auch die hereditären und erworbenen Gerinnungsstörungen
  der perioperativen und  Intensivmedizin gemeinsam zu erarbeiten und so die
  Grundlage für eine effektive und sichere Therapie zu schaffen.\n\n\nAllen
  diesen Themen bieten wir neben „klassischen“ Vorträgen Raum und Zeit für 
 Falldiskussionen und Kleingruppenarbeit mit anschließender Diskussionsmögli
 chkeit. Gemeinsam mit der Gesellschaft für Thrombose- und Hämostaseforschu
 ng (GTH) laden wir Sie herzlich zu diesem  einzigartigen, interdisziplinäre
 n Intensivworkshop zu allen wichtigen Aspekten der perioperativen und inten
 sivmedizinischen Hämostase ein.\n\n\nWir freuen uns sehr darauf, Sie in Ber
 lin und St. Gallen begrüßen zu dürfen! Bitte beachten Sie hierzu auch die 
 Terminankündigung für HICC Schweiz / Workshop St. Gallen auf unserer Home
 page unter www.hicc.ch. Hier finden Sie auch den Flyer mit dem Programm.\n\
 n\n\nLutz Kaufner,\nRobert Klamroth und\nChristian von Heymann\n
DTSTAMP:20260424T214254Z
DTSTART;TZID=Europe/Berlin:20230707T100000
DTEND;TZID=Europe/Berlin:20230708T180000
SEQUENCE:0
TRANSP:OPAQUE
END:VEVENT
END:VCALENDAR