BEGIN:VCALENDAR
VERSION:2.0
PRODID:-//jEvents 2.0 for Joomla//EN
CALSCALE:GREGORIAN
METHOD:PUBLISH
BEGIN:VTIMEZONE
TZID:Europe/Berlin
BEGIN:STANDARD
DTSTART:20221030T020000
RDATE:20230326T030000
TZOFFSETFROM:+0200
TZOFFSETTO:+0100
TZNAME:Europe/Berlin CET
END:STANDARD
BEGIN:STANDARD
DTSTART:20231029T020000
RDATE:20240331T030000
TZOFFSETFROM:+0200
TZOFFSETTO:+0100
TZNAME:Europe/Berlin CET
END:STANDARD
BEGIN:STANDARD
DTSTART:20241027T020000
RDATE:20250330T030000
TZOFFSETFROM:+0200
TZOFFSETTO:+0100
TZNAME:Europe/Berlin CET
END:STANDARD
BEGIN:STANDARD
DTSTART:20251026T020000
RDATE:20260329T030000
TZOFFSETFROM:+0200
TZOFFSETTO:+0100
TZNAME:Europe/Berlin CET
END:STANDARD
BEGIN:STANDARD
DTSTART:20261025T020000
RDATE:20270328T030000
TZOFFSETFROM:+0200
TZOFFSETTO:+0100
TZNAME:Europe/Berlin CET
END:STANDARD
BEGIN:STANDARD
DTSTART:20271031T020000
RDATE:20280326T030000
TZOFFSETFROM:+0200
TZOFFSETTO:+0100
TZNAME:Europe/Berlin CET
END:STANDARD
BEGIN:DAYLIGHT
DTSTART:20220922T091500
RDATE:20221030T020000
TZOFFSETFROM:+0100
TZOFFSETTO:+0200
TZNAME:Europe/Berlin CEST
END:DAYLIGHT
BEGIN:DAYLIGHT
DTSTART:20230326T030000
RDATE:20231029T020000
TZOFFSETFROM:+0100
TZOFFSETTO:+0200
TZNAME:Europe/Berlin CEST
END:DAYLIGHT
BEGIN:DAYLIGHT
DTSTART:20240331T030000
RDATE:20241027T020000
TZOFFSETFROM:+0100
TZOFFSETTO:+0200
TZNAME:Europe/Berlin CEST
END:DAYLIGHT
BEGIN:DAYLIGHT
DTSTART:20250330T030000
RDATE:20251026T020000
TZOFFSETFROM:+0100
TZOFFSETTO:+0200
TZNAME:Europe/Berlin CEST
END:DAYLIGHT
BEGIN:DAYLIGHT
DTSTART:20260329T030000
RDATE:20261025T020000
TZOFFSETFROM:+0100
TZOFFSETTO:+0200
TZNAME:Europe/Berlin CEST
END:DAYLIGHT
BEGIN:DAYLIGHT
DTSTART:20270328T030000
RDATE:20271031T020000
TZOFFSETFROM:+0100
TZOFFSETTO:+0200
TZNAME:Europe/Berlin CEST
END:DAYLIGHT
END:VTIMEZONE
BEGIN:VEVENT
UID:faf00103187919d6c85b10af2878049b
CATEGORIES:Kongresse
CREATED:20230417T151257
SUMMARY:16. Symposium der Klinik für Anästhesie, Operative Intensiv- und Palliativmedizin
LOCATION:Kunstmuseum Solingen
DESCRIPTION;ENCODING=QUOTED-PRINTABLE:\n\nDas 16. Symposium der Klinik für Anästhesie, Operative Intensiv- und Pa
 lliativmedizin am Städtischen Klinikum Solingen steht unter dem Motto „Was 
 hat sich nach drei Jahren Coronapandemie verändert?“. Geprägt durch die Cor
 onapandemie stehen intensivmedizinische Themen im Vordergrund. Hier haben s
 ich hinsichtlich der Themen Übertherapien in der Intensivmedizin, Triage, E
 insatz von ECMO und Ähnlichem, aber auch mit der Frage „dürfen Kinder Besuc
 he auf der Intensivstation machen“ sehr interessante neue Felder aufgetan, 
 die im Rahmen des Symposiums aktuell diskutiert werden. Darüber hinaus sind
  die anderen Säulen der Anästhesiologie repräsentativ im interdisziplinären
  Kontext vertreten. \n
DTSTAMP:20260424T044536Z
DTSTART;TZID=Europe/Berlin:20230923T091500
DTEND;TZID=Europe/Berlin:20230923T150000
SEQUENCE:0
TRANSP:OPAQUE
END:VEVENT
END:VCALENDAR