BEGIN:VCALENDAR
VERSION:2.0
PRODID:-//jEvents 2.0 for Joomla//EN
CALSCALE:GREGORIAN
METHOD:PUBLISH
BEGIN:VTIMEZONE
TZID:Europe/Berlin
BEGIN:STANDARD
DTSTART:20221102T000000
RDATE:20230326T030000
TZOFFSETFROM:+0200
TZOFFSETTO:+0100
TZNAME:Europe/Berlin CET
END:STANDARD
BEGIN:STANDARD
DTSTART:20231029T020000
RDATE:20240331T030000
TZOFFSETFROM:+0200
TZOFFSETTO:+0100
TZNAME:Europe/Berlin CET
END:STANDARD
BEGIN:STANDARD
DTSTART:20241027T020000
RDATE:20250330T030000
TZOFFSETFROM:+0200
TZOFFSETTO:+0100
TZNAME:Europe/Berlin CET
END:STANDARD
BEGIN:STANDARD
DTSTART:20251026T020000
RDATE:20260329T030000
TZOFFSETFROM:+0200
TZOFFSETTO:+0100
TZNAME:Europe/Berlin CET
END:STANDARD
BEGIN:STANDARD
DTSTART:20261025T020000
RDATE:20270328T030000
TZOFFSETFROM:+0200
TZOFFSETTO:+0100
TZNAME:Europe/Berlin CET
END:STANDARD
BEGIN:STANDARD
DTSTART:20271031T020000
RDATE:20280326T030000
TZOFFSETFROM:+0200
TZOFFSETTO:+0100
TZNAME:Europe/Berlin CET
END:STANDARD
BEGIN:DAYLIGHT
DTSTART:20230326T030000
RDATE:20231029T020000
TZOFFSETFROM:+0100
TZOFFSETTO:+0200
TZNAME:Europe/Berlin CEST
END:DAYLIGHT
BEGIN:DAYLIGHT
DTSTART:20240331T030000
RDATE:20241027T020000
TZOFFSETFROM:+0100
TZOFFSETTO:+0200
TZNAME:Europe/Berlin CEST
END:DAYLIGHT
BEGIN:DAYLIGHT
DTSTART:20250330T030000
RDATE:20251026T020000
TZOFFSETFROM:+0100
TZOFFSETTO:+0200
TZNAME:Europe/Berlin CEST
END:DAYLIGHT
BEGIN:DAYLIGHT
DTSTART:20260329T030000
RDATE:20261025T020000
TZOFFSETFROM:+0100
TZOFFSETTO:+0200
TZNAME:Europe/Berlin CEST
END:DAYLIGHT
BEGIN:DAYLIGHT
DTSTART:20270328T030000
RDATE:20271031T020000
TZOFFSETFROM:+0100
TZOFFSETTO:+0200
TZNAME:Europe/Berlin CEST
END:DAYLIGHT
END:VTIMEZONE
BEGIN:VEVENT
UID:573a27660af80f9c4d49c596b32b6d74
CATEGORIES:Kongresse
CREATED:20230420T075336
SUMMARY:39. Braunschweiger Fiberoptikkurs
LOCATION:Braunschweig
DESCRIPTION;ENCODING=QUOTED-PRINTABLE:\n\nEinladung zur Fortbildungsveranstaltung \n\n\nGrundlagen der fiberoptis
 chen Intubation und Bronchoskopie für Anästhesisten \n\n\n39. Fiberoptikkur
 s – 3. und 4. November 2023\n\n\n \n\n\nZielgruppen:     Ärzte / Ärztinnen 
 in der Weiterbildung Anästhesie\n\n\n                         Fachärzte für
  Anästhesiologie ohne Bronchoskopieerfahrung (max. 15 Teilnehmer/-innen)\n\
 n\n Dauer:             Freitag 17:00 Uhr bis 21:00 Uhr\n\n\n               
          Samstag 09:00 Uhr bis 13:00 Uhr\n\n\n Ort:                 Städtis
 ches Klinikum Braunschweig gGmbH, Geschäftsführung, Konferenzraum 2 + 3, Fr
 eisestr. 9, 38118 Braunschweig\n\n\nTeilnahmegebühr:     250,00 €\n\n -  Vo
 rtragsthemen\n - Anatomie des unteren Bronchialsystems\n - Fiberoptische In
 tubation\n - Diagnostische und therapeutische Bronchoskopie\n - Lagekontrol
 le von Doppellumentuben\n - Videodemonstration spezieller Befunde\n - Techn
 ischer Aufbau von Endoskopen\n - Hygieneaspekte\n -  Praktische Übungen am 
 Modell\n - Anatomische Orientierung im Bronchialsystem\n - Fiberoptische In
 tubation\n - Diagnostische und therapeutische Bronchoskopie\n - Lagekontrol
 le von Doppellumentuben\n\nLeitung\n\n\nCA Prof.* Dr. Peter Werning\n\n\nRe
 ferenten\n\n OA Dr. Björn Guldbakke\n\n\nOA Dr. Gerhard Dölle\n\n\nOA Dr. J
 an Rößler\n\n\nDr. Natalie Riemer\n\n\nVerbindliche Anmeldungen bitte an\n\
 n\nKatrin Werning\n\n\nAnästhesie-Sekretariat\n\n\nDiese E-Mail-Adresse ist
  vor Spambots geschützt! Zur Anzeige muss JavaScript eingeschaltet sein!
		
 		document.getElementById('cloak76dfddd7d42a95b4ba50805b5c49d2a4').innerHTM
 L = '';
				var prefix = '&#109;a' + 'i&#108;' + '&#116;o';
				var path = 
 'hr' + 'ef' + '=';
				var addy76dfddd7d42a95b4ba50805b5c49d2a4 = '&#97;n&#
 97;&#101;' + '&#64;';
				addy76dfddd7d42a95b4ba50805b5c49d2a4 = addy76dfdd
 d7d42a95b4ba50805b5c49d2a4 + 'skbs' + '&#46;' + 'd&#101;';
				var addy_tex
 t76dfddd7d42a95b4ba50805b5c49d2a4 = '&#97;n&#97;&#101;' + '&#64;' + 'skbs' 
 + '&#46;' + 'd&#101;';document.getElementById('cloak76dfddd7d42a95b4ba50805
 b5c49d2a4').innerHTML += ''+addy_text76dfddd7d42a95b4ba50805b5c49d2a4+'';
	
 	\n\n\n \n
DTSTAMP:20260422T124804Z
DTSTART;TZID=Europe/Berlin;VALUE=DATE:20231103
DTEND;TZID=Europe/Berlin;VALUE=DATE:20231105
SEQUENCE:0
TRANSP:OPAQUE
END:VEVENT
END:VCALENDAR