BEGIN:VCALENDAR
VERSION:2.0
PRODID:-//jEvents 2.0 for Joomla//EN
CALSCALE:GREGORIAN
METHOD:PUBLISH
BEGIN:VTIMEZONE
TZID:Europe/Berlin
BEGIN:STANDARD
DTSTART:20221030T020000
RDATE:20230326T030000
TZOFFSETFROM:+0200
TZOFFSETTO:+0100
TZNAME:Europe/Berlin CET
END:STANDARD
BEGIN:STANDARD
DTSTART:20231029T020000
RDATE:20240331T030000
TZOFFSETFROM:+0200
TZOFFSETTO:+0100
TZNAME:Europe/Berlin CET
END:STANDARD
BEGIN:STANDARD
DTSTART:20241027T020000
RDATE:20250330T030000
TZOFFSETFROM:+0200
TZOFFSETTO:+0100
TZNAME:Europe/Berlin CET
END:STANDARD
BEGIN:STANDARD
DTSTART:20251026T020000
RDATE:20260329T030000
TZOFFSETFROM:+0200
TZOFFSETTO:+0100
TZNAME:Europe/Berlin CET
END:STANDARD
BEGIN:STANDARD
DTSTART:20261025T020000
RDATE:20270328T030000
TZOFFSETFROM:+0200
TZOFFSETTO:+0100
TZNAME:Europe/Berlin CET
END:STANDARD
BEGIN:STANDARD
DTSTART:20271031T020000
RDATE:20280326T030000
TZOFFSETFROM:+0200
TZOFFSETTO:+0100
TZNAME:Europe/Berlin CET
END:STANDARD
BEGIN:DAYLIGHT
DTSTART:20220615T000000
RDATE:20221030T020000
TZOFFSETFROM:+0100
TZOFFSETTO:+0200
TZNAME:Europe/Berlin CEST
END:DAYLIGHT
BEGIN:DAYLIGHT
DTSTART:20230326T030000
RDATE:20231029T020000
TZOFFSETFROM:+0100
TZOFFSETTO:+0200
TZNAME:Europe/Berlin CEST
END:DAYLIGHT
BEGIN:DAYLIGHT
DTSTART:20240331T030000
RDATE:20241027T020000
TZOFFSETFROM:+0100
TZOFFSETTO:+0200
TZNAME:Europe/Berlin CEST
END:DAYLIGHT
BEGIN:DAYLIGHT
DTSTART:20250330T030000
RDATE:20251026T020000
TZOFFSETFROM:+0100
TZOFFSETTO:+0200
TZNAME:Europe/Berlin CEST
END:DAYLIGHT
BEGIN:DAYLIGHT
DTSTART:20260329T030000
RDATE:20261025T020000
TZOFFSETFROM:+0100
TZOFFSETTO:+0200
TZNAME:Europe/Berlin CEST
END:DAYLIGHT
BEGIN:DAYLIGHT
DTSTART:20270328T030000
RDATE:20271031T020000
TZOFFSETFROM:+0100
TZOFFSETTO:+0200
TZNAME:Europe/Berlin CEST
END:DAYLIGHT
END:VTIMEZONE
BEGIN:VEVENT
UID:23d70ac95bf5cdec6a8c2e59ba46f0d2
CATEGORIES:Kongresse
CREATED:20230426T160417
SUMMARY:DGAI Transthorakale Echokardiographie (PFE Modul 1 und 2 Grund und Aufbaukurs TTE) und Critical Care Echodynamics
LOCATION:Vivantes Klinikum Neukölln
DESCRIPTION;ENCODING=QUOTED-PRINTABLE:\n\nInformationen im Überblick\nKurstermine\nPFE Modul 1 (TTE Grundkurs)\nF
 reitag, 16. Juni 2023, 09:00 – 18:30 Uhr\nPFE Modul 2 (TTE Aufbaukurs)\nSam
 stag, 17. Juni 2023, 09:00 – 19:00 Uhr\nCritical Care Echodynamics\nSonntag
 , 18. Juni 2023, 08:30 – 19:30 Uhr\nVeranstaltungsort\nFestsaal, Gebäude 7,
  Etage 0 und 1\nVivantes Klinikum Neukölln\nRudower Straße 48, 12351 Berlin
 \nAnmeldung/Organisation\nExterne Teilnehmer*innen:\nDiese E-Mail-Adresse i
 st vor Spambots geschützt! Zur Anzeige muss JavaScript eingeschaltet sein!

 				document.getElementById('cloak52494877f8236eef444b011e4ed8dd14').innerH
 TML = '';
				var prefix = '&#109;a' + 'i&#108;' + '&#116;o';
				var path 
 = 'hr' + 'ef' + '=';
				var addy52494877f8236eef444b011e4ed8dd14 = 'st&#10
 1;ph&#97;n&#105;&#101;.k&#111;&#101;hl&#101;r' + '&#64;';
				addy52494877f
 8236eef444b011e4ed8dd14 = addy52494877f8236eef444b011e4ed8dd14 + 'v&#105;v&
 #97;nt&#101;s' + '&#46;' + 'd&#101;';
				var addy_text52494877f8236eef444b
 011e4ed8dd14 = 'st&#101;ph&#97;n&#105;&#101;.k&#111;&#101;hl&#101;r' + '&#6
 4;' + 'v&#105;v&#97;nt&#101;s' + '&#46;' + 'd&#101;';document.getElementByI
 d('cloak52494877f8236eef444b011e4ed8dd14').innerHTML += ''+addy_text5249487
 7f8236eef444b011e4ed8dd14+'';
		\nOrganisation vor Ort/fachlicher Ansprechp
 artner\nPhilip Hildebrandt\nKlinik für Anästhesie, operative Intensivmedizi
 n\nund Schmerztherapie\nVivantes Klinikum Neukölln\nDiese E-Mail-Adresse is
 t vor Spambots geschützt! Zur Anzeige muss JavaScript eingeschaltet sein!
	
 			document.getElementById('cloake33483c1c10fac7f163672fae7e0858c').innerHT
 ML = '';
				var prefix = '&#109;a' + 'i&#108;' + '&#116;o';
				var path =
  'hr' + 'ef' + '=';
				var addye33483c1c10fac7f163672fae7e0858c = 'ph&#105
 ;l&#105;p.h&#105;ld&#101;br&#97;ndt' + '&#64;';
				addye33483c1c10fac7f163
 672fae7e0858c = addye33483c1c10fac7f163672fae7e0858c + 'v&#105;v&#97;nt&#10
 1;s' + '&#46;' + 'd&#101;';
				var addy_texte33483c1c10fac7f163672fae7e085
 8c = 'ph&#105;l&#105;p.h&#105;ld&#101;br&#97;ndt' + '&#64;' + 'v&#105;v&#97
 ;nt&#101;s' + '&#46;' + 'd&#101;';document.getElementById('cloake33483c1c10
 fac7f163672fae7e0858c').innerHTML += ''+addy_texte33483c1c10fac7f163672fae7
 e0858c+'';
		\nKursleiter\nDr. med. Timur Puschmann, MBA, D.E.S.A.\nKlinik 
 für Anästhesie, operative\nIntensivmedizin und Schmerztherapie\nVivantes Kl
 inikum Neukölln\nBegleitmaterial\nAlle Teilnehmenden an PFE Modul 1 erhalte
 n die Pocket\nCard TTE Basics als Kursbegleitmaterial. Alle Teilnehmenden\n
 an Critical Care Echodynamics erhalten die Pocket\nCard CCE als Kursbegleit
 material. Das Material ist im\nKurspreis enthalten.\nTeilnahmebedingungen\n
 Senden Sie Ihre Anmeldung bitte per Fax an 030 130 29 19\n2812 oder per E-M
 ail an Diese E-Mail-Adresse ist vor Spambots geschützt! Zur Anzeige muss Ja
 vaScript eingeschaltet sein!
				document.getElementById('cloak9eee7e4e325e
 f50ac84fb027f6a7718f').innerHTML = '';
				var prefix = '&#109;a' + 'i&#108
 ;' + '&#116;o';
				var path = 'hr' + 'ef' + '=';
				var addy9eee7e4e325ef
 50ac84fb027f6a7718f = 'st&#101;ph&#97;n&#105;&#101;.k&#111;&#101;hl&#101;r'
  + '&#64;';
				addy9eee7e4e325ef50ac84fb027f6a7718f = addy9eee7e4e325ef50a
 c84fb027f6a7718f + 'v&#105;v&#97;nt&#101;s' + '&#46;' + 'd&#101;';
				var 
 addy_text9eee7e4e325ef50ac84fb027f6a7718f = 'st&#101;ph&#97;n&#105;&#101;.k
 &#111;&#101;hl&#101;r' + '&#64;' + 'v&#105;v&#97;nt&#101;s' + '&#46;' + 'd&
 #101;';document.getElementById('cloak9eee7e4e325ef50ac84fb027f6a7718f').inn
 erHTML += ''+addy_text9eee7e4e325ef50ac84fb027f6a7718f+'';
		.\nRechtzeitig
  vor Kursbeginn erhalten Sie von uns per E-Mail\ndie Information über die Z
 u- bzw. Absage.\nSie können Ihre Anmeldung bis spätestens 14 Tage vor\nSemi
 narbeginn kostenfrei in Schriftform stornieren. Bei\nAbsagen nach diesem Ze
 itpunkt ist die volle Seminargebühr\nzu bezahlen.\nFür die Begleichung der 
 Teilnahmegebühr verschickt\nVivantes Rechnungen an die von Ihnen angegebene
 \nAdresse. Bitte tragen Sie bei der Überweisung unbedingt\nden angegebenen 
 Betreff ein.\nDer Veranstalter haftet nicht für Verluste, Unfälle, Schäden\
 nan Personen oder Sachen, gleich welchen Ursprungs. Die\nTeilnehmer*innen n
 ehmen auf eigene Gefahr teil. Mit der\nAnmeldung erkennen die Teilnehmer*in
 nen diese Teilnahmebedingungen\nan.\nTeilnahmegebühr (umsatzsteuerbefreit)\
 n350,– € pro Kurstag, 1.000,– € bei Buchung aller 3 Tage\nVivantes Mitarbei
 ter*innen: 300,– € pro Kurstag,\n850,– € bei Buchung aller 3 Kurstage\nZert
 ifizierung\nDie Zertifizierung durch die Ärztekammer Berlin als\närztliche 
 Fortbildung ist beantragt. Eine Zertifizierung als\nPFE TTE Grundkurs, resp
 ektive Aufbaukurs der DGAI wird\nbeantragt.\nDEGUM-Kursleiter\nDr. med. Tim
 ur Puschmann, MBA, D.E.S.A.\n
DTSTAMP:20260423T215221Z
DTSTART;TZID=Europe/Berlin;VALUE=DATE:20230616
DTEND;TZID=Europe/Berlin;VALUE=DATE:20230619
SEQUENCE:0
TRANSP:OPAQUE
END:VEVENT
END:VCALENDAR