BEGIN:VCALENDAR
VERSION:2.0
PRODID:-//jEvents 2.0 for Joomla//EN
CALSCALE:GREGORIAN
METHOD:PUBLISH
BEGIN:VTIMEZONE
TZID:Europe/Berlin
BEGIN:STANDARD
DTSTART:20221030T020000
RDATE:20230326T030000
TZOFFSETFROM:+0200
TZOFFSETTO:+0100
TZNAME:Europe/Berlin CET
END:STANDARD
BEGIN:STANDARD
DTSTART:20231029T020000
RDATE:20240331T030000
TZOFFSETFROM:+0200
TZOFFSETTO:+0100
TZNAME:Europe/Berlin CET
END:STANDARD
BEGIN:STANDARD
DTSTART:20241027T020000
RDATE:20250330T030000
TZOFFSETFROM:+0200
TZOFFSETTO:+0100
TZNAME:Europe/Berlin CET
END:STANDARD
BEGIN:STANDARD
DTSTART:20251026T020000
RDATE:20260329T030000
TZOFFSETFROM:+0200
TZOFFSETTO:+0100
TZNAME:Europe/Berlin CET
END:STANDARD
BEGIN:STANDARD
DTSTART:20261025T020000
RDATE:20270328T030000
TZOFFSETFROM:+0200
TZOFFSETTO:+0100
TZNAME:Europe/Berlin CET
END:STANDARD
BEGIN:STANDARD
DTSTART:20271031T020000
RDATE:20280326T030000
TZOFFSETFROM:+0200
TZOFFSETTO:+0100
TZNAME:Europe/Berlin CET
END:STANDARD
BEGIN:DAYLIGHT
DTSTART:20220913T000000
RDATE:20221030T020000
TZOFFSETFROM:+0100
TZOFFSETTO:+0200
TZNAME:Europe/Berlin CEST
END:DAYLIGHT
BEGIN:DAYLIGHT
DTSTART:20230326T030000
RDATE:20231029T020000
TZOFFSETFROM:+0100
TZOFFSETTO:+0200
TZNAME:Europe/Berlin CEST
END:DAYLIGHT
BEGIN:DAYLIGHT
DTSTART:20240331T030000
RDATE:20241027T020000
TZOFFSETFROM:+0100
TZOFFSETTO:+0200
TZNAME:Europe/Berlin CEST
END:DAYLIGHT
BEGIN:DAYLIGHT
DTSTART:20250330T030000
RDATE:20251026T020000
TZOFFSETFROM:+0100
TZOFFSETTO:+0200
TZNAME:Europe/Berlin CEST
END:DAYLIGHT
BEGIN:DAYLIGHT
DTSTART:20260329T030000
RDATE:20261025T020000
TZOFFSETFROM:+0100
TZOFFSETTO:+0200
TZNAME:Europe/Berlin CEST
END:DAYLIGHT
BEGIN:DAYLIGHT
DTSTART:20270328T030000
RDATE:20271031T020000
TZOFFSETFROM:+0100
TZOFFSETTO:+0200
TZNAME:Europe/Berlin CEST
END:DAYLIGHT
END:VTIMEZONE
BEGIN:VEVENT
UID:5216722f5d5f672dda0f9e37cc3e619a
CATEGORIES:Kongresse
CREATED:20230503T142443
SUMMARY:Intensivtransportkurs nach DIVI - 1200m ü.N.N.
LOCATION:Panoramahotel ****S Oberjoch
DESCRIPTION;ENCODING=QUOTED-PRINTABLE:\n\n\n\n\nIn unserem dreitägigen, nach dem neuen Curriculum der DIVI (2022)
  akkreditierten Intensivtransportkurs trainieren wir den gesamten Ablauf de
 r Verlegung von kritisch kranken Patientinnen und Patienten aus Intensivsta
 tion und Notaufnahme. Neben der Vermittlung von Basiskenntnissen und Skillt
 raining steht Kommunikation und Team-Ressource-Management im Fokus.\n Diese
 r Kurs soll neben den medizinischen Wissensinhalten und den „non-technical 
 skills“ den Teilnehmenden ein Verständnis von den häufigen Fehlerquellen un
 d alltäglichen bzw. besonderen Zwischenfällen im Zusammenhang mit einem Int
 ensivtransport vermitteln. \n\n Das Trainieren eines strukturierten Einsatz
 ablaufs mit anschließendem Debriefing soll dabei die Sicherheit für Patient
  und Personal erhöhen. Zudem wird ein strukturiertes und priorisierendes Vo
 rgehen im Notfall geschult.\n\n\nDie Inhalte werden in Form von Präsentatio
 nen, Workshops sowie Skills- und Teamtraining in Kleingruppen interprofessi
 onell gemeinsam erarbeitet.\n\n\nDas Teilnehmenden zu Instruktor/innen-Verh
 ältnis beträgt 4:1.\n\n\nInhalte des Kurses sind u.a.:\n\n - Boden- und Luf
 ttransport\n - Repatriierung\n - Kommunikation\n - Arzt-zu-Arzt-Gespräch\n
  - Lung/Cardiac Assist Devices\n - Vermeidung des Transporttraumas\n - Moni
 toring\n - Beatmung und Drainagemanagement\n - Lagerung / Intensivpflege\n 
 - Spezielle Einsatztaktik\n - Transportbesonderheiten bei Kindern, Trauma, 
 Verbrennung, u.a.\n - Recht/Dokumentation/QMZielgruppe:\n - Ärztinnen/Ärzte
 \n - NotfallsanitäterInnen\n - Krankenpflegepersonal A/I, Notaufnahme\n - R
 ettungssanitäterInnenKosten:\n - 850,-€Inkludierte Leistungen:\n - Kursteil
 nahme\n - Lizenzgebühr DIVI\n - Kaffee-Spezialitäten während des Kurses\n -
  Seminargetränke während des Kurses\n - Snacks am Vormittag\n - Gebäck/Kuch
 en am Nachmittag\n - Candy Bar\n - Mittagessen mit vegetarischer und vegane
 r Option\n - Gemeinsamer Kursabend mit den DozentInnenCME-Punkte\n - 31 CME
 -Punkte durch die Bayerische Landesärztekammer\n - 31 ECM-Punkte in Italien
 \n\nAnmeldung: Diese E-Mail-Adresse ist vor Spambots geschützt! Zur Anzeige
  muss JavaScript eingeschaltet sein!
				document.getElementById('cloakbbeb
 6e73e6e2cce5bdc2d4f711284895').innerHTML = '';
				var prefix = '&#109;a' +
  'i&#108;' + '&#116;o';
				var path = 'hr' + 'ef' + '=';
				var addybbeb6
 e73e6e2cce5bdc2d4f711284895 = '&#97;nm&#101;ld&#117;ng' + '&#64;';
				addy
 bbeb6e73e6e2cce5bdc2d4f711284895 = addybbeb6e73e6e2cce5bdc2d4f711284895 + '
 n&#111;tf&#97;llm&#101;d&#105;z&#105;n-&#97;llg&#97;&#101;&#117;' + '&#46;'
  + 'd&#101;';
				var addy_textbbeb6e73e6e2cce5bdc2d4f711284895 = '&#97;nm&
 #101;ld&#117;ng' + '&#64;' + 'n&#111;tf&#97;llm&#101;d&#105;z&#105;n-&#97;l
 lg&#97;&#101;&#117;' + '&#46;' + 'd&#101;';document.getElementById('cloakbb
 eb6e73e6e2cce5bdc2d4f711284895').innerHTML += ''+addy_textbbeb6e73e6e2cce5b
 dc2d4f711284895+'';
		\n
DTSTAMP:20260424T185513Z
DTSTART;TZID=Europe/Berlin;VALUE=DATE:20230914
DTEND;TZID=Europe/Berlin;VALUE=DATE:20230917
SEQUENCE:0
TRANSP:OPAQUE
END:VEVENT
END:VCALENDAR