BEGIN:VCALENDAR
VERSION:2.0
PRODID:-//jEvents 2.0 for Joomla//EN
CALSCALE:GREGORIAN
METHOD:PUBLISH
BEGIN:VTIMEZONE
TZID:Europe/Berlin
BEGIN:STANDARD
DTSTART:20221030T020000
RDATE:20230326T030000
TZOFFSETFROM:+0200
TZOFFSETTO:+0100
TZNAME:Europe/Berlin CET
END:STANDARD
BEGIN:STANDARD
DTSTART:20231029T020000
RDATE:20240331T030000
TZOFFSETFROM:+0200
TZOFFSETTO:+0100
TZNAME:Europe/Berlin CET
END:STANDARD
BEGIN:STANDARD
DTSTART:20241027T020000
RDATE:20250330T030000
TZOFFSETFROM:+0200
TZOFFSETTO:+0100
TZNAME:Europe/Berlin CET
END:STANDARD
BEGIN:STANDARD
DTSTART:20251026T020000
RDATE:20260329T030000
TZOFFSETFROM:+0200
TZOFFSETTO:+0100
TZNAME:Europe/Berlin CET
END:STANDARD
BEGIN:STANDARD
DTSTART:20261025T020000
RDATE:20270328T030000
TZOFFSETFROM:+0200
TZOFFSETTO:+0100
TZNAME:Europe/Berlin CET
END:STANDARD
BEGIN:STANDARD
DTSTART:20271031T020000
RDATE:20280326T030000
TZOFFSETFROM:+0200
TZOFFSETTO:+0100
TZNAME:Europe/Berlin CET
END:STANDARD
BEGIN:DAYLIGHT
DTSTART:20220622T000000
RDATE:20221030T020000
TZOFFSETFROM:+0100
TZOFFSETTO:+0200
TZNAME:Europe/Berlin CEST
END:DAYLIGHT
BEGIN:DAYLIGHT
DTSTART:20230326T030000
RDATE:20231029T020000
TZOFFSETFROM:+0100
TZOFFSETTO:+0200
TZNAME:Europe/Berlin CEST
END:DAYLIGHT
BEGIN:DAYLIGHT
DTSTART:20240331T030000
RDATE:20241027T020000
TZOFFSETFROM:+0100
TZOFFSETTO:+0200
TZNAME:Europe/Berlin CEST
END:DAYLIGHT
BEGIN:DAYLIGHT
DTSTART:20250330T030000
RDATE:20251026T020000
TZOFFSETFROM:+0100
TZOFFSETTO:+0200
TZNAME:Europe/Berlin CEST
END:DAYLIGHT
BEGIN:DAYLIGHT
DTSTART:20260329T030000
RDATE:20261025T020000
TZOFFSETFROM:+0100
TZOFFSETTO:+0200
TZNAME:Europe/Berlin CEST
END:DAYLIGHT
BEGIN:DAYLIGHT
DTSTART:20270328T030000
RDATE:20271031T020000
TZOFFSETFROM:+0100
TZOFFSETTO:+0200
TZNAME:Europe/Berlin CEST
END:DAYLIGHT
END:VTIMEZONE
BEGIN:VEVENT
UID:57555547b02027421956fa40d77bfc4e
CATEGORIES:Kongresse
CREATED:20230505T141435
SUMMARY:Ultraschall in der Anästhesiologie
LOCATION:Sonoskopie Lernstudio 
DESCRIPTION;ENCODING=QUOTED-PRINTABLE:Ultraschall Grundlagen für Gefäßpunktion &amp; Nervenblockaden - inkl. Resc
 ue-Blockaden Grundkurs 1 Anästhesiologie (DEGUM) äquiv. AFS Module 1, 2 (DG
 AI) -Leistungen Blended Learning Paket inkl. Seminar, Kleingruppen Training
 , Pocket Cards und Kursbuch des SonoABCD-Verlags, Micro- und E-Learning. We
 bCasts=digitaler Zugriff Vortragsinhalte und -aufzeichnungen für Ihre Vor- 
 und Nachbereitung. DEGUM-Bescheinigung, EFN CME FoBi-Punkte der Landesärzte
 kammer Hessen, Verpflegung. Sie erlernen die Grundlagen - Untersuchungen, S
 onoanatomie 
DTSTAMP:20260424T073200Z
DTSTART;TZID=Europe/Berlin;VALUE=DATE:20230623
DTEND;TZID=Europe/Berlin;VALUE=DATE:20230625
SEQUENCE:0
TRANSP:OPAQUE
END:VEVENT
END:VCALENDAR