BEGIN:VCALENDAR
VERSION:2.0
PRODID:-//jEvents 2.0 for Joomla//EN
CALSCALE:GREGORIAN
METHOD:PUBLISH
BEGIN:VTIMEZONE
TZID:Europe/Berlin
BEGIN:STANDARD
DTSTART:20221030T020000
RDATE:20230326T030000
TZOFFSETFROM:+0200
TZOFFSETTO:+0100
TZNAME:Europe/Berlin CET
END:STANDARD
BEGIN:STANDARD
DTSTART:20231029T020000
RDATE:20240331T030000
TZOFFSETFROM:+0200
TZOFFSETTO:+0100
TZNAME:Europe/Berlin CET
END:STANDARD
BEGIN:STANDARD
DTSTART:20241027T020000
RDATE:20250330T030000
TZOFFSETFROM:+0200
TZOFFSETTO:+0100
TZNAME:Europe/Berlin CET
END:STANDARD
BEGIN:STANDARD
DTSTART:20251026T020000
RDATE:20260329T030000
TZOFFSETFROM:+0200
TZOFFSETTO:+0100
TZNAME:Europe/Berlin CET
END:STANDARD
BEGIN:STANDARD
DTSTART:20261025T020000
RDATE:20270328T030000
TZOFFSETFROM:+0200
TZOFFSETTO:+0100
TZNAME:Europe/Berlin CET
END:STANDARD
BEGIN:STANDARD
DTSTART:20271031T020000
RDATE:20280326T030000
TZOFFSETFROM:+0200
TZOFFSETTO:+0100
TZNAME:Europe/Berlin CET
END:STANDARD
BEGIN:DAYLIGHT
DTSTART:20220907T000000
RDATE:20221030T020000
TZOFFSETFROM:+0100
TZOFFSETTO:+0200
TZNAME:Europe/Berlin CEST
END:DAYLIGHT
BEGIN:DAYLIGHT
DTSTART:20230326T030000
RDATE:20231029T020000
TZOFFSETFROM:+0100
TZOFFSETTO:+0200
TZNAME:Europe/Berlin CEST
END:DAYLIGHT
BEGIN:DAYLIGHT
DTSTART:20240331T030000
RDATE:20241027T020000
TZOFFSETFROM:+0100
TZOFFSETTO:+0200
TZNAME:Europe/Berlin CEST
END:DAYLIGHT
BEGIN:DAYLIGHT
DTSTART:20250330T030000
RDATE:20251026T020000
TZOFFSETFROM:+0100
TZOFFSETTO:+0200
TZNAME:Europe/Berlin CEST
END:DAYLIGHT
BEGIN:DAYLIGHT
DTSTART:20260329T030000
RDATE:20261025T020000
TZOFFSETFROM:+0100
TZOFFSETTO:+0200
TZNAME:Europe/Berlin CEST
END:DAYLIGHT
BEGIN:DAYLIGHT
DTSTART:20270328T030000
RDATE:20271031T020000
TZOFFSETFROM:+0100
TZOFFSETTO:+0200
TZNAME:Europe/Berlin CEST
END:DAYLIGHT
END:VTIMEZONE
BEGIN:VEVENT
UID:e424e4e5b0101cbd1ef3bd7ac4a34c79
CATEGORIES:Kongresse
CREATED:20230505T141826
SUMMARY:Ultraschall in der Anästhesiologie
LOCATION:Sonoskopie Lernstudio 
DESCRIPTION;ENCODING=QUOTED-PRINTABLE:Ultraschall Grundlagen für Gefäßpunktion &amp; Nervenblockaden\n- inkl. Res
 cue-Blockaden Grundkurs 1 Anästhesiologie (DEGUM) äquiv. AFS Module 1, 2 (D
 GAI)\n-Leistungen \nBlended Learning Paket inkl. Seminar, Kleingruppen Trai
 ning, Pocket Cards und Kursbuch des SonoABCD-Verlags, Micro- und E-Learning
 . WebCasts=digitaler Zugriff Vortragsinhalte und -aufzeichnungen für Ihre V
 or- und Nachbereitung. DEGUM-Bescheinigung, EFN CME FoBi-Punkte der Landesä
 rztekammer Hessen, Verpflegung. Sie erlernen die Grundlagen - Untersuchunge
 n, Sonoanatomie\n
DTSTAMP:20260425T154636Z
DTSTART;TZID=Europe/Berlin;VALUE=DATE:20230908
DTEND;TZID=Europe/Berlin;VALUE=DATE:20230910
SEQUENCE:0
TRANSP:OPAQUE
END:VEVENT
END:VCALENDAR