BEGIN:VCALENDAR
VERSION:2.0
PRODID:-//jEvents 2.0 for Joomla//EN
CALSCALE:GREGORIAN
METHOD:PUBLISH
BEGIN:VTIMEZONE
TZID:Europe/Berlin
BEGIN:STANDARD
DTSTART:20221030T020000
RDATE:20230326T030000
TZOFFSETFROM:+0200
TZOFFSETTO:+0100
TZNAME:Europe/Berlin CET
END:STANDARD
BEGIN:STANDARD
DTSTART:20231029T020000
RDATE:20240331T030000
TZOFFSETFROM:+0200
TZOFFSETTO:+0100
TZNAME:Europe/Berlin CET
END:STANDARD
BEGIN:STANDARD
DTSTART:20241027T020000
RDATE:20250330T030000
TZOFFSETFROM:+0200
TZOFFSETTO:+0100
TZNAME:Europe/Berlin CET
END:STANDARD
BEGIN:STANDARD
DTSTART:20251026T020000
RDATE:20260329T030000
TZOFFSETFROM:+0200
TZOFFSETTO:+0100
TZNAME:Europe/Berlin CET
END:STANDARD
BEGIN:STANDARD
DTSTART:20261025T020000
RDATE:20270328T030000
TZOFFSETFROM:+0200
TZOFFSETTO:+0100
TZNAME:Europe/Berlin CET
END:STANDARD
BEGIN:STANDARD
DTSTART:20271031T020000
RDATE:20280326T030000
TZOFFSETFROM:+0200
TZOFFSETTO:+0100
TZNAME:Europe/Berlin CET
END:STANDARD
BEGIN:DAYLIGHT
DTSTART:20221005T000000
RDATE:20221030T020000
TZOFFSETFROM:+0100
TZOFFSETTO:+0200
TZNAME:Europe/Berlin CEST
END:DAYLIGHT
BEGIN:DAYLIGHT
DTSTART:20230326T030000
RDATE:20231029T020000
TZOFFSETFROM:+0100
TZOFFSETTO:+0200
TZNAME:Europe/Berlin CEST
END:DAYLIGHT
BEGIN:DAYLIGHT
DTSTART:20240331T030000
RDATE:20241027T020000
TZOFFSETFROM:+0100
TZOFFSETTO:+0200
TZNAME:Europe/Berlin CEST
END:DAYLIGHT
BEGIN:DAYLIGHT
DTSTART:20250330T030000
RDATE:20251026T020000
TZOFFSETFROM:+0100
TZOFFSETTO:+0200
TZNAME:Europe/Berlin CEST
END:DAYLIGHT
BEGIN:DAYLIGHT
DTSTART:20260329T030000
RDATE:20261025T020000
TZOFFSETFROM:+0100
TZOFFSETTO:+0200
TZNAME:Europe/Berlin CEST
END:DAYLIGHT
BEGIN:DAYLIGHT
DTSTART:20270328T030000
RDATE:20271031T020000
TZOFFSETFROM:+0100
TZOFFSETTO:+0200
TZNAME:Europe/Berlin CEST
END:DAYLIGHT
END:VTIMEZONE
BEGIN:VEVENT
UID:345ea489433c08726c350a27be39a58b
CATEGORIES:Kongresse
CREATED:20230505T142153
SUMMARY:Ultraschall in der Anästhesiologie
LOCATION:Sonoskopie Lernstudio
DESCRIPTION;ENCODING=QUOTED-PRINTABLE:Beschreibung GK1:\nUltraschall Grundlagen für Gefäßpunktion &amp; Nervenblo
 ckaden\n- inkl. Rescue-Blockaden Grundkurs 1 Anästhesiologie (DEGUM) äquiv.
  AFS Module 1, 2 (DGAI)\n-Leistungen \nBlended Learning Paket inkl. Seminar
 , Kleingruppen Training, Pocket Cards und Kursbuch des SonoABCD-Verlags, Mi
 cro- und E-Learning. WebCasts=digitaler Zugriff Vortragsinhalte und -aufzei
 chnungen für Ihre Vor- und Nachbereitung. DEGUM-Bescheinigung, EFN CME FoBi
 -Punkte der Landesärztekammer Hessen, Verpflegung. Sie erlernen die Grundla
 gen - Untersuchungen, Sonoanatomie\n
DTSTAMP:20260423T230813Z
DTSTART;TZID=Europe/Berlin;VALUE=DATE:20231006
DTEND;TZID=Europe/Berlin;VALUE=DATE:20231008
SEQUENCE:0
TRANSP:OPAQUE
END:VEVENT
END:VCALENDAR