BEGIN:VCALENDAR
VERSION:2.0
PRODID:-//jEvents 2.0 for Joomla//EN
CALSCALE:GREGORIAN
METHOD:PUBLISH
BEGIN:VTIMEZONE
TZID:Europe/Berlin
BEGIN:STANDARD
DTSTART:20221109T000000
RDATE:20230326T030000
TZOFFSETFROM:+0200
TZOFFSETTO:+0100
TZNAME:Europe/Berlin CET
END:STANDARD
BEGIN:STANDARD
DTSTART:20231029T020000
RDATE:20240331T030000
TZOFFSETFROM:+0200
TZOFFSETTO:+0100
TZNAME:Europe/Berlin CET
END:STANDARD
BEGIN:STANDARD
DTSTART:20241027T020000
RDATE:20250330T030000
TZOFFSETFROM:+0200
TZOFFSETTO:+0100
TZNAME:Europe/Berlin CET
END:STANDARD
BEGIN:STANDARD
DTSTART:20251026T020000
RDATE:20260329T030000
TZOFFSETFROM:+0200
TZOFFSETTO:+0100
TZNAME:Europe/Berlin CET
END:STANDARD
BEGIN:STANDARD
DTSTART:20261025T020000
RDATE:20270328T030000
TZOFFSETFROM:+0200
TZOFFSETTO:+0100
TZNAME:Europe/Berlin CET
END:STANDARD
BEGIN:STANDARD
DTSTART:20271031T020000
RDATE:20280326T030000
TZOFFSETFROM:+0200
TZOFFSETTO:+0100
TZNAME:Europe/Berlin CET
END:STANDARD
BEGIN:DAYLIGHT
DTSTART:20230326T030000
RDATE:20231029T020000
TZOFFSETFROM:+0100
TZOFFSETTO:+0200
TZNAME:Europe/Berlin CEST
END:DAYLIGHT
BEGIN:DAYLIGHT
DTSTART:20240331T030000
RDATE:20241027T020000
TZOFFSETFROM:+0100
TZOFFSETTO:+0200
TZNAME:Europe/Berlin CEST
END:DAYLIGHT
BEGIN:DAYLIGHT
DTSTART:20250330T030000
RDATE:20251026T020000
TZOFFSETFROM:+0100
TZOFFSETTO:+0200
TZNAME:Europe/Berlin CEST
END:DAYLIGHT
BEGIN:DAYLIGHT
DTSTART:20260329T030000
RDATE:20261025T020000
TZOFFSETFROM:+0100
TZOFFSETTO:+0200
TZNAME:Europe/Berlin CEST
END:DAYLIGHT
BEGIN:DAYLIGHT
DTSTART:20270328T030000
RDATE:20271031T020000
TZOFFSETFROM:+0100
TZOFFSETTO:+0200
TZNAME:Europe/Berlin CEST
END:DAYLIGHT
END:VTIMEZONE
BEGIN:VEVENT
UID:f9ea438c45fb5bb9b0a82ccf15825bd3
CATEGORIES:Kongresse
CREATED:20230505T182000
SUMMARY:DGAI Transthorakale Echokardiographie (PFE Modul 1 und 2 Grund und Aufbaukurs TTE) und Critical Care Echodynamics
LOCATION:Vivantes Klinikum Neukölln
DESCRIPTION;ENCODING=QUOTED-PRINTABLE:\n\nInformationen im Überblick\nKurstermine\nPFE Modul 1 (TTE Grundkurs)\nF
 reitag, 10. November 2023, 09:00 – 18:30 Uhr\nPFE Modul 2 (TTE Aufbaukurs)\
 nSamstag, 11. November 2023, 09:00 – 19:00 Uhr\nCritical Care Echodynamics\
 nSonntag, 12. November 2023, 08:30 – 19:30 Uhr\nVeranstaltungsort\nFestsaal
 , Gebäude 7, Etage 0 und 1\nVivantes Klinikum Neukölln\nRudower Straße 48, 
 12351 Berlin\nAnmeldung/Organisation\nExterne Teilnehmer*innen:\nDiese E-Ma
 il-Adresse ist vor Spambots geschützt! Zur Anzeige muss JavaScript eingesch
 altet sein!
				document.getElementById('cloak3558ab461ed466cc3d3deee8539cd
 b9f').innerHTML = '';
				var prefix = '&#109;a' + 'i&#108;' + '&#116;o';
	
 			var path = 'hr' + 'ef' + '=';
				var addy3558ab461ed466cc3d3deee8539cdb
 9f = 'st&#101;ph&#97;n&#105;&#101;.k&#111;&#101;hl&#101;r' + '&#64;';
				a
 ddy3558ab461ed466cc3d3deee8539cdb9f = addy3558ab461ed466cc3d3deee8539cdb9f 
 + 'v&#105;v&#97;nt&#101;s' + '&#46;' + 'd&#101;';
				var addy_text3558ab46
 1ed466cc3d3deee8539cdb9f = 'st&#101;ph&#97;n&#105;&#101;.k&#111;&#101;hl&#1
 01;r' + '&#64;' + 'v&#105;v&#97;nt&#101;s' + '&#46;' + 'd&#101;';document.g
 etElementById('cloak3558ab461ed466cc3d3deee8539cdb9f').innerHTML += ''+addy
 _text3558ab461ed466cc3d3deee8539cdb9f+'';
		\nOrganisation vor Ort/fachlich
 er Ansprechpartner\nPhilip Hildebrandt\nKlinik für Anästhesie, operative In
 tensivmedizin\nund Schmerztherapie\nVivantes Klinikum Neukölln\nDiese E-Mai
 l-Adresse ist vor Spambots geschützt! Zur Anzeige muss JavaScript eingescha
 ltet sein!
				document.getElementById('cloak6376484779c7af9e516e86131d3e6d
 6f').innerHTML = '';
				var prefix = '&#109;a' + 'i&#108;' + '&#116;o';
		
 		var path = 'hr' + 'ef' + '=';
				var addy6376484779c7af9e516e86131d3e6d6
 f = 'ph&#105;l&#105;p.h&#105;ld&#101;br&#97;ndt' + '&#64;';
				addy6376484
 779c7af9e516e86131d3e6d6f = addy6376484779c7af9e516e86131d3e6d6f + 'v&#105;
 v&#97;nt&#101;s' + '&#46;' + 'd&#101;';
				var addy_text6376484779c7af9e51
 6e86131d3e6d6f = 'ph&#105;l&#105;p.h&#105;ld&#101;br&#97;ndt' + '&#64;' + '
 v&#105;v&#97;nt&#101;s' + '&#46;' + 'd&#101;';document.getElementById('cloa
 k6376484779c7af9e516e86131d3e6d6f').innerHTML += ''+addy_text6376484779c7af
 9e516e86131d3e6d6f+'';
		\nKursleiter\nDr. med. Timur Puschmann, MBA, D.E.S
 .A.\nKlinik für Anästhesie, operative\nIntensivmedizin und Schmerztherapie\
 nVivantes Klinikum Neukölln\nBegleitmaterial\nAlle Teilnehmenden an PFE Mod
 ul 1 erhalten die Pocket\nCard TTE Basics als Kursbegleitmaterial. Alle Tei
 lnehmenden\nan Critical Care Echodynamics erhalten die Pocket\nCard CCE als
  Kursbegleitmaterial. Das Material ist im\nKurspreis enthalten.\nTeilnahmeb
 edingungen\nSenden Sie Ihre Anmeldung bitte per Fax an 030 130 29 19\n2812 
 oder per E-Mail an Diese E-Mail-Adresse ist vor Spambots geschützt! Zur Anz
 eige muss JavaScript eingeschaltet sein!
				document.getElementById('cloak
 fb7680bab09b229de83f99f3312d7fc3').innerHTML = '';
				var prefix = '&#109;
 a' + 'i&#108;' + '&#116;o';
				var path = 'hr' + 'ef' + '=';
				var addyf
 b7680bab09b229de83f99f3312d7fc3 = 'st&#101;ph&#97;n&#105;&#101;.k&#111;&#10
 1;hl&#101;r' + '&#64;';
				addyfb7680bab09b229de83f99f3312d7fc3 = addyfb76
 80bab09b229de83f99f3312d7fc3 + 'v&#105;v&#97;nt&#101;s' + '&#46;' + 'd&#101
 ;';
				var addy_textfb7680bab09b229de83f99f3312d7fc3 = 'st&#101;ph&#97;n&#
 105;&#101;.k&#111;&#101;hl&#101;r' + '&#64;' + 'v&#105;v&#97;nt&#101;s' + '
 &#46;' + 'd&#101;';document.getElementById('cloakfb7680bab09b229de83f99f331
 2d7fc3').innerHTML += ''+addy_textfb7680bab09b229de83f99f3312d7fc3+'';
		.\
 nRechtzeitig vor Kursbeginn erhalten Sie von uns per E-Mail\ndie Informatio
 n über die Zu- bzw. Absage.\nSie können Ihre Anmeldung bis spätestens 14 Ta
 ge vor\nSeminarbeginn kostenfrei in Schriftform stornieren. Bei\nAbsagen na
 ch diesem Zeitpunkt ist die volle Seminargebühr\nzu bezahlen.\nFür die Begl
 eichung der Teilnahmegebühr verschickt\nVivantes Rechnungen an die von Ihne
 n angegebene\nAdresse. Bitte tragen Sie bei der Überweisung unbedingt\nden 
 angegebenen Betreff ein.\nDer Veranstalter haftet nicht für Verluste, Unfäl
 le, Schäden\nan Personen oder Sachen, gleich welchen Ursprungs. Die\nTeilne
 hmer*innen nehmen auf eigene Gefahr teil. Mit der\nAnmeldung erkennen die T
 eilnehmer*innen diese Teilnahmebedingungen\nan.\nTeilnahmegebühr (umsatzste
 uerbefreit)\n350,– € pro Kurstag, 1.000,– € bei Buchung aller 3 Tage\nVivan
 tes Mitarbeiter*innen: 300,– € pro Kurstag,\n850,– € bei Buchung aller 3 Ku
 rstage\nZertifizierung\nDie Zertifizierung durch die Ärztekammer Berlin als
 \närztliche Fortbildung ist beantragt. Eine Zertifizierung als\nPFE TTE Gru
 ndkurs, respektive Aufbaukurs der DGAI wird\nbeantragt.\nDEGUM-Kursleiter\n
 Dr. med. Timur Puschmann, MBA, D.E.S.A.\n
DTSTAMP:20260421T180612Z
DTSTART;TZID=Europe/Berlin;VALUE=DATE:20231110
DTEND;TZID=Europe/Berlin;VALUE=DATE:20231113
SEQUENCE:0
TRANSP:OPAQUE
END:VEVENT
END:VCALENDAR