BEGIN:VCALENDAR
VERSION:2.0
PRODID:-//jEvents 2.0 for Joomla//EN
CALSCALE:GREGORIAN
METHOD:PUBLISH
BEGIN:VTIMEZONE
TZID:Europe/Berlin
BEGIN:STANDARD
DTSTART:20221030T020000
RDATE:20230326T030000
TZOFFSETFROM:+0200
TZOFFSETTO:+0100
TZNAME:Europe/Berlin CET
END:STANDARD
BEGIN:STANDARD
DTSTART:20231029T020000
RDATE:20240331T030000
TZOFFSETFROM:+0200
TZOFFSETTO:+0100
TZNAME:Europe/Berlin CET
END:STANDARD
BEGIN:STANDARD
DTSTART:20241027T020000
RDATE:20250330T030000
TZOFFSETFROM:+0200
TZOFFSETTO:+0100
TZNAME:Europe/Berlin CET
END:STANDARD
BEGIN:STANDARD
DTSTART:20251026T020000
RDATE:20260329T030000
TZOFFSETFROM:+0200
TZOFFSETTO:+0100
TZNAME:Europe/Berlin CET
END:STANDARD
BEGIN:STANDARD
DTSTART:20261025T020000
RDATE:20270328T030000
TZOFFSETFROM:+0200
TZOFFSETTO:+0100
TZNAME:Europe/Berlin CET
END:STANDARD
BEGIN:STANDARD
DTSTART:20271031T020000
RDATE:20280326T030000
TZOFFSETFROM:+0200
TZOFFSETTO:+0100
TZNAME:Europe/Berlin CET
END:STANDARD
BEGIN:DAYLIGHT
DTSTART:20221029T010000
RDATE:20221030T020000
TZOFFSETFROM:+0100
TZOFFSETTO:+0200
TZNAME:Europe/Berlin CEST
END:DAYLIGHT
BEGIN:DAYLIGHT
DTSTART:20230326T030000
RDATE:20231029T020000
TZOFFSETFROM:+0100
TZOFFSETTO:+0200
TZNAME:Europe/Berlin CEST
END:DAYLIGHT
BEGIN:DAYLIGHT
DTSTART:20240331T030000
RDATE:20241027T020000
TZOFFSETFROM:+0100
TZOFFSETTO:+0200
TZNAME:Europe/Berlin CEST
END:DAYLIGHT
BEGIN:DAYLIGHT
DTSTART:20250330T030000
RDATE:20251026T020000
TZOFFSETFROM:+0100
TZOFFSETTO:+0200
TZNAME:Europe/Berlin CEST
END:DAYLIGHT
BEGIN:DAYLIGHT
DTSTART:20260329T030000
RDATE:20261025T020000
TZOFFSETFROM:+0100
TZOFFSETTO:+0200
TZNAME:Europe/Berlin CEST
END:DAYLIGHT
BEGIN:DAYLIGHT
DTSTART:20270328T030000
RDATE:20271031T020000
TZOFFSETFROM:+0100
TZOFFSETTO:+0200
TZNAME:Europe/Berlin CEST
END:DAYLIGHT
END:VTIMEZONE
BEGIN:VEVENT
UID:d68af73d004bfad5d9cb85ac2b03207a
CATEGORIES:Kongresse
CREATED:20230606T134344
SUMMARY:"Der ältere Mensch im OP" - Praktische Anregung zur Delirprophylaxe
LOCATION:Online
DESCRIPTION;ENCODING=QUOTED-PRINTABLE:\n\nDas Delir stellt insbesondere älteren Patient*innen im operativen Berei
 ch eine der häufigsten Komplikationen während eines stationären Aufenthalte
 s dar und kann gravierenden Folgen haben. Eine Delir-Prophylaxe kann dazu b
 eitragen, die Mortalität zu senken.\n\n\nDas Symposium "Der ältere Mensch i
 m OP" richtet sich an Kolleg*innen aus der Pflege, dem ärztlichen Dienst so
 wie an Mitarbeiter*innen der Verwaltung, die Interesse haben, Maßnahmen zum
  Delirmanagement in Ihrem Krankenhaus zu implementieren.\n\n\nDas am St. Fr
 anziskus - Hospital in Münster langjährig erprobte und gut etablierte Konze
 pt zur Vermeidung eines perioperativen Delirs wird am 30. + 31. Oktober 202
 3 in einem Live-Webinar vorgestellt. Darüber hinaus werden Referent*innen a
 us anderen Bereichen bzw. Kliniken, ergänzende Elemente in der Behandlung ä
 lterer, delir-gefährdeter Patient*innen präsentieren.\n\n\nWeitere Informat
 ionen zum Programm und zur Anmeldung sind auf der angegebenen Homepage (Fly
 er zur Veranstaltung als pdf) zu finden.\n
DTSTAMP:20260422T153717Z
DTSTART;TZID=Europe/Berlin;VALUE=DATE:20231030
DTEND;TZID=Europe/Berlin;VALUE=DATE:20231101
SEQUENCE:0
TRANSP:OPAQUE
END:VEVENT
END:VCALENDAR