BEGIN:VCALENDAR
VERSION:2.0
PRODID:-//jEvents 2.0 for Joomla//EN
CALSCALE:GREGORIAN
METHOD:PUBLISH
BEGIN:VTIMEZONE
TZID:Europe/Berlin
BEGIN:STANDARD
DTSTART:20221030T020000
RDATE:20230326T030000
TZOFFSETFROM:+0200
TZOFFSETTO:+0100
TZNAME:Europe/Berlin CET
END:STANDARD
BEGIN:STANDARD
DTSTART:20231029T020000
RDATE:20240331T030000
TZOFFSETFROM:+0200
TZOFFSETTO:+0100
TZNAME:Europe/Berlin CET
END:STANDARD
BEGIN:STANDARD
DTSTART:20241027T020000
RDATE:20250330T030000
TZOFFSETFROM:+0200
TZOFFSETTO:+0100
TZNAME:Europe/Berlin CET
END:STANDARD
BEGIN:STANDARD
DTSTART:20251026T020000
RDATE:20260329T030000
TZOFFSETFROM:+0200
TZOFFSETTO:+0100
TZNAME:Europe/Berlin CET
END:STANDARD
BEGIN:STANDARD
DTSTART:20261025T020000
RDATE:20270328T030000
TZOFFSETFROM:+0200
TZOFFSETTO:+0100
TZNAME:Europe/Berlin CET
END:STANDARD
BEGIN:STANDARD
DTSTART:20271031T020000
RDATE:20280326T030000
TZOFFSETFROM:+0200
TZOFFSETTO:+0100
TZNAME:Europe/Berlin CET
END:STANDARD
BEGIN:DAYLIGHT
DTSTART:20220921T000000
RDATE:20221030T020000
TZOFFSETFROM:+0100
TZOFFSETTO:+0200
TZNAME:Europe/Berlin CEST
END:DAYLIGHT
BEGIN:DAYLIGHT
DTSTART:20230326T030000
RDATE:20231029T020000
TZOFFSETFROM:+0100
TZOFFSETTO:+0200
TZNAME:Europe/Berlin CEST
END:DAYLIGHT
BEGIN:DAYLIGHT
DTSTART:20240331T030000
RDATE:20241027T020000
TZOFFSETFROM:+0100
TZOFFSETTO:+0200
TZNAME:Europe/Berlin CEST
END:DAYLIGHT
BEGIN:DAYLIGHT
DTSTART:20250330T030000
RDATE:20251026T020000
TZOFFSETFROM:+0100
TZOFFSETTO:+0200
TZNAME:Europe/Berlin CEST
END:DAYLIGHT
BEGIN:DAYLIGHT
DTSTART:20260329T030000
RDATE:20261025T020000
TZOFFSETFROM:+0100
TZOFFSETTO:+0200
TZNAME:Europe/Berlin CEST
END:DAYLIGHT
BEGIN:DAYLIGHT
DTSTART:20270328T030000
RDATE:20271031T020000
TZOFFSETFROM:+0100
TZOFFSETTO:+0200
TZNAME:Europe/Berlin CEST
END:DAYLIGHT
END:VTIMEZONE
BEGIN:VEVENT
UID:5be714964d840fa69d1fa3d829ca7589
CATEGORIES:Kongresse
CREATED:20230609T083643
SUMMARY:12. Herner Ultraschallworkshop
LOCATION:Kongresszentrum der St. Elisabeth Gruppe am St. Anna Hospital Herne 
DESCRIPTION;ENCODING=QUOTED-PRINTABLE:\n\nLiebe Kolleginnen und Kollegen,\n\n\ndie Anwendung des Ultraschalls ist
  sowohl in der zentralen Notaufnahme als auch in der Anästhesiologie und In
 tensivmedizin - insbesondere durch die Einführung mobiler Ultraschallgeräte
  – integraler Bestandteil der Notfalldiagnostik und somit obligater Bestand
 teil bei der Durchführung sowohl von Gefäßpunktionen als auch bei Regionala
 nästhesieverfahren.\n\n\nWir wollen Ihnen mit diesem Workshop die zahlreich
 en Einsatzgebiete des Ultraschalls vorstellen und Sie animieren, dieses Ver
 fahren in Ihrer täglichen Praxis vielfältig einzusetzen. Der Workshop orien
 tiert sich an dem Kurskonzept der Deutschen Gesellschaft für Anästhesiologi
 e &amp; Intensivmedizin und ist entsprechend zertifiziert.\n\n\nIm rund sec
 hsstündigen e-Learning erarbeiten wir Grundlagen des Ultraschalls sowie des
 sen Anwendungen. In der Präsenzphase werden Sie unter Anleitung erfahrener 
 AFS-zertifizierter Kolleginnen und Kollegen in Kleingruppen an Probanden un
 d am Phantom Ihre praktischen Fertigkeiten trainieren. Hier kommen auch hoc
 hmoderne Ultraschallsimulatoren zum Einsatz, an denen Sie Ihre sonographisc
 hen Fähigkeiten unter Beweis stellen sowie ultraschallgestützte Blockadetec
 hniken, Nadelführungen und Gefäßpunktionen praktisch üben können. Das Quiz 
 mit Preisverleihung am zweiten Tag ist traditionell der Höhepunkt der Veran
 staltung.\n\n\nWir freuen uns auf Ihre Teilnahme.\n\n\nProf. Dr. Ulrich Fre
 y                                                          \n\n\n \n\n\n \n
DTSTAMP:20260424T085750Z
DTSTART;TZID=Europe/Berlin;VALUE=DATE:20230922
DTEND;TZID=Europe/Berlin;VALUE=DATE:20230924
SEQUENCE:0
TRANSP:OPAQUE
END:VEVENT
END:VCALENDAR