BEGIN:VCALENDAR
VERSION:2.0
PRODID:-//jEvents 2.0 for Joomla//EN
CALSCALE:GREGORIAN
METHOD:PUBLISH
BEGIN:VTIMEZONE
TZID:Europe/Berlin
BEGIN:STANDARD
DTSTART:20221106T000000
RDATE:20230326T030000
TZOFFSETFROM:+0200
TZOFFSETTO:+0100
TZNAME:Europe/Berlin CET
END:STANDARD
BEGIN:STANDARD
DTSTART:20231029T020000
RDATE:20240331T030000
TZOFFSETFROM:+0200
TZOFFSETTO:+0100
TZNAME:Europe/Berlin CET
END:STANDARD
BEGIN:STANDARD
DTSTART:20241027T020000
RDATE:20250330T030000
TZOFFSETFROM:+0200
TZOFFSETTO:+0100
TZNAME:Europe/Berlin CET
END:STANDARD
BEGIN:STANDARD
DTSTART:20251026T020000
RDATE:20260329T030000
TZOFFSETFROM:+0200
TZOFFSETTO:+0100
TZNAME:Europe/Berlin CET
END:STANDARD
BEGIN:STANDARD
DTSTART:20261025T020000
RDATE:20270328T030000
TZOFFSETFROM:+0200
TZOFFSETTO:+0100
TZNAME:Europe/Berlin CET
END:STANDARD
BEGIN:STANDARD
DTSTART:20271031T020000
RDATE:20280326T030000
TZOFFSETFROM:+0200
TZOFFSETTO:+0100
TZNAME:Europe/Berlin CET
END:STANDARD
BEGIN:DAYLIGHT
DTSTART:20230326T030000
RDATE:20231029T020000
TZOFFSETFROM:+0100
TZOFFSETTO:+0200
TZNAME:Europe/Berlin CEST
END:DAYLIGHT
BEGIN:DAYLIGHT
DTSTART:20240331T030000
RDATE:20241027T020000
TZOFFSETFROM:+0100
TZOFFSETTO:+0200
TZNAME:Europe/Berlin CEST
END:DAYLIGHT
BEGIN:DAYLIGHT
DTSTART:20250330T030000
RDATE:20251026T020000
TZOFFSETFROM:+0100
TZOFFSETTO:+0200
TZNAME:Europe/Berlin CEST
END:DAYLIGHT
BEGIN:DAYLIGHT
DTSTART:20260329T030000
RDATE:20261025T020000
TZOFFSETFROM:+0100
TZOFFSETTO:+0200
TZNAME:Europe/Berlin CEST
END:DAYLIGHT
BEGIN:DAYLIGHT
DTSTART:20270328T030000
RDATE:20271031T020000
TZOFFSETFROM:+0100
TZOFFSETTO:+0200
TZNAME:Europe/Berlin CEST
END:DAYLIGHT
END:VTIMEZONE
BEGIN:VEVENT
UID:f6c346e990df9273fcec0f83f01f3786
CATEGORIES:Kongresse
CREATED:20230616T101729
SUMMARY:2. Fürther Anästhesie & Intensivmedizin Repetitorium (FAIR)
LOCATION:Fürther Stadthalle
DESCRIPTION;ENCODING=QUOTED-PRINTABLE:\n\nSehr geehrte Kolleg:innen,\n\n\nnach dem positiven Feedback des 1. Fürt
 her Anästhesie &amp; Intensivmedizin Repetitorium (FAIR) ist es uns eine gr
 oße Freude Sie zum 2. FAIR vom 7.-9.11.2023 in die Satdthalle Fürth einzula
 den.\n\n\nDas 3-tägige Update mit Vorträgen und einer ganzen Fülle an praxi
 snahen Workshops soll ein Forum für Kolleg:innen sein, die entweder im Rahm
 en der Facharztweiterbildung auf der Intensivstation arbeiten oder ihre Zus
 atzbezeichnung "Intensivmedizin" anstreben. In den Vorträgen und Workshops 
 soll nicht nur theoretisches Wissen vermittelt werden, sondern auch die pra
 ktische Umsetzung in den klinischen Alttag diskutiert werden.\n\n\nDie Tei,
 nehmer:innen sollen einen weitreichenden Überblick über die aktuelle Entwic
 klung der interdisziplinären Intensivmedizin erhalten.\n\n\nWir würden uns 
 sehr freuen, Sie (wieder) begrüßen zu dürfen!\n\n\nChristoph Raspé\n\n\n \n
DTSTAMP:20260421T234131Z
DTSTART;TZID=Europe/Berlin;VALUE=DATE:20231107
DTEND;TZID=Europe/Berlin;VALUE=DATE:20231110
SEQUENCE:0
TRANSP:OPAQUE
END:VEVENT
END:VCALENDAR